BEGIN:VCALENDAR
VERSION:2.0
PRODID:-// - ECPv6.15.20//NONSGML v1.0//EN
CALSCALE:GREGORIAN
METHOD:PUBLISH
X-ORIGINAL-URL:https://humaneloudoun.org
X-WR-CALDESC:Events for 
REFRESH-INTERVAL;VALUE=DURATION:PT1H
X-Robots-Tag:noindex
X-PUBLISHED-TTL:PT1H
BEGIN:VTIMEZONE
TZID:America/New_York
BEGIN:DAYLIGHT
TZOFFSETFROM:-0500
TZOFFSETTO:-0400
TZNAME:EDT
DTSTART:20230312T070000
END:DAYLIGHT
BEGIN:STANDARD
TZOFFSETFROM:-0400
TZOFFSETTO:-0500
TZNAME:EST
DTSTART:20231105T060000
END:STANDARD
BEGIN:DAYLIGHT
TZOFFSETFROM:-0500
TZOFFSETTO:-0400
TZNAME:EDT
DTSTART:20240310T070000
END:DAYLIGHT
BEGIN:STANDARD
TZOFFSETFROM:-0400
TZOFFSETTO:-0500
TZNAME:EST
DTSTART:20241103T060000
END:STANDARD
BEGIN:DAYLIGHT
TZOFFSETFROM:-0500
TZOFFSETTO:-0400
TZNAME:EDT
DTSTART:20250309T070000
END:DAYLIGHT
BEGIN:STANDARD
TZOFFSETFROM:-0400
TZOFFSETTO:-0500
TZNAME:EST
DTSTART:20251102T060000
END:STANDARD
END:VTIMEZONE
BEGIN:VEVENT
DTSTART;TZID=America/New_York:20240427T130000
DTEND;TZID=America/New_York:20240427T150000
DTSTAMP:20260423T180637
CREATED:20240411T122706Z
LAST-MODIFIED:20240426T151627Z
UID:10000406-1714222800-1714230000@humaneloudoun.org
SUMMARY:Pet Palooza PAW-ty
DESCRIPTION:Come meet adoptable animals from HSLC and learn more about helping at-risk animals in our community. Open to pet-friendly Waltonwood residents and the public! When you turn into the property\, head to your right. We’ll be set up under the cover of a carport. \nLight snacks will be available for humans and pets alike! \n  \n 
URL:https://humaneloudoun.org/events/pet-palooza-paw-ty/
LOCATION:Waltonwood Ashburn\, 44141 Russell Branch Parkway\, Ashburn\, VA\, 20147
CATEGORIES:Community Event
ATTACH;FMTTYPE=application/pdf:https://humaneloudoun.org/wp-content/uploads/2024/04/AS_PetFlyer3_0424.pdf
END:VEVENT
END:VCALENDAR