BEGIN:VCALENDAR
VERSION:2.0
PRODID:-// - ECPv6.15.20//NONSGML v1.0//EN
CALSCALE:GREGORIAN
METHOD:PUBLISH
X-ORIGINAL-URL:https://humaneloudoun.org
X-WR-CALDESC:Events for 
REFRESH-INTERVAL;VALUE=DURATION:PT1H
X-Robots-Tag:noindex
X-PUBLISHED-TTL:PT1H
BEGIN:VTIMEZONE
TZID:America/New_York
BEGIN:DAYLIGHT
TZOFFSETFROM:-0500
TZOFFSETTO:-0400
TZNAME:EDT
DTSTART:20230312T070000
END:DAYLIGHT
BEGIN:STANDARD
TZOFFSETFROM:-0400
TZOFFSETTO:-0500
TZNAME:EST
DTSTART:20231105T060000
END:STANDARD
BEGIN:DAYLIGHT
TZOFFSETFROM:-0500
TZOFFSETTO:-0400
TZNAME:EDT
DTSTART:20240310T070000
END:DAYLIGHT
BEGIN:STANDARD
TZOFFSETFROM:-0400
TZOFFSETTO:-0500
TZNAME:EST
DTSTART:20241103T060000
END:STANDARD
BEGIN:DAYLIGHT
TZOFFSETFROM:-0500
TZOFFSETTO:-0400
TZNAME:EDT
DTSTART:20250309T070000
END:DAYLIGHT
BEGIN:STANDARD
TZOFFSETFROM:-0400
TZOFFSETTO:-0500
TZNAME:EST
DTSTART:20251102T060000
END:STANDARD
END:VTIMEZONE
BEGIN:VEVENT
DTSTART;TZID=America/New_York:20240907T110000
DTEND;TZID=America/New_York:20240907T140000
DTSTAMP:20260422T213233
CREATED:20240830T163317Z
LAST-MODIFIED:20240830T163317Z
UID:10000571-1725706800-1725717600@humaneloudoun.org
SUMMARY:Clear the Shelters Adoption Event - Multiple Rescues
DESCRIPTION:Join Friends of Homeless Animals (FOHA)\, Middleburg Humane Foundation\, Humane Society of Loudoun County\, and Homeward Trails at an amazing dog and cat adoption event! We are celebrating the culmination of the 10th Annual Clear the Shelters campaign from NBCUniversal. This event will bring multiple rescues together as we try to clear our shelters and foster homes and find all of our amazing dogs and cats their forever homes.\n\nPlease bring a donation of adult dog and cat cans or bag food for the Loudoun Pet Pantry.\n\nAdoption fees will be waived for all adult HSLC animals. Kittens will be BOGO through September 10th.\n\nSnacks and drinks will be available for purchase. Come join the fun!\n\nEvent sponsored by Apple Federal Credit Union.
URL:https://humaneloudoun.org/events/clear-the-shelters-adoption-event-multiple-rescues/
LOCATION:Segra Field\, 42095 Loudoun United Drive\, Leesubrg\, 20175
CATEGORIES:Adoptions
ATTACH;FMTTYPE=image/png:https://humaneloudoun.org/wp-content/uploads/2024/08/CleartheSheltersFacebookEvent.png
GEO:39.0690189;-77.5455456
X-APPLE-STRUCTURED-LOCATION;VALUE=URI;X-ADDRESS=Segra Field 42095 Loudoun United Drive Leesubrg 20175;X-APPLE-RADIUS=500;X-TITLE=42095 Loudoun United Drive:geo:-77.5455456,39.0690189
END:VEVENT
END:VCALENDAR