BEGIN:VCALENDAR
VERSION:2.0
PRODID:-// - ECPv6.15.20//NONSGML v1.0//EN
CALSCALE:GREGORIAN
METHOD:PUBLISH
X-ORIGINAL-URL:https://humaneloudoun.org
X-WR-CALDESC:Events for 
REFRESH-INTERVAL;VALUE=DURATION:PT1H
X-Robots-Tag:noindex
X-PUBLISHED-TTL:PT1H
BEGIN:VTIMEZONE
TZID:America/New_York
BEGIN:DAYLIGHT
TZOFFSETFROM:-0500
TZOFFSETTO:-0400
TZNAME:EDT
DTSTART:20220313T070000
END:DAYLIGHT
BEGIN:STANDARD
TZOFFSETFROM:-0400
TZOFFSETTO:-0500
TZNAME:EST
DTSTART:20221106T060000
END:STANDARD
BEGIN:DAYLIGHT
TZOFFSETFROM:-0500
TZOFFSETTO:-0400
TZNAME:EDT
DTSTART:20230312T070000
END:DAYLIGHT
BEGIN:STANDARD
TZOFFSETFROM:-0400
TZOFFSETTO:-0500
TZNAME:EST
DTSTART:20231105T060000
END:STANDARD
BEGIN:DAYLIGHT
TZOFFSETFROM:-0500
TZOFFSETTO:-0400
TZNAME:EDT
DTSTART:20240310T070000
END:DAYLIGHT
BEGIN:STANDARD
TZOFFSETFROM:-0400
TZOFFSETTO:-0500
TZNAME:EST
DTSTART:20241103T060000
END:STANDARD
BEGIN:DAYLIGHT
TZOFFSETFROM:-0500
TZOFFSETTO:-0400
TZNAME:EDT
DTSTART:20250309T070000
END:DAYLIGHT
BEGIN:STANDARD
TZOFFSETFROM:-0400
TZOFFSETTO:-0500
TZNAME:EST
DTSTART:20251102T060000
END:STANDARD
BEGIN:DAYLIGHT
TZOFFSETFROM:-0500
TZOFFSETTO:-0400
TZNAME:EDT
DTSTART:20260308T070000
END:DAYLIGHT
BEGIN:STANDARD
TZOFFSETFROM:-0400
TZOFFSETTO:-0500
TZNAME:EST
DTSTART:20261101T060000
END:STANDARD
END:VTIMEZONE
BEGIN:VEVENT
DTSTART;TZID=America/New_York:20250713T130000
DTEND;TZID=America/New_York:20250713T150000
DTSTAMP:20260422T182554
CREATED:20250621T224134Z
LAST-MODIFIED:20250626T194232Z
UID:10000685-1752411600-1752418800@humaneloudoun.org
SUMMARY:Cat Adoption Event
DESCRIPTION:Looking for your next furry family member? We have many cats and kitties hoping to find their fur-ever homes!  Come meet them at the PetSmart in Dulles Landing from 1:00pm to 3:00pm on July 13. For a sneak peek of our adoptable animals\, please visit the Humane Society of Loudoun County website! \n\n\n\nIf a particular fur-baby (or two) catches your eye\, complete an application today to expedite the application process.
URL:https://humaneloudoun.org/events/cat-adoption-event-7/
LOCATION:PetSmart Dulles Landing\, 24570 Dulles Landing Dr\, Unit 140\, Dulles\, 20166\, United States
CATEGORIES:Adoptions
ATTACH;FMTTYPE=image/webp:https://humaneloudoun.org/wp-content/uploads/2025/06/Copy-of-Copy-of-Copy-of-Copy-of-Copy-of-Copy-of-Copy-of-Copy-of-Copy-of-Copy-of-Adoption-EVENT.webp
END:VEVENT
BEGIN:VEVENT
DTSTART;TZID=America/New_York:20250518T130000
DTEND;TZID=America/New_York:20250518T150000
DTSTAMP:20260422T182554
CREATED:20250505T124345Z
LAST-MODIFIED:20250505T124616Z
UID:10000681-1747573200-1747580400@humaneloudoun.org
SUMMARY:HSLC Adoption Event - Dulles Landing
DESCRIPTION:Looking for your next furry family member? We have many cats and kitties hoping to find their fur-ever homes!  Come meet them at the PetSmart in Dulles Landing from 1:00pm to 3:00pm on May 18. For a sneak peek of our adoptable animals\, please visit the Humane Society of Loudoun County website! \n\n\n\nIf a particular fur-baby (or two) catches your eye\, complete an application today to expedite the application process.
URL:https://humaneloudoun.org/events/hslc-adoption-event-dulles-landing/
LOCATION:PetSmart Dulles Landing\, 24570 Dulles Landing Dr\, Unit 140\, Dulles\, 20166\, United States
CATEGORIES:Adoptions
ATTACH;FMTTYPE=image/webp:https://humaneloudoun.org/wp-content/uploads/2025/05/Copy-of-Copy-of-Copy-of-Copy-of-Copy-of-Copy-of-Copy-of-Copy-of-Copy-of-Adoption-EVENT.webp
END:VEVENT
BEGIN:VEVENT
DTSTART;TZID=America/New_York:20250323T123000
DTEND;TZID=America/New_York:20250323T143000
DTSTAMP:20260422T182554
CREATED:20250307T214816Z
LAST-MODIFIED:20250310T190409Z
UID:10000653-1742733000-1742740200@humaneloudoun.org
SUMMARY:HSLC Adoption Event - Dulles Landing
DESCRIPTION:We have many cats and kitties hoping to find their fur-ever families!  Come meet them at the PetSmart in at Dulles Landing from 12:30pm to 2:30pm on Sunday\, March 23. For a sneak peek of our adoptable animals\, please visit the Humane Society of Loudoun County website! \nIf a particular fur-baby (or two) catches your eye\, complete an application today to expedite the application process.
URL:https://humaneloudoun.org/events/hslc-adoption-event-leesburg/
LOCATION:PetSmart Dulles Landing\, 24570 Dulles Landing Dr\, Unit 140\, Dulles\, 20166\, United States
CATEGORIES:Adoptions
ATTACH;FMTTYPE=image/png:https://humaneloudoun.org/wp-content/uploads/2025/03/Dulles.png
END:VEVENT
BEGIN:VEVENT
DTSTART;TZID=America/New_York:20240505T130000
DTEND;TZID=America/New_York:20240505T150000
DTSTAMP:20260422T182554
CREATED:20240424T190554Z
LAST-MODIFIED:20240424T190554Z
UID:10000496-1714914000-1714921200@humaneloudoun.org
SUMMARY:Adoption Event
DESCRIPTION:Come meet our adoptable animals live and in-purr-son at HSLC’s next adoption event! We’ll be at the Dulles Landing PetSmart from 1pm to 3pm on Sunday\, May 5. For a sneak peek of our adoptable animals\, please visit the Humane Society of Loudoun County website! \nIf a particular fur-baby (or two) catches your eye\, complete an application today to expedite the application process. \n 
URL:https://humaneloudoun.org/events/adoption-event-4/
LOCATION:PetSmart Dulles Landing\, 24570 Dulles Landing Dr\, Unit 140\, Dulles\, 20166\, United States
CATEGORIES:Adoptions
ATTACH;FMTTYPE=image/png:https://humaneloudoun.org/wp-content/uploads/2024/04/Copy-of-Copy-of-Copy-of-Copy-of-Copy-of-Copy-of-Copy-of-Adoption-EVENT.png
END:VEVENT
BEGIN:VEVENT
DTSTART;TZID=America/New_York:20240324T130000
DTEND;TZID=America/New_York:20240324T150000
DTSTAMP:20260422T182554
CREATED:20240223T012530Z
LAST-MODIFIED:20240223T012530Z
UID:10000401-1711285200-1711292400@humaneloudoun.org
SUMMARY:Adoption Event
DESCRIPTION:Come meet our adoptable animals live and in-purr-son at HSLC’s next adoption event! We’ll be at the Dulles Landing PetSmart from 1pm to 3pm on Sunday\, March 24. For a sneak peek of our adoptable animals\, please visit the Humane Society of Loudoun County website! \nIf a particular fur-baby (or two) catches your eye\, complete an application today to expedite the application process. \n 
URL:https://humaneloudoun.org/events/adoption-event-3/
LOCATION:PetSmart Dulles Landing\, 24570 Dulles Landing Dr\, Unit 140\, Dulles\, 20166\, United States
CATEGORIES:Adoptions
ATTACH;FMTTYPE=image/png:https://humaneloudoun.org/wp-content/uploads/2024/02/Copy-of-Copy-of-Copy-of-Copy-of-Copy-of-Copy-of-Copy-of-Adoption-EVENT-1.png
END:VEVENT
BEGIN:VEVENT
DTSTART;TZID=America/New_York:20240218T130000
DTEND;TZID=America/New_York:20240218T150000
DTSTAMP:20260422T182554
CREATED:20240129T193736Z
LAST-MODIFIED:20240129T193736Z
UID:10000400-1708261200-1708268400@humaneloudoun.org
SUMMARY:Adoption Event
DESCRIPTION:Come meet our adoptable animals live and in-purr-son at HSLC’s next adoption event! We’ll be at the Dulles Landing PetSmart from 1pm to 3pm on Sunday\, February 18th. For a sneak peek of our adoptable animals\, please visit the Humane Society of Loudoun County website! \nIf a particular fur-baby (or two) catches your eye\, complete an application today to expedite the application process. \n 
URL:https://humaneloudoun.org/events/adoption-event-2/
LOCATION:PetSmart Dulles Landing\, 24570 Dulles Landing Dr\, Unit 140\, Dulles\, 20166\, United States
CATEGORIES:Adoptions
ATTACH;FMTTYPE=image/png:https://humaneloudoun.org/wp-content/uploads/2024/01/Copy-of-Copy-of-Copy-of-Copy-of-Copy-of-Copy-of-Adoption-EVENT.png
END:VEVENT
BEGIN:VEVENT
DTSTART;TZID=America/New_York:20240114T130000
DTEND;TZID=America/New_York:20240114T150000
DTSTAMP:20260422T182554
CREATED:20231212T194417Z
LAST-MODIFIED:20231212T195015Z
UID:10000399-1705237200-1705244400@humaneloudoun.org
SUMMARY:Adoption Event
DESCRIPTION:Come meet our adoptable animals live and in-purr-son at HSLC’s next adoption event! We’ll be at the Dulles Landing PetSmart from 1pm to 3pm on Sunday\, January 14th. For a sneak peek of our adoptable animals\, please visit the Humane Society of Loudoun County website! \nIf a particular fur-baby (or two) catches your eye\, complete an application today to expedite the application process. \n 
URL:https://humaneloudoun.org/events/cat-adoption-event-6/
LOCATION:PetSmart Dulles Landing\, 24570 Dulles Landing Dr\, Unit 140\, Dulles\, 20166\, United States
CATEGORIES:Adoptions
ATTACH;FMTTYPE=image/png:https://humaneloudoun.org/wp-content/uploads/2023/12/Copy-of-Copy-of-Copy-of-Copy-of-Adoption-EVENT.png
END:VEVENT
BEGIN:VEVENT
DTSTART;TZID=America/New_York:20231126T130000
DTEND;TZID=America/New_York:20231126T160000
DTSTAMP:20260422T182554
CREATED:20231101T155553Z
LAST-MODIFIED:20231101T155553Z
UID:10000398-1701003600-1701014400@humaneloudoun.org
SUMMARY:Adoption Event
DESCRIPTION:Come meet the animals hoping to find a home for the holidays! Please visit the Humane Society of Loudoun County website to check out the current crew! \nIf a particular fur-baby catches your eye\, complete an application today to expedite the application process. \n 
URL:https://humaneloudoun.org/events/adoption-event/
LOCATION:PetSmart Dulles Landing\, 24570 Dulles Landing Dr\, Unit 140\, Dulles\, 20166\, United States
CATEGORIES:Adoptions
ATTACH;FMTTYPE=image/png:https://humaneloudoun.org/wp-content/uploads/2023/11/Copy-of-Copy-of-Copy-of-Copy-of-Adoption-EVENT.png
END:VEVENT
BEGIN:VEVENT
DTSTART;TZID=America/New_York:20231022T130000
DTEND;TZID=America/New_York:20231022T160000
DTSTAMP:20260422T182554
CREATED:20231011T115056Z
LAST-MODIFIED:20231011T115056Z
UID:10000395-1697979600-1697990400@humaneloudoun.org
SUMMARY:Cat Adoption Event
DESCRIPTION:Come meet our adoptable cats and kitties live and in-purr-son! For a sneak peek\, please visit the Humane Society of Loudoun County website to check out the current clowder! \nIf a particular feline (or two) catches your eye\, complete an application today to expedite the application process. \n 
URL:https://humaneloudoun.org/events/cat-adoption-event-5/
LOCATION:PetSmart Dulles Landing\, 24570 Dulles Landing Dr\, Unit 140\, Dulles\, 20166\, United States
CATEGORIES:Adoptions
ATTACH;FMTTYPE=image/png:https://humaneloudoun.org/wp-content/uploads/2023/10/Copy-of-Copy-of-Copy-of-Copy-of-Copy-of-Adoption-EVENT.png
END:VEVENT
END:VCALENDAR