BEGIN:VCALENDAR
VERSION:2.0
PRODID:-// - ECPv6.15.20//NONSGML v1.0//EN
CALSCALE:GREGORIAN
METHOD:PUBLISH
X-ORIGINAL-URL:https://humaneloudoun.org
X-WR-CALDESC:Events for 
REFRESH-INTERVAL;VALUE=DURATION:PT1H
X-Robots-Tag:noindex
X-PUBLISHED-TTL:PT1H
BEGIN:VTIMEZONE
TZID:America/New_York
BEGIN:DAYLIGHT
TZOFFSETFROM:-0500
TZOFFSETTO:-0400
TZNAME:EDT
DTSTART:20230312T070000
END:DAYLIGHT
BEGIN:STANDARD
TZOFFSETFROM:-0400
TZOFFSETTO:-0500
TZNAME:EST
DTSTART:20231105T060000
END:STANDARD
BEGIN:DAYLIGHT
TZOFFSETFROM:-0500
TZOFFSETTO:-0400
TZNAME:EDT
DTSTART:20240310T070000
END:DAYLIGHT
BEGIN:STANDARD
TZOFFSETFROM:-0400
TZOFFSETTO:-0500
TZNAME:EST
DTSTART:20241103T060000
END:STANDARD
BEGIN:DAYLIGHT
TZOFFSETFROM:-0500
TZOFFSETTO:-0400
TZNAME:EDT
DTSTART:20250309T070000
END:DAYLIGHT
BEGIN:STANDARD
TZOFFSETFROM:-0400
TZOFFSETTO:-0500
TZNAME:EST
DTSTART:20251102T060000
END:STANDARD
BEGIN:DAYLIGHT
TZOFFSETFROM:-0500
TZOFFSETTO:-0400
TZNAME:EDT
DTSTART:20260308T070000
END:DAYLIGHT
BEGIN:STANDARD
TZOFFSETFROM:-0400
TZOFFSETTO:-0500
TZNAME:EST
DTSTART:20261101T060000
END:STANDARD
END:VTIMEZONE
BEGIN:VEVENT
DTSTART;TZID=America/New_York:20250412T130000
DTEND;TZID=America/New_York:20250412T150000
DTSTAMP:20260422T225803
CREATED:20250116T001426Z
LAST-MODIFIED:20250324T123229Z
UID:10000585-1744462800-1744470000@humaneloudoun.org
SUMMARY:HSLC Adoption Event - Sterling
DESCRIPTION:HSLC has many cats and kitties hoping to find their fur-ever families.  Come meet them at the Pet Supplies Plus in Sterling from 1pm to 3pm on Saturday\, April 12. For a sneak peek of our adoptable animals\, please visit the Humane Society of Loudoun County website! \nIf a particular fur-baby (or two) catches your eye\, complete a no-obligation application today to expedite the application process.
URL:https://humaneloudoun.org/events/hslc-adoption-event-sterling-4/
LOCATION:Pet Supplies Plus\, 21800 Towncenter Plz #21\, Sterling\, 20164\, United States
CATEGORIES:Adoptions
ATTACH;FMTTYPE=image/webp:https://humaneloudoun.org/wp-content/uploads/2025/01/Copy-of-Copy-of-Copy-of-Copy-of-Copy-of-Copy-of-Copy-of-Copy-of-Adoption-EVENT.webp
GEO:39.0617662;-77.4685838
X-APPLE-STRUCTURED-LOCATION;VALUE=URI;X-ADDRESS=Pet Supplies Plus 21800 Towncenter Plz #21 Sterling 20164 United States;X-APPLE-RADIUS=500;X-TITLE=21800 Towncenter Plz #21:geo:-77.4685838,39.0617662
END:VEVENT
BEGIN:VEVENT
DTSTART;TZID=America/New_York:20250222T130000
DTEND;TZID=America/New_York:20250222T150000
DTSTAMP:20260422T225803
CREATED:20250116T001720Z
LAST-MODIFIED:20250116T001730Z
UID:10000586-1740229200-1740236400@humaneloudoun.org
SUMMARY:HSLC Adoption Event - Sterling
DESCRIPTION:We have many cats and kitties hoping to find their fur-ever families!  Come meet them at the Pet Supplies Plus in Sterling from 1pm to 3pm on Saturday\, February 22. For a sneak peek of our adoptable animals\, please visit the Humane Society of Loudoun County website! \nIf a particular fur-baby (or two) catches your eye\, complete an application today to expedite the application process.
URL:https://humaneloudoun.org/events/hslc-adoption-event-sterling-5/
LOCATION:Pet Supplies Plus\, 21800 Towncenter Plz #21\, Sterling\, 20164\, United States
CATEGORIES:Adoptions
ATTACH;FMTTYPE=image/png:https://humaneloudoun.org/wp-content/uploads/2025/01/Copy-of-Copy-of-Copy-of-Copy-of-Copy-of-Copy-of-Copy-of-Adoption-EVENT.png
GEO:39.0617662;-77.4685838
X-APPLE-STRUCTURED-LOCATION;VALUE=URI;X-ADDRESS=Pet Supplies Plus 21800 Towncenter Plz #21 Sterling 20164 United States;X-APPLE-RADIUS=500;X-TITLE=21800 Towncenter Plz #21:geo:-77.4685838,39.0617662
END:VEVENT
BEGIN:VEVENT
DTSTART;TZID=America/New_York:20241207T130000
DTEND;TZID=America/New_York:20241207T150000
DTSTAMP:20260422T225803
CREATED:20241117T201410Z
LAST-MODIFIED:20241117T201858Z
UID:10000582-1733576400-1733583600@humaneloudoun.org
SUMMARY:HSLC Adoption Event - Sterling
DESCRIPTION:We have many cats and kitties hoping to find their fur-ever families before the new year.  Come meet them at the Pet Supplies Plus in Sterling from 1pm to 3pm on Saturday\, December 7. For a sneak peek of our adoptable animals\, please visit the Humane Society of Loudoun County website! \nIf a particular fur-baby (or two) catches your eye\, complete an application today to expedite the application process.
URL:https://humaneloudoun.org/events/hslc-adoption-event-sterling-3/
LOCATION:Pet Supplies Plus\, 21800 Towncenter Plz #21\, Sterling\, 20164\, United States
CATEGORIES:Adoptions
ATTACH;FMTTYPE=image/png:https://humaneloudoun.org/wp-content/uploads/2024/11/Dec-7-24-Adoption-e1731874729421.png
GEO:39.0617662;-77.4685838
X-APPLE-STRUCTURED-LOCATION;VALUE=URI;X-ADDRESS=Pet Supplies Plus 21800 Towncenter Plz #21 Sterling 20164 United States;X-APPLE-RADIUS=500;X-TITLE=21800 Towncenter Plz #21:geo:-77.4685838,39.0617662
END:VEVENT
BEGIN:VEVENT
DTSTART;TZID=America/New_York:20240824T130000
DTEND;TZID=America/New_York:20240824T150000
DTSTAMP:20260422T225803
CREATED:20240802T164038Z
LAST-MODIFIED:20240802T164231Z
UID:10000568-1724504400-1724511600@humaneloudoun.org
SUMMARY:HSLC Adoption Event - Sterling
DESCRIPTION:“Meow” is the best time of year to adopt! Through September 10\, HSLC is waiving adoption fees* on cats 8+ months and offering BOGO for kittens! We’ll be at the Pet Supplies Plus in Sterling from 1pm to 3pm on Saturday\, August 24. For a sneak peek of our adoptable animals\, please visit the Humane Society of Loudoun County website! \nIf a particular fur-baby (or two) catches your eye\, complete an application today to expedite the application process. \n*Until sponsorship funds run out.
URL:https://humaneloudoun.org/events/hslc-adoption-event-sterling-2/
LOCATION:Pet Supplies Plus\, 21800 Towncenter Plz #21\, Sterling\, 20164\, United States
CATEGORIES:Adoptions
ATTACH;FMTTYPE=image/png:https://humaneloudoun.org/wp-content/uploads/2024/08/Copy-of-Copy-of-Copy-of-Copy-of-Copy-of-Copy-of-Copy-of-Copy-of-Adoption-EVENT.png
GEO:39.0617662;-77.4685838
X-APPLE-STRUCTURED-LOCATION;VALUE=URI;X-ADDRESS=Pet Supplies Plus 21800 Towncenter Plz #21 Sterling 20164 United States;X-APPLE-RADIUS=500;X-TITLE=21800 Towncenter Plz #21:geo:-77.4685838,39.0617662
END:VEVENT
BEGIN:VEVENT
DTSTART;TZID=America/New_York:20240622T130000
DTEND;TZID=America/New_York:20240622T150000
DTSTAMP:20260422T225803
CREATED:20240614T200213Z
LAST-MODIFIED:20240614T201307Z
UID:10000502-1719061200-1719068400@humaneloudoun.org
SUMMARY:Summer PAW-rty - Sterling
DESCRIPTION:Splash into savings at Pet Supplies Plus’ SUMMER PAW-RTY\, sponsored by Primal! Beat the heat and bring your furry friend for a pool party\, samples\, activities\, and a free petwash to keep it cool! \nPLUS! HSLC will be bringing adoptable animals looking for their furr-ever homes from 1 to 3pm. For a sneak peek of our available cats and dogs\, please visit the Humane Society of Loudoun County website! If a particular fur-baby (or two) catches your eye\, complete an application today to expedite the application process.
URL:https://humaneloudoun.org/events/summer-paw-rty-sterling/
LOCATION:Pet Supplies Plus\, 21800 Towncenter Plz #21\, Sterling\, 20164\, United States
CATEGORIES:Adoptions
ATTACH;FMTTYPE=image/png:https://humaneloudoun.org/wp-content/uploads/2024/06/Summer-Party.png
GEO:39.0617662;-77.4685838
X-APPLE-STRUCTURED-LOCATION;VALUE=URI;X-ADDRESS=Pet Supplies Plus 21800 Towncenter Plz #21 Sterling 20164 United States;X-APPLE-RADIUS=500;X-TITLE=21800 Towncenter Plz #21:geo:-77.4685838,39.0617662
END:VEVENT
BEGIN:VEVENT
DTSTART;TZID=America/New_York:20240608T130000
DTEND;TZID=America/New_York:20240608T150000
DTSTAMP:20260422T225803
CREATED:20240517T125745Z
LAST-MODIFIED:20240517T130147Z
UID:10000497-1717851600-1717858800@humaneloudoun.org
SUMMARY:HSLC Adoption Event - Sterling
DESCRIPTION:Come meet our adoptable animals live and in-purr-son at HSLC’s next adoption event! We’ll be at the new Pet Supplies Plus from 1pm to 3pm on Saturday\, June 8. For a sneak peek of our adoptable animals\, please visit the Humane Society of Loudoun County website! \nIf a particular fur-baby (or two) catches your eye\, complete an application today to expedite the application process.
URL:https://humaneloudoun.org/events/hslc-adoption-event-sterling/
LOCATION:Pet Supplies Plus\, 21800 Towncenter Plz #21\, Sterling\, 20164\, United States
CATEGORIES:Adoptions
ATTACH;FMTTYPE=image/png:https://humaneloudoun.org/wp-content/uploads/2024/05/PSP.png
GEO:39.0617662;-77.4685838
X-APPLE-STRUCTURED-LOCATION;VALUE=URI;X-ADDRESS=Pet Supplies Plus 21800 Towncenter Plz #21 Sterling 20164 United States;X-APPLE-RADIUS=500;X-TITLE=21800 Towncenter Plz #21:geo:-77.4685838,39.0617662
END:VEVENT
END:VCALENDAR