BEGIN:VCALENDAR
VERSION:2.0
PRODID:-// - ECPv6.15.20//NONSGML v1.0//EN
CALSCALE:GREGORIAN
METHOD:PUBLISH
X-ORIGINAL-URL:https://humaneloudoun.org
X-WR-CALDESC:Events for 
REFRESH-INTERVAL;VALUE=DURATION:PT1H
X-Robots-Tag:noindex
X-PUBLISHED-TTL:PT1H
BEGIN:VTIMEZONE
TZID:America/New_York
BEGIN:DAYLIGHT
TZOFFSETFROM:-0500
TZOFFSETTO:-0400
TZNAME:EDT
DTSTART:20220313T070000
END:DAYLIGHT
BEGIN:STANDARD
TZOFFSETFROM:-0400
TZOFFSETTO:-0500
TZNAME:EST
DTSTART:20221106T060000
END:STANDARD
BEGIN:DAYLIGHT
TZOFFSETFROM:-0500
TZOFFSETTO:-0400
TZNAME:EDT
DTSTART:20230312T070000
END:DAYLIGHT
BEGIN:STANDARD
TZOFFSETFROM:-0400
TZOFFSETTO:-0500
TZNAME:EST
DTSTART:20231105T060000
END:STANDARD
BEGIN:DAYLIGHT
TZOFFSETFROM:-0500
TZOFFSETTO:-0400
TZNAME:EDT
DTSTART:20240310T070000
END:DAYLIGHT
BEGIN:STANDARD
TZOFFSETFROM:-0400
TZOFFSETTO:-0500
TZNAME:EST
DTSTART:20241103T060000
END:STANDARD
BEGIN:DAYLIGHT
TZOFFSETFROM:-0500
TZOFFSETTO:-0400
TZNAME:EDT
DTSTART:20250309T070000
END:DAYLIGHT
BEGIN:STANDARD
TZOFFSETFROM:-0400
TZOFFSETTO:-0500
TZNAME:EST
DTSTART:20251102T060000
END:STANDARD
END:VTIMEZONE
BEGIN:VEVENT
DTSTART;TZID=America/New_York:20241026T120000
DTEND;TZID=America/New_York:20241026T150000
DTSTAMP:20260422T210812
CREATED:20240807T122155Z
LAST-MODIFIED:20240807T122314Z
UID:10000569-1729944000-1729954800@humaneloudoun.org
SUMMARY:HSLC at Halloween Bark Bash
DESCRIPTION:Get ready for the 6th year of One Loudoun’s signature pet event event! The Halloween Bark Bash at One Loudoun is an outdoor\, Halloween-themed festival\, bringing together local pet-focused businesses\, animal rescue groups\, and pet owners for an exciting day of trick or treating\, adoptable dogs\, music\, costumes\, and animals galore. We will be collecting donations to help the families of pets and animals in need. Please bring your unexpired adult dog and cat food donations to our tent at the Bark Bash event. Thank you! \n\nDog Costume Contest\nTrick-or-Treat Trail\nVendors\nRescues\nDog Caricatures\nPhoto Booth\nKids Activities and More!\n\nThe Humane Society of Loudoun County is honored to be selected again as this year’s Kite Cares partner!
URL:https://humaneloudoun.org/events/hslc-at-halloween-bark-bash-2/
LOCATION:One Loudoun\, 20626 Easthampton Plaza\, Ashburn\, VA\, 20147\, United States
CATEGORIES:Community Event,Public Awareness
ATTACH;FMTTYPE=image/png:https://humaneloudoun.org/wp-content/uploads/2024/08/Standee-28x43.25_24-BarkBash-e1723033382885.png
GEO:39.0512745;-77.454363
X-APPLE-STRUCTURED-LOCATION;VALUE=URI;X-ADDRESS=One Loudoun 20626 Easthampton Plaza Ashburn VA 20147 United States;X-APPLE-RADIUS=500;X-TITLE=20626 Easthampton Plaza:geo:-77.454363,39.0512745
END:VEVENT
BEGIN:VEVENT
DTSTART;TZID=America/New_York:20231028T130000
DTEND;TZID=America/New_York:20231028T150000
DTSTAMP:20260422T210812
CREATED:20230804T144951Z
LAST-MODIFIED:20231009T205156Z
UID:10000392-1698498000-1698505200@humaneloudoun.org
SUMMARY:HSLC at Halloween Bark Bash
DESCRIPTION:Get ready for the 5th year of One Loudoun’s signature pet event event! The Halloween Bark Bash at One Loudoun is an outdoor\, Halloween-themed festival\, bringing together local pet-focused businesses\, animal rescue groups\, and pet owners for an exciting day of trick or treating\, adoptable dogs\, music\, costumes\, and animals galore. \nThe Humane Society of Loudoun County is honored to be selected again as this year’s Kite Cares partner!
URL:https://humaneloudoun.org/events/hslc-at-halloween-bark-bash/
LOCATION:One Loudoun\, 20626 Easthampton Plaza\, Ashburn\, VA\, 20147\, United States
CATEGORIES:Community Event,Public Awareness
ATTACH;FMTTYPE=image/webp:https://humaneloudoun.org/wp-content/uploads/2023/08/5ac935c5c87867f27adb6700688d9a37cafa8a7062b325dd0150ed7306650fe6-rimg-w467-h266-gmir.webp
GEO:39.0512745;-77.454363
X-APPLE-STRUCTURED-LOCATION;VALUE=URI;X-ADDRESS=One Loudoun 20626 Easthampton Plaza Ashburn VA 20147 United States;X-APPLE-RADIUS=500;X-TITLE=20626 Easthampton Plaza:geo:-77.454363,39.0512745
END:VEVENT
END:VCALENDAR