BEGIN:VCALENDAR
VERSION:2.0
PRODID:-// - ECPv6.15.20//NONSGML v1.0//EN
CALSCALE:GREGORIAN
METHOD:PUBLISH
X-ORIGINAL-URL:https://humaneloudoun.org
X-WR-CALDESC:Events for 
REFRESH-INTERVAL;VALUE=DURATION:PT1H
X-Robots-Tag:noindex
X-PUBLISHED-TTL:PT1H
BEGIN:VTIMEZONE
TZID:America/New_York
BEGIN:DAYLIGHT
TZOFFSETFROM:-0500
TZOFFSETTO:-0400
TZNAME:EDT
DTSTART:20220313T070000
END:DAYLIGHT
BEGIN:STANDARD
TZOFFSETFROM:-0400
TZOFFSETTO:-0500
TZNAME:EST
DTSTART:20221106T060000
END:STANDARD
BEGIN:DAYLIGHT
TZOFFSETFROM:-0500
TZOFFSETTO:-0400
TZNAME:EDT
DTSTART:20230312T070000
END:DAYLIGHT
BEGIN:STANDARD
TZOFFSETFROM:-0400
TZOFFSETTO:-0500
TZNAME:EST
DTSTART:20231105T060000
END:STANDARD
BEGIN:DAYLIGHT
TZOFFSETFROM:-0500
TZOFFSETTO:-0400
TZNAME:EDT
DTSTART:20240310T070000
END:DAYLIGHT
BEGIN:STANDARD
TZOFFSETFROM:-0400
TZOFFSETTO:-0500
TZNAME:EST
DTSTART:20241103T060000
END:STANDARD
BEGIN:DAYLIGHT
TZOFFSETFROM:-0500
TZOFFSETTO:-0400
TZNAME:EDT
DTSTART:20250309T070000
END:DAYLIGHT
BEGIN:STANDARD
TZOFFSETFROM:-0400
TZOFFSETTO:-0500
TZNAME:EST
DTSTART:20251102T060000
END:STANDARD
END:VTIMEZONE
BEGIN:VEVENT
DTSTART;TZID=America/New_York:20240908T100000
DTEND;TZID=America/New_York:20240908T160000
DTSTAMP:20260422T225942
CREATED:20240719T002712Z
LAST-MODIFIED:20240719T002913Z
UID:10000567-1725789600-1725811200@humaneloudoun.org
SUMMARY:HSLC at Loudoun Pet Expo
DESCRIPTION:Join the Humane Society of Loudoun County at this year’s Loudoun Pet Expo! Activities and parking are FREE!  The organizers are asking for attendees to bring canned/dry food or litter for a shelter or rescue which will be announced at event.\n\nWhere: Franklin Park\, 17501 Franklin Park Dr\, Purcellville\, VA 20132\nWhen: Sunday. September 8th from 10 am to 4 pm\nWhat: Vendors\, Dog Games\, Adoptions\, Activities for Children\, Food and more!
URL:https://humaneloudoun.org/events/hslc-at-loudoun-pet-expo-3/
LOCATION:Franklin Regional Park\, 17501 Franklin Park Dr\, Purcellville\, VA\, 20132\, United States
CATEGORIES:Community Event
ATTACH;FMTTYPE=image/png:https://humaneloudoun.org/wp-content/uploads/2024/07/unnamed-e1721348882357.png
GEO:39.1339795;-77.7430911
X-APPLE-STRUCTURED-LOCATION;VALUE=URI;X-ADDRESS=Franklin Regional Park 17501 Franklin Park Dr Purcellville VA 20132 United States;X-APPLE-RADIUS=500;X-TITLE=17501 Franklin Park Dr:geo:-77.7430911,39.1339795
END:VEVENT
BEGIN:VEVENT
DTSTART;TZID=America/New_York:20230910T100000
DTEND;TZID=America/New_York:20230910T160000
DTSTAMP:20260422T225943
CREATED:20220911T180000Z
LAST-MODIFIED:20230802T193046Z
UID:10000317-1694340000-1694361600@humaneloudoun.org
SUMMARY:HSLC at Loudoun Pet Expo
DESCRIPTION:Join the Humane Society of Loudoun County at this year’s Loudoun Pet Expo! Activities and parking are FREE!  The organizers are asking for attendees to bring canned/dry food or litter for a shelter or rescue which will be announced at event.\n\nWhere: Franklin Park\, 17501 Franklin Park Dr\, Purcellville\, VA 20132\nWhen: Sunday. September 10th from 10 am to 4 pm\nWhat: Vendors\, Dog Games\, Adoptions\, Activities for Children\,  Music and more!
URL:https://humaneloudoun.org/events/hslc-at-loudoun-pet-expo-2/
LOCATION:Franklin Regional Park\, 17501 Franklin Park Dr\, Purcellville\, VA\, 20132\, United States
CATEGORIES:Community Event
ATTACH;FMTTYPE=image/png:https://humaneloudoun.org/wp-content/uploads/2022/09/365083760_766616435463977_3413122431853915214_n.png
GEO:39.1339795;-77.7430911
X-APPLE-STRUCTURED-LOCATION;VALUE=URI;X-ADDRESS=Franklin Regional Park 17501 Franklin Park Dr Purcellville VA 20132 United States;X-APPLE-RADIUS=500;X-TITLE=17501 Franklin Park Dr:geo:-77.7430911,39.1339795
END:VEVENT
END:VCALENDAR