BEGIN:VCALENDAR
VERSION:2.0
PRODID:-// - ECPv6.15.20//NONSGML v1.0//EN
CALSCALE:GREGORIAN
METHOD:PUBLISH
X-ORIGINAL-URL:https://humaneloudoun.org
X-WR-CALDESC:Events for 
REFRESH-INTERVAL;VALUE=DURATION:PT1H
X-Robots-Tag:noindex
X-PUBLISHED-TTL:PT1H
BEGIN:VTIMEZONE
TZID:America/New_York
BEGIN:DAYLIGHT
TZOFFSETFROM:-0500
TZOFFSETTO:-0400
TZNAME:EDT
DTSTART:20220313T070000
END:DAYLIGHT
BEGIN:STANDARD
TZOFFSETFROM:-0400
TZOFFSETTO:-0500
TZNAME:EST
DTSTART:20221106T060000
END:STANDARD
BEGIN:DAYLIGHT
TZOFFSETFROM:-0500
TZOFFSETTO:-0400
TZNAME:EDT
DTSTART:20230312T070000
END:DAYLIGHT
BEGIN:STANDARD
TZOFFSETFROM:-0400
TZOFFSETTO:-0500
TZNAME:EST
DTSTART:20231105T060000
END:STANDARD
BEGIN:DAYLIGHT
TZOFFSETFROM:-0500
TZOFFSETTO:-0400
TZNAME:EDT
DTSTART:20240310T070000
END:DAYLIGHT
BEGIN:STANDARD
TZOFFSETFROM:-0400
TZOFFSETTO:-0500
TZNAME:EST
DTSTART:20241103T060000
END:STANDARD
END:VTIMEZONE
BEGIN:VEVENT
DTSTART;TZID=America/New_York:20230929T160000
DTEND;TZID=America/New_York:20230929T190000
DTSTAMP:20260422T183914
CREATED:20230221T153932Z
LAST-MODIFIED:20230221T153932Z
UID:10000345-1696003200-1696014000@humaneloudoun.org
SUMMARY:October One Vineyard Yappy Hour
DESCRIPTION:HSLC is excited to collaborate with October One Vineyard for a monthly Yappy Hour! To support our local animals\, please bring a pet food donation and you’ll be entered into a raffle for free tastings and glasses! You can also purchase raffle tickets. Your monetary donations help cover much-needed medical expenses for homeless and at-risk animals. This event will be 4-7 pm on the last Friday of every month at the October One Vineyard tasting shop in Downtown Leesburg. This event is free to the public\, so stop by and raise a glass. HSLC will be on hand to answer questions and let you know about available animals. Let’s “cheer” up our local area animals in need!
URL:https://humaneloudoun.org/events/october-one-vineyard-yappy-hour/2023-09-29/
LOCATION:October One Vineyard Wine Tasting Shop\, 7 Loudoun St SW\, Leesburg\, VA\, 20175\, United States
CATEGORIES:Community Event
ATTACH;FMTTYPE=image/jpeg:https://humaneloudoun.org/wp-content/uploads/2023/01/YH-Graphic.jpg
GEO:39.1143391;-77.5659272
X-APPLE-STRUCTURED-LOCATION;VALUE=URI;X-ADDRESS=October One Vineyard Wine Tasting Shop 7 Loudoun St SW Leesburg VA 20175 United States;X-APPLE-RADIUS=500;X-TITLE=7 Loudoun St SW:geo:-77.5659272,39.1143391
END:VEVENT
BEGIN:VEVENT
DTSTART;TZID=America/New_York:20230825T160000
DTEND;TZID=America/New_York:20230825T190000
DTSTAMP:20260422T183914
CREATED:20230221T153932Z
LAST-MODIFIED:20230221T153932Z
UID:10000344-1692979200-1692990000@humaneloudoun.org
SUMMARY:October One Vineyard Yappy Hour
DESCRIPTION:HSLC is excited to collaborate with October One Vineyard for a monthly Yappy Hour! To support our local animals\, please bring a pet food donation and you’ll be entered into a raffle for free tastings and glasses! You can also purchase raffle tickets. Your monetary donations help cover much-needed medical expenses for homeless and at-risk animals. This event will be 4-7 pm on the last Friday of every month at the October One Vineyard tasting shop in Downtown Leesburg. This event is free to the public\, so stop by and raise a glass. HSLC will be on hand to answer questions and let you know about available animals. Let’s “cheer” up our local area animals in need!
URL:https://humaneloudoun.org/events/october-one-vineyard-yappy-hour/2023-08-25/
LOCATION:October One Vineyard Wine Tasting Shop\, 7 Loudoun St SW\, Leesburg\, VA\, 20175\, United States
CATEGORIES:Community Event
ATTACH;FMTTYPE=image/jpeg:https://humaneloudoun.org/wp-content/uploads/2023/01/YH-Graphic.jpg
GEO:39.1143391;-77.5659272
X-APPLE-STRUCTURED-LOCATION;VALUE=URI;X-ADDRESS=October One Vineyard Wine Tasting Shop 7 Loudoun St SW Leesburg VA 20175 United States;X-APPLE-RADIUS=500;X-TITLE=7 Loudoun St SW:geo:-77.5659272,39.1143391
END:VEVENT
BEGIN:VEVENT
DTSTART;TZID=America/New_York:20230728T160000
DTEND;TZID=America/New_York:20230728T190000
DTSTAMP:20260422T183914
CREATED:20230221T153932Z
LAST-MODIFIED:20230221T153932Z
UID:10000343-1690560000-1690570800@humaneloudoun.org
SUMMARY:October One Vineyard Yappy Hour
DESCRIPTION:HSLC is excited to collaborate with October One Vineyard for a monthly Yappy Hour! To support our local animals\, please bring a pet food donation and you’ll be entered into a raffle for free tastings and glasses! You can also purchase raffle tickets. Your monetary donations help cover much-needed medical expenses for homeless and at-risk animals. This event will be 4-7 pm on the last Friday of every month at the October One Vineyard tasting shop in Downtown Leesburg. This event is free to the public\, so stop by and raise a glass. HSLC will be on hand to answer questions and let you know about available animals. Let’s “cheer” up our local area animals in need!
URL:https://humaneloudoun.org/events/october-one-vineyard-yappy-hour/2023-07-28/
LOCATION:October One Vineyard Wine Tasting Shop\, 7 Loudoun St SW\, Leesburg\, VA\, 20175\, United States
CATEGORIES:Community Event
ATTACH;FMTTYPE=image/jpeg:https://humaneloudoun.org/wp-content/uploads/2023/01/YH-Graphic.jpg
GEO:39.1143391;-77.5659272
X-APPLE-STRUCTURED-LOCATION;VALUE=URI;X-ADDRESS=October One Vineyard Wine Tasting Shop 7 Loudoun St SW Leesburg VA 20175 United States;X-APPLE-RADIUS=500;X-TITLE=7 Loudoun St SW:geo:-77.5659272,39.1143391
END:VEVENT
BEGIN:VEVENT
DTSTART;TZID=America/New_York:20230630T160000
DTEND;TZID=America/New_York:20230630T190000
DTSTAMP:20260422T183914
CREATED:20230221T153932Z
LAST-MODIFIED:20230221T153932Z
UID:10000342-1688140800-1688151600@humaneloudoun.org
SUMMARY:October One Vineyard Yappy Hour
DESCRIPTION:HSLC is excited to collaborate with October One Vineyard for a monthly Yappy Hour! To support our local animals\, please bring a pet food donation and you’ll be entered into a raffle for free tastings and glasses! You can also purchase raffle tickets. Your monetary donations help cover much-needed medical expenses for homeless and at-risk animals. This event will be 4-7 pm on the last Friday of every month at the October One Vineyard tasting shop in Downtown Leesburg. This event is free to the public\, so stop by and raise a glass. HSLC will be on hand to answer questions and let you know about available animals. Let’s “cheer” up our local area animals in need!
URL:https://humaneloudoun.org/events/october-one-vineyard-yappy-hour/2023-06-30/
LOCATION:October One Vineyard Wine Tasting Shop\, 7 Loudoun St SW\, Leesburg\, VA\, 20175\, United States
CATEGORIES:Community Event
ATTACH;FMTTYPE=image/jpeg:https://humaneloudoun.org/wp-content/uploads/2023/01/YH-Graphic.jpg
GEO:39.1143391;-77.5659272
X-APPLE-STRUCTURED-LOCATION;VALUE=URI;X-ADDRESS=October One Vineyard Wine Tasting Shop 7 Loudoun St SW Leesburg VA 20175 United States;X-APPLE-RADIUS=500;X-TITLE=7 Loudoun St SW:geo:-77.5659272,39.1143391
END:VEVENT
BEGIN:VEVENT
DTSTART;TZID=America/New_York:20230526T160000
DTEND;TZID=America/New_York:20230526T190000
DTSTAMP:20260422T183914
CREATED:20230221T153932Z
LAST-MODIFIED:20230221T153932Z
UID:10000341-1685116800-1685127600@humaneloudoun.org
SUMMARY:October One Vineyard Yappy Hour
DESCRIPTION:HSLC is excited to collaborate with October One Vineyard for a monthly Yappy Hour! To support our local animals\, please bring a pet food donation and you’ll be entered into a raffle for free tastings and glasses! You can also purchase raffle tickets. Your monetary donations help cover much-needed medical expenses for homeless and at-risk animals. This event will be 4-7 pm on the last Friday of every month at the October One Vineyard tasting shop in Downtown Leesburg. This event is free to the public\, so stop by and raise a glass. HSLC will be on hand to answer questions and let you know about available animals. Let’s “cheer” up our local area animals in need!
URL:https://humaneloudoun.org/events/october-one-vineyard-yappy-hour/2023-05-26/
LOCATION:October One Vineyard Wine Tasting Shop\, 7 Loudoun St SW\, Leesburg\, VA\, 20175\, United States
CATEGORIES:Community Event
ATTACH;FMTTYPE=image/jpeg:https://humaneloudoun.org/wp-content/uploads/2023/01/YH-Graphic.jpg
GEO:39.1143391;-77.5659272
X-APPLE-STRUCTURED-LOCATION;VALUE=URI;X-ADDRESS=October One Vineyard Wine Tasting Shop 7 Loudoun St SW Leesburg VA 20175 United States;X-APPLE-RADIUS=500;X-TITLE=7 Loudoun St SW:geo:-77.5659272,39.1143391
END:VEVENT
BEGIN:VEVENT
DTSTART;TZID=America/New_York:20230428T160000
DTEND;TZID=America/New_York:20230428T190000
DTSTAMP:20260422T183914
CREATED:20230221T153932Z
LAST-MODIFIED:20230221T153932Z
UID:10000340-1682697600-1682708400@humaneloudoun.org
SUMMARY:October One Vineyard Yappy Hour
DESCRIPTION:HSLC is excited to collaborate with October One Vineyard for a monthly Yappy Hour! To support our local animals\, please bring a pet food donation and you’ll be entered into a raffle for free tastings and glasses! You can also purchase raffle tickets. Your monetary donations help cover much-needed medical expenses for homeless and at-risk animals. This event will be 4-7 pm on the last Friday of every month at the October One Vineyard tasting shop in Downtown Leesburg. This event is free to the public\, so stop by and raise a glass. HSLC will be on hand to answer questions and let you know about available animals. Let’s “cheer” up our local area animals in need!
URL:https://humaneloudoun.org/events/october-one-vineyard-yappy-hour/2023-04-28/
LOCATION:October One Vineyard Wine Tasting Shop\, 7 Loudoun St SW\, Leesburg\, VA\, 20175\, United States
CATEGORIES:Community Event
ATTACH;FMTTYPE=image/jpeg:https://humaneloudoun.org/wp-content/uploads/2023/01/YH-Graphic.jpg
GEO:39.1143391;-77.5659272
X-APPLE-STRUCTURED-LOCATION;VALUE=URI;X-ADDRESS=October One Vineyard Wine Tasting Shop 7 Loudoun St SW Leesburg VA 20175 United States;X-APPLE-RADIUS=500;X-TITLE=7 Loudoun St SW:geo:-77.5659272,39.1143391
END:VEVENT
END:VCALENDAR