BEGIN:VCALENDAR
VERSION:2.0
PRODID:-// - ECPv6.15.20//NONSGML v1.0//EN
CALSCALE:GREGORIAN
METHOD:PUBLISH
X-ORIGINAL-URL:https://humaneloudoun.org
X-WR-CALDESC:Events for 
REFRESH-INTERVAL;VALUE=DURATION:PT1H
X-Robots-Tag:noindex
X-PUBLISHED-TTL:PT1H
BEGIN:VTIMEZONE
TZID:America/New_York
BEGIN:DAYLIGHT
TZOFFSETFROM:-0500
TZOFFSETTO:-0400
TZNAME:EDT
DTSTART:20220313T070000
END:DAYLIGHT
BEGIN:STANDARD
TZOFFSETFROM:-0400
TZOFFSETTO:-0500
TZNAME:EST
DTSTART:20221106T060000
END:STANDARD
BEGIN:DAYLIGHT
TZOFFSETFROM:-0500
TZOFFSETTO:-0400
TZNAME:EDT
DTSTART:20230312T070000
END:DAYLIGHT
BEGIN:STANDARD
TZOFFSETFROM:-0400
TZOFFSETTO:-0500
TZNAME:EST
DTSTART:20231105T060000
END:STANDARD
BEGIN:DAYLIGHT
TZOFFSETFROM:-0500
TZOFFSETTO:-0400
TZNAME:EDT
DTSTART:20240310T070000
END:DAYLIGHT
BEGIN:STANDARD
TZOFFSETFROM:-0400
TZOFFSETTO:-0500
TZNAME:EST
DTSTART:20241103T060000
END:STANDARD
BEGIN:DAYLIGHT
TZOFFSETFROM:-0500
TZOFFSETTO:-0400
TZNAME:EDT
DTSTART:20250309T070000
END:DAYLIGHT
BEGIN:STANDARD
TZOFFSETFROM:-0400
TZOFFSETTO:-0500
TZNAME:EST
DTSTART:20251102T060000
END:STANDARD
BEGIN:DAYLIGHT
TZOFFSETFROM:-0500
TZOFFSETTO:-0400
TZNAME:EDT
DTSTART:20260308T070000
END:DAYLIGHT
BEGIN:STANDARD
TZOFFSETFROM:-0400
TZOFFSETTO:-0500
TZNAME:EST
DTSTART:20261101T060000
END:STANDARD
END:VTIMEZONE
BEGIN:VEVENT
DTSTART;TZID=America/New_York:20250711T080000
DTEND;TZID=America/New_York:20250720T200000
DTSTAMP:20260422T164303
CREATED:20250106T161410Z
LAST-MODIFIED:20250525T210924Z
UID:10000584-1752220800-1753041600@humaneloudoun.org
SUMMARY:"Christmas in July" Online Auction (Virtual)
DESCRIPTION:🐾 Join Us for a Pawsome Cause! 🐾 \nThe Humane Society of Loudoun County invites you to our fourth annual online auction\, dedicated to supporting at-risk animals in our community. Get ready to make a difference from the comfort of your home with our exciting array of items! Let’s come together to “raise our (virtual) paws” to provide care\, shelter\, and second chances to animals who need them most. \nThank you for your support. Together\, we can create a better tomorrow for our furry friends. 🐾 \nAll tickets\, gift cards and certificates will be mailed upon request to anywhere in the continental U.S. All other items will be available for pick-up in Leesburg\, VA\, at the conclusion of the auction. \nNote: A special thank you to all of the businesses and individuals who generously contribute to our annual auction. We truly appreciate your commitment to homeless animals across Loudoun County!
URL:https://humaneloudoun.org/events/christmas-in-july-online-auction-virtual-2/
LOCATION:Virtual\, Online via Skype\, VA\, United States
CATEGORIES:Fundraising
ATTACH;FMTTYPE=image/png:https://humaneloudoun.org/wp-content/uploads/2025/01/Copy-of-Copy-of-Copy-of-Copy-of-Copy-of-Copy-of-Copy-of-Sample-1-e1736179857340.png
END:VEVENT
BEGIN:VEVENT
DTSTART;TZID=America/New_York:20240712T080000
DTEND;TZID=America/New_York:20240721T200000
DTSTAMP:20260422T164303
CREATED:20240522T171115Z
LAST-MODIFIED:20240630T213523Z
UID:10000498-1720771200-1721592000@humaneloudoun.org
SUMMARY:"Christmas in July" Online Auction (Virtual)
DESCRIPTION:🐾 Join Us for a Pawsome Cause! 🐾 \nThe Humane Society of Loudoun County invites you to our third annual online auction\, dedicated to supporting at-risk animals in our community. Get ready to make a difference from the comfort of your home with our exciting array of items! \nWhat to Expect: \n\nOver $12\,000 in Items: Discover a diverse selection of items sure to pique your interest.\nSomething for Everyone: Whether you’re looking for family fun\, an outing with friends\, or something special for your fur baby\, there’s a purr-fect item waiting for you.\nBid with Confidence: Your contributions directly benefit animals in need\, making each bid a step towards brighter futures.\n\nLet’s come together to “raise our (virtual) paws” to provide care\, shelter\, and second chances to animals who need them most. \nThank you for your support. Together\, we can create a better tomorrow for our furry friends. 🐾 \nAll tickets\, gift cards and certificates will be mailed upon request to anywhere in the continental U.S. All other items will be available for pick-up in Leesburg\, VA\, at the conclusion of the auction. \nNote: A special thank you to all of the businesses and individuals who generously contributed to the auction. We truly appreciate your commitment to homeless animals across Loudoun County!
URL:https://humaneloudoun.org/events/christmas-in-july-online-auction-virtual/
LOCATION:Virtual\, Online via Skype\, VA\, United States
CATEGORIES:Fundraising
ATTACH;FMTTYPE=image/png:https://humaneloudoun.org/wp-content/uploads/2024/05/2024-Auction-Promo-e1716398032929.png
END:VEVENT
BEGIN:VEVENT
DTSTART;TZID=America/New_York:20230707T080000
DTEND;TZID=America/New_York:20230717T200000
DTSTAMP:20260422T164303
CREATED:20230609T145021Z
LAST-MODIFIED:20230703T190829Z
UID:10000387-1688716800-1689624000@humaneloudoun.org
SUMMARY:"Christmas in July" Online Auction (Virtual)
DESCRIPTION:As seen on NBC4 news\, the Humane Society of Loudoun County is excited to announce its second annual online auction to benefit at-risk animals in our community! You’ll find over $10\,000 worth of items\, covering many interests and price points\, including some high-end collectibles! Truly\, there’s something for everyone! So take a look and “raise your (virtual) paw” when you find those purr-fect items to bid on! \nAll tickets\, gift cards and certificates will be mailed upon request to anywhere in the continental U.S. All other items will be available for pick-up in Leesburg\, VA\, at the conclusion of the auction. \nNote: A special thank you to all of the businesses and individuals who generously contributed to the auction. We truly appreciate your commitment to homeless animals across Loudoun County!
URL:https://humaneloudoun.org/events/christmas-in-july-auction/
LOCATION:Virtual\, Online via Skype\, VA\, United States
CATEGORIES:Fundraising
ATTACH;FMTTYPE=image/png:https://humaneloudoun.org/wp-content/uploads/2023/06/2023-auction-e1686329865144.png
END:VEVENT
END:VCALENDAR