BEGIN:VCALENDAR
VERSION:2.0
PRODID:-// - ECPv6.15.20//NONSGML v1.0//EN
CALSCALE:GREGORIAN
METHOD:PUBLISH
X-ORIGINAL-URL:https://humaneloudoun.org
X-WR-CALDESC:Events for 
REFRESH-INTERVAL;VALUE=DURATION:PT1H
X-Robots-Tag:noindex
X-PUBLISHED-TTL:PT1H
BEGIN:VTIMEZONE
TZID:America/New_York
BEGIN:DAYLIGHT
TZOFFSETFROM:-0500
TZOFFSETTO:-0400
TZNAME:EDT
DTSTART:20220313T070000
END:DAYLIGHT
BEGIN:STANDARD
TZOFFSETFROM:-0400
TZOFFSETTO:-0500
TZNAME:EST
DTSTART:20221106T060000
END:STANDARD
BEGIN:DAYLIGHT
TZOFFSETFROM:-0500
TZOFFSETTO:-0400
TZNAME:EDT
DTSTART:20230312T070000
END:DAYLIGHT
BEGIN:STANDARD
TZOFFSETFROM:-0400
TZOFFSETTO:-0500
TZNAME:EST
DTSTART:20231105T060000
END:STANDARD
BEGIN:DAYLIGHT
TZOFFSETFROM:-0500
TZOFFSETTO:-0400
TZNAME:EDT
DTSTART:20240310T070000
END:DAYLIGHT
BEGIN:STANDARD
TZOFFSETFROM:-0400
TZOFFSETTO:-0500
TZNAME:EST
DTSTART:20241103T060000
END:STANDARD
BEGIN:DAYLIGHT
TZOFFSETFROM:-0500
TZOFFSETTO:-0400
TZNAME:EDT
DTSTART:20250309T070000
END:DAYLIGHT
BEGIN:STANDARD
TZOFFSETFROM:-0400
TZOFFSETTO:-0500
TZNAME:EST
DTSTART:20251102T060000
END:STANDARD
END:VTIMEZONE
BEGIN:VEVENT
DTSTART;TZID=America/New_York:20240831T113000
DTEND;TZID=America/New_York:20240831T153000
DTSTAMP:20260422T162918
CREATED:20250606T125758Z
LAST-MODIFIED:20250606T201118Z
UID:10000684-1725103800-1725118200@humaneloudoun.org
SUMMARY:HSLC at the Movies - "CatVideoFest"
DESCRIPTION:The Humane Society of Loudoun County (HSLC) will be at the Alamo Drafthouse at One Loudoun for CatVideoFest – the world’s #1 cat video festival! Be sure to stop by the HSLC tables for free giveaways and HSLC merch! Adoptable cats will make an ap-purr-eance from 1:00-3:00.  Alamo will be donating a % of gross ticket sales to the Humane Society of Loudoun County! \nFor showtimes\, visit the Alamo website. \nMore about CatVideoStFest: CatVideoFest is a compilation reel of the latest and best cat videos culled from countless hours of unique submissions and sourced animations\, music videos\, and classic internet powerhouses. CatVideoFest is a joyous communal experience\, only available in theaters\, and raises money for cats in need through partnerships with local cat charities\, animal welfare organizations\, and shelters to best serve cats in the area.
URL:https://humaneloudoun.org/events/hslc-at-the-movies-catvideofest2025/
LOCATION:Alamo Drafthouse\, 20575 Easthampton Plaza\, Ashburn\, VA\, 20147\, United States
CATEGORIES:Adoptions,Community Event,Public Awareness
ATTACH;FMTTYPE=image/webp:https://humaneloudoun.org/wp-content/uploads/2025/06/Copy-of-Copy-of-Copy-of-HSLC-AT-the-Alamo-Drafthouse-1.webp
GEO:39.0521977;-77.4550486
X-APPLE-STRUCTURED-LOCATION;VALUE=URI;X-ADDRESS=Alamo Drafthouse 20575 Easthampton Plaza Ashburn VA 20147 United States;X-APPLE-RADIUS=500;X-TITLE=20575 Easthampton Plaza:geo:-77.4550486,39.0521977
END:VEVENT
BEGIN:VEVENT
DTSTART;TZID=America/New_York:20240831T113000
DTEND;TZID=America/New_York:20240831T153000
DTSTAMP:20260422T162918
CREATED:20240630T155155Z
LAST-MODIFIED:20240822T142157Z
UID:10000565-1725103800-1725118200@humaneloudoun.org
SUMMARY:HSLC at the Movies - "CatVideoFest"
DESCRIPTION:The Humane Society of Loudoun County (HSLC) will be at the Alamo Drafthouse at One Loudoun for CatVideoFest – the world’s #1 cat video festival! Be sure to stop by the HSLC tables for free giveaways and HSLC merch! Adoptable cats will make an ap-purr-eance from 1:30 to 3:30.  Alamo will be donating a % of gross ticket sales to the Humane Society of Loudoun County! \nFor showtimes\, visit the Alamo website. \nMore about CatVideoStFest: CatVideoFest is a compilation reel of the latest and best cat videos culled from countless hours of unique submissions and sourced animations\, music videos\, and classic internet powerhouses. CatVideoFest is a joyous communal experience\, only available in theaters\, and raises money for cats in need through partnerships with local cat charities\, animal welfare organizations\, and shelters to best serve cats in the area. \n 
URL:https://humaneloudoun.org/events/hslc-at-the-movies-catvideofest-2/
LOCATION:Alamo Drafthouse\, 20575 Easthampton Plaza\, Ashburn\, VA\, 20147\, United States
CATEGORIES:Adoptions,Public Awareness
ATTACH;FMTTYPE=image/png:https://humaneloudoun.org/wp-content/uploads/2024/06/Copy-of-Copy-of-Copy-of-HSLC-AT-the-Alamo-Drafthouse.png
GEO:39.0521977;-77.4550486
X-APPLE-STRUCTURED-LOCATION;VALUE=URI;X-ADDRESS=Alamo Drafthouse 20575 Easthampton Plaza Ashburn VA 20147 United States;X-APPLE-RADIUS=500;X-TITLE=20575 Easthampton Plaza:geo:-77.4550486,39.0521977
END:VEVENT
BEGIN:VEVENT
DTSTART;TZID=America/New_York:20240525T123000
DTEND;TZID=America/New_York:20240525T153000
DTSTAMP:20260422T162918
CREATED:20240419T221934Z
LAST-MODIFIED:20240517T221041Z
UID:10000495-1716640200-1716651000@humaneloudoun.org
SUMMARY:HSLC at the Movies - The Garfield Movie
DESCRIPTION:The Humane Society of Loudoun County (HSLC) will be at the Alamo Drafthouse at One Loudoun for The Garfield Movie. \nWhile we can’t promise a lasagna-eating orange cat\, we will be bringing a lovely assortment of adorable cats for you to meet. We’ll also be offering HSLC merch in support of our life-saving mission! \nFor times and tickets\, visit the Alamo website. \n 
URL:https://humaneloudoun.org/events/hslc-at-the-movies-the-garfield-movie/
LOCATION:Alamo Drafthouse\, 20575 Easthampton Plaza\, Ashburn\, VA\, 20147\, United States
CATEGORIES:Adoptions,Public Awareness
ATTACH;FMTTYPE=image/png:https://humaneloudoun.org/wp-content/uploads/2024/04/Copy-of-Copy-of-Copy-of-HSLC-AT-the-Alamo-Drafthouse.png
GEO:39.0521977;-77.4550486
X-APPLE-STRUCTURED-LOCATION;VALUE=URI;X-ADDRESS=Alamo Drafthouse 20575 Easthampton Plaza Ashburn VA 20147 United States;X-APPLE-RADIUS=500;X-TITLE=20575 Easthampton Plaza:geo:-77.4550486,39.0521977
END:VEVENT
BEGIN:VEVENT
DTSTART;TZID=America/New_York:20231111T114500
DTEND;TZID=America/New_York:20231111T141500
DTSTAMP:20260422T162918
CREATED:20231031T001112Z
LAST-MODIFIED:20231031T001112Z
UID:10000397-1699703100-1699712100@humaneloudoun.org
SUMMARY:HSLC at the Movies - The Marvels
DESCRIPTION:The Humane Society of Loudoun County (HSLC) will be at the Alamo Drafthouse at One Loudoun for The Marvels. \nAny Marvel fan knows that Goose the “cat” steals every scene she’s in!  So\, we’ll be bringing some of our own scene-stealing kitties for you to meet. We’ll also be offering HSLC merch in support of our life-saving mission! \nFor times and tickets\, visit the Alamo website. \n 
URL:https://humaneloudoun.org/events/hslc-at-the-movies-the-marvels/
LOCATION:Alamo Drafthouse\, 20575 Easthampton Plaza\, Ashburn\, VA\, 20147\, United States
CATEGORIES:Adoptions,Public Awareness
ATTACH;FMTTYPE=image/png:https://humaneloudoun.org/wp-content/uploads/2023/10/Copy-of-Copy-of-HSLC-AT-the-Alamo-Drafthouse.png
GEO:39.0521977;-77.4550486
X-APPLE-STRUCTURED-LOCATION;VALUE=URI;X-ADDRESS=Alamo Drafthouse 20575 Easthampton Plaza Ashburn VA 20147 United States;X-APPLE-RADIUS=500;X-TITLE=20575 Easthampton Plaza:geo:-77.4550486,39.0521977
END:VEVENT
BEGIN:VEVENT
DTSTART;TZID=America/New_York:20230930T113000
DTEND;TZID=America/New_York:20230930T150000
DTSTAMP:20260422T162918
CREATED:20230804T143925Z
LAST-MODIFIED:20230913T181454Z
UID:10000391-1696073400-1696086000@humaneloudoun.org
SUMMARY:HSLC at the Movies - Paw Patrol: The Mighty Movie
DESCRIPTION:The Humane Society of Loudoun County (HSLC) will be at the Alamo Drafthouse at One Loudoun for Paw Patrol: The Mighty Movie (see premise below)\, the sequel to Paw Patrol: The Movie.  Come early and stop by the HSLC tables for free giveaways for the kids\, HSLC merch for the adults and animals for adoption! \nFor times and tickets\, visit the Alamo website. \nPremise: When a magical meteor crash-lands in Adventure City\, it gives the PAW Patrol pups superpowers\, transforming them into The MIGHTY PUPS! For Skye\, the smallest member of the team\, her new powers are a dream come true. But things take a turn for the worse when the pups’ arch-rival Humdinger breaks out of prison and teams up with a mad scientist to steal the superpowers for the two villains. With the fate of Adventure City hanging in the balance\, the Mighty Pups have to stop the supervillains before it’s too late\, and Skye will need to learn that even the smallest pup can make the biggest difference. \nWatch the trailer! \n 
URL:https://humaneloudoun.org/events/hslc-at-the-movies-paw-patrol-the-mighty-movie/
LOCATION:Alamo Drafthouse\, 20575 Easthampton Plaza\, Ashburn\, VA\, 20147\, United States
CATEGORIES:Adoptions,Public Awareness
ATTACH;FMTTYPE=image/png:https://humaneloudoun.org/wp-content/uploads/2023/08/Copy-of-Copy-of-HSLC-AT-the-Alamo-Drafthouse.png
GEO:39.0521977;-77.4550486
X-APPLE-STRUCTURED-LOCATION;VALUE=URI;X-ADDRESS=Alamo Drafthouse 20575 Easthampton Plaza Ashburn VA 20147 United States;X-APPLE-RADIUS=500;X-TITLE=20575 Easthampton Plaza:geo:-77.4550486,39.0521977
END:VEVENT
BEGIN:VEVENT
DTSTART;TZID=America/New_York:20230909T123000
DTEND;TZID=America/New_York:20230909T150000
DTSTAMP:20260422T162918
CREATED:20220801T142852Z
LAST-MODIFIED:20230821T164826Z
UID:10000314-1694262600-1694271600@humaneloudoun.org
SUMMARY:HSLC at the Movies - "CatVideoFest"
DESCRIPTION:The Humane Society of Loudoun County (HSLC) will be at the Alamo Drafthouse at One Loudoun for CatVideoFest – the world’s #1 cat video festival! Come early and stop by the HSLC tables for free giveaways\, HSLC merch and…fingers and paws crossed…CATS!  Also\, Alamo will be donating a % of gross ticket sales to the Humane Society of Loudoun County! \nTimes and tickets: https://drafthouse.com/northern-virginia/show/catvideofest-2023 \nMore about CatVideoFest: CatVideoFest is a compilation reel of the latest and best cat videos culled from countless hours of unique submissions and sourced animations\, music videos\, and classic internet powerhouses. CatVideoFest is a joyous communal experience\, only available in theaters\, and raises money for cats in need through partnerships with local cat charities to best serve cats in the area. \n  \n 
URL:https://humaneloudoun.org/events/hslc-at-the-movies-catvideofest/
LOCATION:Alamo Drafthouse\, 20575 Easthampton Plaza\, Ashburn\, VA\, 20147\, United States
CATEGORIES:Adoptions,Public Awareness
ATTACH;FMTTYPE=image/png:https://humaneloudoun.org/wp-content/uploads/2022/08/Copy-of-HSLC-AT-the-Alamo-Drafthouse-1.png
GEO:39.0521977;-77.4550486
X-APPLE-STRUCTURED-LOCATION;VALUE=URI;X-ADDRESS=Alamo Drafthouse 20575 Easthampton Plaza Ashburn VA 20147 United States;X-APPLE-RADIUS=500;X-TITLE=20575 Easthampton Plaza:geo:-77.4550486,39.0521977
END:VEVENT
END:VCALENDAR