BEGIN:VCALENDAR
VERSION:2.0
PRODID:-// - ECPv6.15.20//NONSGML v1.0//EN
CALSCALE:GREGORIAN
METHOD:PUBLISH
X-ORIGINAL-URL:https://humaneloudoun.org
X-WR-CALDESC:Events for 
REFRESH-INTERVAL;VALUE=DURATION:PT1H
X-Robots-Tag:noindex
X-PUBLISHED-TTL:PT1H
BEGIN:VTIMEZONE
TZID:America/New_York
BEGIN:DAYLIGHT
TZOFFSETFROM:-0500
TZOFFSETTO:-0400
TZNAME:EDT
DTSTART:20240310T070000
END:DAYLIGHT
BEGIN:STANDARD
TZOFFSETFROM:-0400
TZOFFSETTO:-0500
TZNAME:EST
DTSTART:20241103T060000
END:STANDARD
BEGIN:DAYLIGHT
TZOFFSETFROM:-0500
TZOFFSETTO:-0400
TZNAME:EDT
DTSTART:20250309T070000
END:DAYLIGHT
BEGIN:STANDARD
TZOFFSETFROM:-0400
TZOFFSETTO:-0500
TZNAME:EST
DTSTART:20251102T060000
END:STANDARD
BEGIN:DAYLIGHT
TZOFFSETFROM:-0500
TZOFFSETTO:-0400
TZNAME:EDT
DTSTART:20260308T070000
END:DAYLIGHT
BEGIN:STANDARD
TZOFFSETFROM:-0400
TZOFFSETTO:-0500
TZNAME:EST
DTSTART:20261101T060000
END:STANDARD
BEGIN:DAYLIGHT
TZOFFSETFROM:-0500
TZOFFSETTO:-0400
TZNAME:EDT
DTSTART:20270314T070000
END:DAYLIGHT
BEGIN:STANDARD
TZOFFSETFROM:-0400
TZOFFSETTO:-0500
TZNAME:EST
DTSTART:20271107T060000
END:STANDARD
END:VTIMEZONE
BEGIN:VEVENT
DTSTART;TZID=America/New_York:20251127T170000
DTEND;TZID=America/New_York:20260101T220000
DTSTAMP:20260422T180306
CREATED:20251126T220252Z
LAST-MODIFIED:20251126T220253Z
UID:10000703-1764262800-1767304800@humaneloudoun.org
SUMMARY:Woodlea Hills Lights Show
DESCRIPTION:Woodlea Hills Lights is teaming up with the Humane Society of Loudoun County (HSLC) for their 2025 light show season. The owners feel very strongly about the importance that animals play in a happy existence and believe in the mission of HSLC finding homes for animals in need. \n\n\n\nThis is the 12th year the pet-loving owners have offered the light show free to the community. HSLC is honored to be the show’s designated charity for those who choose to support this fundraiser.  Woodlea Hills Lights is matching up to $1000 in donations made through this link.
URL:https://humaneloudoun.org/events/woodlea-hills-lights/
LOCATION:Woodlea Hills Lights\, 607 Hillview Pl SW\, Leesburg\, Virginia
ATTACH;FMTTYPE=image/webp:https://humaneloudoun.org/wp-content/uploads/2025/11/358701808_738190778309762_7765398411707723898_n.webp
END:VEVENT
BEGIN:VEVENT
DTSTART;TZID=America/New_York:20251221T120000
DTEND;TZID=America/New_York:20251221T140000
DTSTAMP:20260422T180306
CREATED:20251215T123316Z
LAST-MODIFIED:20251215T123318Z
UID:10000705-1766318400-1766325600@humaneloudoun.org
SUMMARY:Cat Adoption Event
DESCRIPTION:HSLC has many cats and kitties hoping to find their furr-ever families.  Come meet them at the Petco in Leesburg from noon to 2pm on Sunday\, December 21. For a sneak peek of our adoptable animals\, please visit the Humane Society of Loudoun County website! \n\n\n\nIf a particular fur-baby (or two) catches your eye\, complete a no-obligation application today to expedite the application process.
URL:https://humaneloudoun.org/events/cat-adoption-event-9/
LOCATION:Petco Leesburg\, VA\, 1031 Edwards Ferry Rd NE\, Leesburg\, Virginia\, 20176\, United States
CATEGORIES:Adoptions
ATTACH;FMTTYPE=image/webp:https://humaneloudoun.org/wp-content/uploads/2025/12/Copy-of-Copy-of-Copy-of-Copy-of-Copy-of-Copy-of-Copy-of-Copy-of-Copy-of-Copy-of-Copy-of-Adoption-EVENT-1.webp
END:VEVENT
BEGIN:VEVENT
DTSTART;TZID=America/New_York:20251226T170000
DTEND;TZID=America/New_York:20251226T200000
DTSTAMP:20260422T180306
CREATED:20250426T214837Z
LAST-MODIFIED:20250426T214840Z
UID:10000600-1766768400-1766779200@humaneloudoun.org
SUMMARY:October One Vineyard Yappy Hour
DESCRIPTION:HSLC is excited to collaborate with October One Vineyard for a monthly Yappy Hour! To support our local animals\, please bring a pet food donation and you’ll be entered into a raffle for free tastings and glasses! You can also purchase raffle tickets. Your monetary donations help cover much-needed medical expenses for homeless and at-risk animals. This event will be 5-8 pm on the last Friday of every month at the October One Vineyard tasting shop in Downtown Leesburg. This event is free to the public\, so stop by and raise a glass. HSLC will be on hand to answer questions and let you know about available animals. Let’s “cheer” up our local area animals in need!
URL:https://humaneloudoun.org/events/october-one-vineyard-yappy-hour-6/2025-12-26/
LOCATION:October One Vineyard Wine Tasting Shop\, 7 Loudoun St SW\, Leesburg\, VA\, 20175\, United States
CATEGORIES:Community Event
ATTACH;FMTTYPE=image/webp:https://humaneloudoun.org/wp-content/uploads/2023/02/yappy-hour-800x600___14112144887.webp
GEO:39.1143391;-77.5659272
X-APPLE-STRUCTURED-LOCATION;VALUE=URI;X-ADDRESS=October One Vineyard Wine Tasting Shop 7 Loudoun St SW Leesburg VA 20175 United States;X-APPLE-RADIUS=500;X-TITLE=7 Loudoun St SW:geo:-77.5659272,39.1143391
END:VEVENT
END:VCALENDAR