BEGIN:VCALENDAR
VERSION:2.0
PRODID:-// - ECPv6.15.20//NONSGML v1.0//EN
CALSCALE:GREGORIAN
METHOD:PUBLISH
X-ORIGINAL-URL:https://humaneloudoun.org
X-WR-CALDESC:Events for 
REFRESH-INTERVAL;VALUE=DURATION:PT1H
X-Robots-Tag:noindex
X-PUBLISHED-TTL:PT1H
BEGIN:VTIMEZONE
TZID:America/New_York
BEGIN:DAYLIGHT
TZOFFSETFROM:-0500
TZOFFSETTO:-0400
TZNAME:EDT
DTSTART:20240310T070000
END:DAYLIGHT
BEGIN:STANDARD
TZOFFSETFROM:-0400
TZOFFSETTO:-0500
TZNAME:EST
DTSTART:20241103T060000
END:STANDARD
BEGIN:DAYLIGHT
TZOFFSETFROM:-0500
TZOFFSETTO:-0400
TZNAME:EDT
DTSTART:20250309T070000
END:DAYLIGHT
BEGIN:STANDARD
TZOFFSETFROM:-0400
TZOFFSETTO:-0500
TZNAME:EST
DTSTART:20251102T060000
END:STANDARD
BEGIN:DAYLIGHT
TZOFFSETFROM:-0500
TZOFFSETTO:-0400
TZNAME:EDT
DTSTART:20260308T070000
END:DAYLIGHT
BEGIN:STANDARD
TZOFFSETFROM:-0400
TZOFFSETTO:-0500
TZNAME:EST
DTSTART:20261101T060000
END:STANDARD
END:VTIMEZONE
BEGIN:VEVENT
DTSTART;TZID=America/New_York:20251022T173000
DTEND;TZID=America/New_York:20251022T193000
DTSTAMP:20260422T224017
CREATED:20250914T153001Z
LAST-MODIFIED:20250918T151227Z
UID:10000695-1761154200-1761161400@humaneloudoun.org
SUMMARY:Spooky Yappy Hour
DESCRIPTION:Join us for the last Yappy Hour of the year at Spanky’s Shenanigans! \n\n\n\n\n\n\n\n📍 Outside in the back patio area\, HSLC will have a table set up to:✔️ Answer questions about our work✔️ Sell fun HSLC merchandise✔️ Offer chances to win big in our 50/50 raffle—all proceeds help animals in need! \n\n\n\n🍴 Come hungry—Spanky’s is generously donating 10% of all food sales to HSLC! \n\n\n\n🐶 Don’t forget to bring your pup (in costume!) for Spanky’s dog costume contest. Just make sure your furry friend is safe and comfortable while showing off their festive look. \n\n\n\n🎟️ We’ll be drawing the 50/50 raffle winner during the event\, so grab your tickets now for a chance to win while supporting a great cause. \n\n\n\nLet’s make this final Yappy Hour of the year one to remember—for us and for the animals! ❤️
URL:https://humaneloudoun.org/events/spooky-yappy-hour/
LOCATION:Spanky’s Shenanigans\, 538 E Market St\, Leesburg\, VA\, 20176\, United States
GEO:39.109334;-77.550771
X-APPLE-STRUCTURED-LOCATION;VALUE=URI;X-ADDRESS=Spanky’s Shenanigans 538 E Market St Leesburg VA 20176 United States;X-APPLE-RADIUS=500;X-TITLE=538 E Market St:geo:-77.550771,39.109334
END:VEVENT
BEGIN:VEVENT
DTSTART;TZID=America/New_York:20251025T120000
DTEND;TZID=America/New_York:20251025T140000
DTSTAMP:20260422T224018
CREATED:20250928T145108Z
LAST-MODIFIED:20250928T145646Z
UID:10000697-1761393600-1761400800@humaneloudoun.org
SUMMARY:Cat Adoption Event
DESCRIPTION:HSLC has many cats and kitties hoping to find their furr-ever families.  Come meet them at the PetSmart in Leesburg from noon to 2pm on Saturday\, October 25. For a sneak peek of our adoptable animals\, please visit the Humane Society of Loudoun County website! \n\n\n\nIf a particular fur-baby (or two) catches your eye\, complete a no-obligation application today to expedite the application process.
URL:https://humaneloudoun.org/events/cat-adoption-event/
LOCATION:PetSmart Leesburg\, 510 D East Market St\, Leesburg\, VA\, 20176\, United States
CATEGORIES:Adoptions
ATTACH;FMTTYPE=image/webp:https://humaneloudoun.org/wp-content/uploads/2025/09/Copy-of-Copy-of-Copy-of-Copy-of-Copy-of-Copy-of-Copy-of-Copy-of-Copy-of-Copy-of-Copy-of-Copy-of-Adoption-EVENT.webp
GEO:39.1107539;-77.5516422
X-APPLE-STRUCTURED-LOCATION;VALUE=URI;X-ADDRESS=PetSmart Leesburg 510 D East Market St Leesburg VA 20176 United States;X-APPLE-RADIUS=500;X-TITLE=510 D East Market St:geo:-77.5516422,39.1107539
END:VEVENT
END:VCALENDAR