BEGIN:VCALENDAR
VERSION:2.0
PRODID:-// - ECPv6.15.20//NONSGML v1.0//EN
CALSCALE:GREGORIAN
METHOD:PUBLISH
X-ORIGINAL-URL:https://humaneloudoun.org
X-WR-CALDESC:Events for 
REFRESH-INTERVAL;VALUE=DURATION:PT1H
X-Robots-Tag:noindex
X-PUBLISHED-TTL:PT1H
BEGIN:VTIMEZONE
TZID:America/New_York
BEGIN:DAYLIGHT
TZOFFSETFROM:-0500
TZOFFSETTO:-0400
TZNAME:EDT
DTSTART:20240310T070000
END:DAYLIGHT
BEGIN:STANDARD
TZOFFSETFROM:-0400
TZOFFSETTO:-0500
TZNAME:EST
DTSTART:20241103T060000
END:STANDARD
BEGIN:DAYLIGHT
TZOFFSETFROM:-0500
TZOFFSETTO:-0400
TZNAME:EDT
DTSTART:20250309T070000
END:DAYLIGHT
BEGIN:STANDARD
TZOFFSETFROM:-0400
TZOFFSETTO:-0500
TZNAME:EST
DTSTART:20251102T060000
END:STANDARD
BEGIN:DAYLIGHT
TZOFFSETFROM:-0500
TZOFFSETTO:-0400
TZNAME:EDT
DTSTART:20260308T070000
END:DAYLIGHT
BEGIN:STANDARD
TZOFFSETFROM:-0400
TZOFFSETTO:-0500
TZNAME:EST
DTSTART:20261101T060000
END:STANDARD
END:VTIMEZONE
BEGIN:VEVENT
DTSTART;TZID=America/New_York:20251001T173000
DTEND;TZID=America/New_York:20251001T193000
DTSTAMP:20260422T223924
CREATED:20250325T153936Z
LAST-MODIFIED:20250420T141009Z
UID:10000677-1759339800-1759347000@humaneloudoun.org
SUMMARY:Spanky's Yappy Hour
DESCRIPTION:Tell your furr-iends and mark your calendars! HSLC is back at Spanky’s for Yappy Hour on the 1st Wednesday of each month from 5:30 to 7:30 through October. We’ll have a table set-up outside in the back to answer questions\, sell merchandise and provide opportunities to participate in our 50/50 raffle to help animals in need! Spanky’s is generously donating 10% of food sales to HSLC so be sure to come hungry! 
URL:https://humaneloudoun.org/events/spankys-yappy-hour-10/2025-10-01/
LOCATION:Spanky’s Shenanigans\, 538 E Market St\, Leesburg\, VA\, 20176\, United States
CATEGORIES:Community Event
ATTACH;FMTTYPE=image/webp:https://humaneloudoun.org/wp-content/uploads/2025/04/487483528_1219099993552166_578244604303497525_n.webp
GEO:39.109334;-77.550771
X-APPLE-STRUCTURED-LOCATION;VALUE=URI;X-ADDRESS=Spanky’s Shenanigans 538 E Market St Leesburg VA 20176 United States;X-APPLE-RADIUS=500;X-TITLE=538 E Market St:geo:-77.550771,39.109334
END:VEVENT
BEGIN:VEVENT
DTSTART;TZID=America/New_York:20251003T180000
DTEND;TZID=America/New_York:20251003T193000
DTSTAMP:20260422T223924
CREATED:20250918T124013Z
LAST-MODIFIED:20250928T151057Z
UID:10000696-1759514400-1759519800@humaneloudoun.org
SUMMARY:First Friday Mini-Adoption Event
DESCRIPTION:The Humane Society of Loudoun County will be bringing adoptable cats to Leesburg First Friday on October 3. Be sure to come inside and see the kitties up close and in purr-son at Coldwell Banker Realty!
URL:https://humaneloudoun.org/events/first-friday-mini-adoption-event-7/
LOCATION:Coldwell Banker Realty\, 25 South King St\, Leesburg\, 20175\, United States
END:VEVENT
END:VCALENDAR