BEGIN:VCALENDAR
VERSION:2.0
PRODID:-// - ECPv6.15.20//NONSGML v1.0//EN
CALSCALE:GREGORIAN
METHOD:PUBLISH
X-ORIGINAL-URL:https://humaneloudoun.org
X-WR-CALDESC:Events for 
REFRESH-INTERVAL;VALUE=DURATION:PT1H
X-Robots-Tag:noindex
X-PUBLISHED-TTL:PT1H
BEGIN:VTIMEZONE
TZID:America/New_York
BEGIN:DAYLIGHT
TZOFFSETFROM:-0500
TZOFFSETTO:-0400
TZNAME:EDT
DTSTART:20240310T070000
END:DAYLIGHT
BEGIN:STANDARD
TZOFFSETFROM:-0400
TZOFFSETTO:-0500
TZNAME:EST
DTSTART:20241103T060000
END:STANDARD
BEGIN:DAYLIGHT
TZOFFSETFROM:-0500
TZOFFSETTO:-0400
TZNAME:EDT
DTSTART:20250309T070000
END:DAYLIGHT
BEGIN:STANDARD
TZOFFSETFROM:-0400
TZOFFSETTO:-0500
TZNAME:EST
DTSTART:20251102T060000
END:STANDARD
BEGIN:DAYLIGHT
TZOFFSETFROM:-0500
TZOFFSETTO:-0400
TZNAME:EDT
DTSTART:20260308T070000
END:DAYLIGHT
BEGIN:STANDARD
TZOFFSETFROM:-0400
TZOFFSETTO:-0500
TZNAME:EST
DTSTART:20261101T060000
END:STANDARD
END:VTIMEZONE
BEGIN:VEVENT
DTSTART;TZID=America/New_York:20250907T113000
DTEND;TZID=America/New_York:20250907T133000
DTSTAMP:20260423T044428
CREATED:20250801T203127Z
LAST-MODIFIED:20250801T203130Z
UID:10000692-1757244600-1757251800@humaneloudoun.org
SUMMARY:CatVideoFest
DESCRIPTION:Come watch some silly cat videos for a good cause! \n\n\n\n\n\n\n\nThe world’s #1 cat video festival is back with screenings in theaters across the USA and around the world! Oscilloscope Laboratories presents CATVIDEOFEST 2025\, a compilation of the latest and best cat videos culled from countless hours of unique submissions and sourced animations\, music videos\, and classic internet powerhouses. \n\n\n\nEach year across the country\, local theaters partner with nearby cat-focused charities\, animal welfare associations\, and shelters alike. A portion of ticket proceeds from every show goes directly to the Humane Society of Loudoun County to help local cats in need. HSLC will also be bringing adoptable cats to Alamo’s lobby on Saturday and Sunday\, September 6 and 7 (note slightly different times). \n\n\n\nBuy tickets: Alamo Drafthouse Cinema
URL:https://humaneloudoun.org/events/catvideofest-2/
LOCATION:Alamo Drafthouse\, 20575 Easthampton Plaza\, Ashburn\, VA\, 20147\, United States
CATEGORIES:Adoptions,Community Event
ATTACH;FMTTYPE=image/webp:https://humaneloudoun.org/wp-content/uploads/2025/06/Copy-of-Copy-of-Copy-of-HSLC-AT-the-Alamo-Drafthouse-1.webp
GEO:39.0521977;-77.4550486
X-APPLE-STRUCTURED-LOCATION;VALUE=URI;X-ADDRESS=Alamo Drafthouse 20575 Easthampton Plaza Ashburn VA 20147 United States;X-APPLE-RADIUS=500;X-TITLE=20575 Easthampton Plaza:geo:-77.4550486,39.0521977
END:VEVENT
END:VCALENDAR