BEGIN:VCALENDAR
VERSION:2.0
PRODID:-// - ECPv6.15.20//NONSGML v1.0//EN
CALSCALE:GREGORIAN
METHOD:PUBLISH
X-ORIGINAL-URL:https://humaneloudoun.org
X-WR-CALDESC:Events for 
REFRESH-INTERVAL;VALUE=DURATION:PT1H
X-Robots-Tag:noindex
X-PUBLISHED-TTL:PT1H
BEGIN:VTIMEZONE
TZID:America/New_York
BEGIN:DAYLIGHT
TZOFFSETFROM:-0500
TZOFFSETTO:-0400
TZNAME:EDT
DTSTART:20240310T070000
END:DAYLIGHT
BEGIN:STANDARD
TZOFFSETFROM:-0400
TZOFFSETTO:-0500
TZNAME:EST
DTSTART:20241103T060000
END:STANDARD
BEGIN:DAYLIGHT
TZOFFSETFROM:-0500
TZOFFSETTO:-0400
TZNAME:EDT
DTSTART:20250309T070000
END:DAYLIGHT
BEGIN:STANDARD
TZOFFSETFROM:-0400
TZOFFSETTO:-0500
TZNAME:EST
DTSTART:20251102T060000
END:STANDARD
BEGIN:DAYLIGHT
TZOFFSETFROM:-0500
TZOFFSETTO:-0400
TZNAME:EDT
DTSTART:20260308T070000
END:DAYLIGHT
BEGIN:STANDARD
TZOFFSETFROM:-0400
TZOFFSETTO:-0500
TZNAME:EST
DTSTART:20261101T060000
END:STANDARD
END:VTIMEZONE
BEGIN:VEVENT
DTSTART;TZID=America/New_York:20250903T173000
DTEND;TZID=America/New_York:20250903T193000
DTSTAMP:20260423T020110
CREATED:20250325T153936Z
LAST-MODIFIED:20250420T141009Z
UID:10000676-1756920600-1756927800@humaneloudoun.org
SUMMARY:Spanky's Yappy Hour
DESCRIPTION:Tell your furr-iends and mark your calendars! HSLC is back at Spanky’s for Yappy Hour on the 1st Wednesday of each month from 5:30 to 7:30 through October. We’ll have a table set-up outside in the back to answer questions\, sell merchandise and provide opportunities to participate in our 50/50 raffle to help animals in need! Spanky’s is generously donating 10% of food sales to HSLC so be sure to come hungry! 
URL:https://humaneloudoun.org/events/spankys-yappy-hour-10/2025-09-03/
LOCATION:Spanky’s Shenanigans\, 538 E Market St\, Leesburg\, VA\, 20176\, United States
CATEGORIES:Community Event
ATTACH;FMTTYPE=image/webp:https://humaneloudoun.org/wp-content/uploads/2025/04/487483528_1219099993552166_578244604303497525_n.webp
GEO:39.109334;-77.550771
X-APPLE-STRUCTURED-LOCATION;VALUE=URI;X-ADDRESS=Spanky’s Shenanigans 538 E Market St Leesburg VA 20176 United States;X-APPLE-RADIUS=500;X-TITLE=538 E Market St:geo:-77.550771,39.109334
END:VEVENT
BEGIN:VEVENT
DTSTART;TZID=America/New_York:20250906T120000
DTEND;TZID=America/New_York:20250906T140000
DTSTAMP:20260423T020110
CREATED:20250622T145026Z
LAST-MODIFIED:20250801T121118Z
UID:10000686-1757160000-1757167200@humaneloudoun.org
SUMMARY:CatVideoFest
DESCRIPTION:Come watch some silly cat videos for a good cause! \n\n\n\n\n\n\n\nThe world’s #1 cat video festival is back with screenings in theaters across the USA and around the world! Oscilloscope Laboratories presents CATVIDEOFEST 2025\, a compilation of the latest and best cat videos culled from countless hours of unique submissions and sourced animations\, music videos\, and classic internet powerhouses. \n\n\n\nEach year across the country\, local theaters partner with nearby cat-focused charities\, animal welfare associations\, and shelters alike. A portion of ticket proceeds from every show goes directly to the Humane Society of Loudoun County to help local cats in need. HSLC will also be bringing adoptable cats to Alamo’s lobby on Saturday and Sunday\, September 6 and 7 (note slightly different times). \n\n\n\nBuy tickets: Alamo Drafthouse Cinema
URL:https://humaneloudoun.org/events/catvideofest/
LOCATION:Alamo Drafthouse\, 20575 Easthampton Plaza\, Ashburn\, VA\, 20147\, United States
CATEGORIES:Adoptions,Community Event
ATTACH;FMTTYPE=image/webp:https://humaneloudoun.org/wp-content/uploads/2025/06/Copy-of-Copy-of-Copy-of-HSLC-AT-the-Alamo-Drafthouse-1.webp
GEO:39.0521977;-77.4550486
X-APPLE-STRUCTURED-LOCATION;VALUE=URI;X-ADDRESS=Alamo Drafthouse 20575 Easthampton Plaza Ashburn VA 20147 United States;X-APPLE-RADIUS=500;X-TITLE=20575 Easthampton Plaza:geo:-77.4550486,39.0521977
END:VEVENT
END:VCALENDAR