BEGIN:VCALENDAR
VERSION:2.0
PRODID:-// - ECPv6.15.20//NONSGML v1.0//EN
CALSCALE:GREGORIAN
METHOD:PUBLISH
X-ORIGINAL-URL:https://humaneloudoun.org
X-WR-CALDESC:Events for 
REFRESH-INTERVAL;VALUE=DURATION:PT1H
X-Robots-Tag:noindex
X-PUBLISHED-TTL:PT1H
BEGIN:VTIMEZONE
TZID:America/New_York
BEGIN:DAYLIGHT
TZOFFSETFROM:-0500
TZOFFSETTO:-0400
TZNAME:EDT
DTSTART:20240310T070000
END:DAYLIGHT
BEGIN:STANDARD
TZOFFSETFROM:-0400
TZOFFSETTO:-0500
TZNAME:EST
DTSTART:20241103T060000
END:STANDARD
BEGIN:DAYLIGHT
TZOFFSETFROM:-0500
TZOFFSETTO:-0400
TZNAME:EDT
DTSTART:20250309T070000
END:DAYLIGHT
BEGIN:STANDARD
TZOFFSETFROM:-0400
TZOFFSETTO:-0500
TZNAME:EST
DTSTART:20251102T060000
END:STANDARD
BEGIN:DAYLIGHT
TZOFFSETFROM:-0500
TZOFFSETTO:-0400
TZNAME:EDT
DTSTART:20260308T070000
END:DAYLIGHT
BEGIN:STANDARD
TZOFFSETFROM:-0400
TZOFFSETTO:-0500
TZNAME:EST
DTSTART:20261101T060000
END:STANDARD
END:VTIMEZONE
BEGIN:VEVENT
DTSTART;TZID=America/New_York:20250608T100000
DTEND;TZID=America/New_York:20250608T150000
DTSTAMP:20260423T032302
CREATED:20250418T132005Z
LAST-MODIFIED:20250511T150049Z
UID:10000672-1749376800-1749394800@humaneloudoun.org
SUMMARY:Woofies Paws in the Park
DESCRIPTION:We’re so excited to announce the return of Woofie’s Paws in the Park\, an annual pet adoption and community event in Northern Virginia\, and we hope to see you there! \n\n\n\nThis fun\, family-friendly event brings together local animal shelters and rescues (like HSLC)\, pet owners\, and local businesses for a day of adoptions\, fun\, food\, shopping\, and community connection. \n\n\n\nMore details and exciting announcements to come!
URL:https://humaneloudoun.org/events/woofies-paws-in-the-park/
LOCATION:Frying Pan Farm Park\, 2709 West Ox Rd\, Herndon\, Virginia\, 20171
ATTACH;FMTTYPE=image/webp:https://humaneloudoun.org/wp-content/uploads/2025/04/488304408_1170953455041699_8906938860707424290_n.webp
END:VEVENT
BEGIN:VEVENT
DTSTART;TZID=America/New_York:20250609T003000
DTEND;TZID=America/New_York:20250613T233000
DTSTAMP:20260423T032302
CREATED:20250525T154909Z
LAST-MODIFIED:20250525T155951Z
UID:10000683-1749429000-1749857400@humaneloudoun.org
SUMMARY:Happiest at Home: A Virtual Adoption Event
DESCRIPTION:Not every pet is a social butterfly. Some just want a couch\, a quiet corner\, and a person to love.Welcome to Happiest at Home—a virtual adoption event featuring our most lovable homebodies. These animals might not “do” adoption events\, but they do cuddles\, companionship\, and unconditional love. Check out their stories on HSLC’s social media channels\, June 9-13. Then\, complete a no-obligation application and arrange a comfortable meet-and-greet for your new best friend. Please help us match these home-loving companions with their purrfect humans!
URL:https://humaneloudoun.org/events/happiest-at-home-a-virtual-adoption-event/
LOCATION:VA
CATEGORIES:Adoptions
ATTACH;FMTTYPE=image/webp:https://humaneloudoun.org/wp-content/uploads/2025/05/How-not-to-fall-in-love-with-that-look.webp
ORGANIZER;CN="Humane Society of Loudoun County":MAILTO:adoptions@humaneloudoun.org
END:VEVENT
END:VCALENDAR