BEGIN:VCALENDAR
VERSION:2.0
PRODID:-// - ECPv6.15.20//NONSGML v1.0//EN
CALSCALE:GREGORIAN
METHOD:PUBLISH
X-ORIGINAL-URL:https://humaneloudoun.org
X-WR-CALDESC:Events for 
REFRESH-INTERVAL;VALUE=DURATION:PT1H
X-Robots-Tag:noindex
X-PUBLISHED-TTL:PT1H
BEGIN:VTIMEZONE
TZID:America/New_York
BEGIN:DAYLIGHT
TZOFFSETFROM:-0500
TZOFFSETTO:-0400
TZNAME:EDT
DTSTART:20240310T070000
END:DAYLIGHT
BEGIN:STANDARD
TZOFFSETFROM:-0400
TZOFFSETTO:-0500
TZNAME:EST
DTSTART:20241103T060000
END:STANDARD
BEGIN:DAYLIGHT
TZOFFSETFROM:-0500
TZOFFSETTO:-0400
TZNAME:EDT
DTSTART:20250309T070000
END:DAYLIGHT
BEGIN:STANDARD
TZOFFSETFROM:-0400
TZOFFSETTO:-0500
TZNAME:EST
DTSTART:20251102T060000
END:STANDARD
BEGIN:DAYLIGHT
TZOFFSETFROM:-0500
TZOFFSETTO:-0400
TZNAME:EDT
DTSTART:20260308T070000
END:DAYLIGHT
BEGIN:STANDARD
TZOFFSETFROM:-0400
TZOFFSETTO:-0500
TZNAME:EST
DTSTART:20261101T060000
END:STANDARD
END:VTIMEZONE
BEGIN:VEVENT
DTSTART;TZID=America/New_York:20250518T130000
DTEND;TZID=America/New_York:20250518T150000
DTSTAMP:20260423T044650
CREATED:20250505T124345Z
LAST-MODIFIED:20250505T124616Z
UID:10000681-1747573200-1747580400@humaneloudoun.org
SUMMARY:HSLC Adoption Event - Dulles Landing
DESCRIPTION:Looking for your next furry family member? We have many cats and kitties hoping to find their fur-ever homes!  Come meet them at the PetSmart in Dulles Landing from 1:00pm to 3:00pm on May 18. For a sneak peek of our adoptable animals\, please visit the Humane Society of Loudoun County website! \n\n\n\nIf a particular fur-baby (or two) catches your eye\, complete an application today to expedite the application process.
URL:https://humaneloudoun.org/events/hslc-adoption-event-dulles-landing/
LOCATION:PetSmart Dulles Landing\, 24570 Dulles Landing Dr\, Unit 140\, Dulles\, 20166\, United States
CATEGORIES:Adoptions
ATTACH;FMTTYPE=image/webp:https://humaneloudoun.org/wp-content/uploads/2025/05/Copy-of-Copy-of-Copy-of-Copy-of-Copy-of-Copy-of-Copy-of-Copy-of-Copy-of-Adoption-EVENT.webp
END:VEVENT
BEGIN:VEVENT
DTSTART;TZID=America/New_York:20250523T110000
DTEND;TZID=America/New_York:20250523T210000
DTSTAMP:20260423T044650
CREATED:20250406T155923Z
LAST-MODIFIED:20250411T122738Z
UID:10000670-1747998000-1748034000@humaneloudoun.org
SUMMARY:Dining for Dollar$ (with your dog!)
DESCRIPTION:Dining for Dollar$ is a delicious way to raise money\, awareness and support for animals in need! Foster’s Grille will generously donate 20% of sales to the Humane Society of Loudoun County. So\, mark your calendar and come support the at-risk cats and dogs in our community!
URL:https://humaneloudoun.org/events/dining-for-dollar-with-your-dog/
LOCATION:Foster’s Grille\, 24995 Riding Plaza #100\, South Riding\, Virginia\, 20152\, United States
END:VEVENT
BEGIN:VEVENT
DTSTART;TZID=America/New_York:20250524T110000
DTEND;TZID=America/New_York:20250524T210000
DTSTAMP:20260423T044650
CREATED:20250410T124544Z
LAST-MODIFIED:20250410T124546Z
UID:10000671-1748084400-1748120400@humaneloudoun.org
SUMMARY:Dining for Dollar$ (with your dog!)
DESCRIPTION:Dining for Dollar$ is a delicious way to raise money\, awareness and support for animals in need! Foster’s Grille will generously donate 20% of sales to the Humane Society of Loudoun County. So\, mark your calendar and come support the at-risk cats and dogs in our community!
URL:https://humaneloudoun.org/events/dining-for-dollar-with-your-dog-2/
LOCATION:Foster’s Grille\, 24995 Riding Plaza #100\, South Riding\, Virginia\, 20152\, United States
END:VEVENT
END:VCALENDAR