BEGIN:VCALENDAR
VERSION:2.0
PRODID:-// - ECPv6.15.20//NONSGML v1.0//EN
CALSCALE:GREGORIAN
METHOD:PUBLISH
X-ORIGINAL-URL:https://humaneloudoun.org
X-WR-CALDESC:Events for 
REFRESH-INTERVAL;VALUE=DURATION:PT1H
X-Robots-Tag:noindex
X-PUBLISHED-TTL:PT1H
BEGIN:VTIMEZONE
TZID:America/New_York
BEGIN:DAYLIGHT
TZOFFSETFROM:-0500
TZOFFSETTO:-0400
TZNAME:EDT
DTSTART:20250309T070000
END:DAYLIGHT
BEGIN:STANDARD
TZOFFSETFROM:-0400
TZOFFSETTO:-0500
TZNAME:EST
DTSTART:20251102T060000
END:STANDARD
BEGIN:DAYLIGHT
TZOFFSETFROM:-0500
TZOFFSETTO:-0400
TZNAME:EDT
DTSTART:20260308T070000
END:DAYLIGHT
BEGIN:STANDARD
TZOFFSETFROM:-0400
TZOFFSETTO:-0500
TZNAME:EST
DTSTART:20261101T060000
END:STANDARD
BEGIN:DAYLIGHT
TZOFFSETFROM:-0500
TZOFFSETTO:-0400
TZNAME:EDT
DTSTART:20270314T070000
END:DAYLIGHT
BEGIN:STANDARD
TZOFFSETFROM:-0400
TZOFFSETTO:-0500
TZNAME:EST
DTSTART:20271107T060000
END:STANDARD
END:VTIMEZONE
BEGIN:VEVENT
DTSTART;TZID=America/New_York:20260415T173000
DTEND;TZID=America/New_York:20260415T193000
DTSTAMP:20260422T184426
CREATED:20260405T130458Z
LAST-MODIFIED:20260405T130500Z
UID:10000716-1776274200-1776281400@humaneloudoun.org
SUMMARY:Spanky's Yappy Hour
DESCRIPTION:Join us for the first Yappy Hour of the year at Spanky’s Shenanigans! \n\n\n\n\n\n\n\n📍 Outside in the back patio area\, HSLC will have a table set up to:✔️ Answer questions about our life-saving work✔️ Sell fun HSLC merchandise✔️ Raise funds and awareness for the doggies who need us \n\n\n\n🍴 Come hungry—Spanky’s is generously donating 10% of all food sales to HSLC!
URL:https://humaneloudoun.org/events/spankys-yappy-hour-11/
LOCATION:Spanky’s Shenanigans\, 538 E Market St\, Leesburg\, VA\, 20176\, United States
ATTACH;FMTTYPE=image/jpeg:https://humaneloudoun.org/wp-content/uploads/2023/02/Spankys-e1676573654900.jpg
GEO:39.109334;-77.550771
X-APPLE-STRUCTURED-LOCATION;VALUE=URI;X-ADDRESS=Spanky’s Shenanigans 538 E Market St Leesburg VA 20176 United States;X-APPLE-RADIUS=500;X-TITLE=538 E Market St:geo:-77.550771,39.109334
END:VEVENT
END:VCALENDAR