BEGIN:VCALENDAR
VERSION:2.0
PRODID:-// - ECPv6.15.20//NONSGML v1.0//EN
CALSCALE:GREGORIAN
METHOD:PUBLISH
X-ORIGINAL-URL:https://humaneloudoun.org
X-WR-CALDESC:Events for 
REFRESH-INTERVAL;VALUE=DURATION:PT1H
X-Robots-Tag:noindex
X-PUBLISHED-TTL:PT1H
BEGIN:VTIMEZONE
TZID:America/New_York
BEGIN:DAYLIGHT
TZOFFSETFROM:-0500
TZOFFSETTO:-0400
TZNAME:EDT
DTSTART:20220313T070000
END:DAYLIGHT
BEGIN:STANDARD
TZOFFSETFROM:-0400
TZOFFSETTO:-0500
TZNAME:EST
DTSTART:20221106T060000
END:STANDARD
BEGIN:DAYLIGHT
TZOFFSETFROM:-0500
TZOFFSETTO:-0400
TZNAME:EDT
DTSTART:20230312T070000
END:DAYLIGHT
BEGIN:STANDARD
TZOFFSETFROM:-0400
TZOFFSETTO:-0500
TZNAME:EST
DTSTART:20231105T060000
END:STANDARD
BEGIN:DAYLIGHT
TZOFFSETFROM:-0500
TZOFFSETTO:-0400
TZNAME:EDT
DTSTART:20240310T070000
END:DAYLIGHT
BEGIN:STANDARD
TZOFFSETFROM:-0400
TZOFFSETTO:-0500
TZNAME:EST
DTSTART:20241103T060000
END:STANDARD
END:VTIMEZONE
BEGIN:VEVENT
DTSTART;TZID=America/New_York:20230827T130000
DTEND;TZID=America/New_York:20230827T160000
DTSTAMP:20260424T221323
CREATED:20230731T114815Z
LAST-MODIFIED:20230731T114815Z
UID:10000390-1693141200-1693152000@humaneloudoun.org
SUMMARY:Cat Adoption Event
DESCRIPTION:August is Clear the Shelters month! Come meet our adoptable cats and kitties live and in-person! For a sneak peek\, please visit the Humane Society of Loudoun County website to check out the current clowder! \nIf a particular feline (or two) catches your eye\, complete an application today to expedite the application process. \n 
URL:https://humaneloudoun.org/events/cat-adoption-event-4/
LOCATION:Petco – Leesburg\, 200 Fort Evans Rd NE\, Leesburg\, VA\, United States
CATEGORIES:Adoptions
ATTACH;FMTTYPE=image/png:https://humaneloudoun.org/wp-content/uploads/2023/07/Copy-of-Copy-of-Copy-of-Adoption-EVENT-2.png
GEO:39.1106491;-77.5368072
X-APPLE-STRUCTURED-LOCATION;VALUE=URI;X-ADDRESS=Petco – Leesburg 200 Fort Evans Rd NE Leesburg VA United States;X-APPLE-RADIUS=500;X-TITLE=200 Fort Evans Rd NE:geo:-77.5368072,39.1106491
END:VEVENT
END:VCALENDAR