BEGIN:VCALENDAR
VERSION:2.0
PRODID:-// - ECPv6.15.20//NONSGML v1.0//EN
CALSCALE:GREGORIAN
METHOD:PUBLISH
X-ORIGINAL-URL:https://humaneloudoun.org
X-WR-CALDESC:Events for 
REFRESH-INTERVAL;VALUE=DURATION:PT1H
X-Robots-Tag:noindex
X-PUBLISHED-TTL:PT1H
BEGIN:VTIMEZONE
TZID:America/New_York
BEGIN:DAYLIGHT
TZOFFSETFROM:-0500
TZOFFSETTO:-0400
TZNAME:EDT
DTSTART:20240310T070000
END:DAYLIGHT
BEGIN:STANDARD
TZOFFSETFROM:-0400
TZOFFSETTO:-0500
TZNAME:EST
DTSTART:20241103T060000
END:STANDARD
BEGIN:DAYLIGHT
TZOFFSETFROM:-0500
TZOFFSETTO:-0400
TZNAME:EDT
DTSTART:20250309T070000
END:DAYLIGHT
BEGIN:STANDARD
TZOFFSETFROM:-0400
TZOFFSETTO:-0500
TZNAME:EST
DTSTART:20251102T060000
END:STANDARD
BEGIN:DAYLIGHT
TZOFFSETFROM:-0500
TZOFFSETTO:-0400
TZNAME:EDT
DTSTART:20260308T070000
END:DAYLIGHT
BEGIN:STANDARD
TZOFFSETFROM:-0400
TZOFFSETTO:-0500
TZNAME:EST
DTSTART:20261101T060000
END:STANDARD
END:VTIMEZONE
BEGIN:VEVENT
DTSTART;TZID=America/New_York:20250921T120000
DTEND;TZID=America/New_York:20250921T140000
DTSTAMP:20260423T064325
CREATED:20250831T184936Z
LAST-MODIFIED:20250901T193229Z
UID:10000694-1758456000-1758463200@humaneloudoun.org
SUMMARY:HSLC Adoption Event - Leesburg
DESCRIPTION:HSLC has many cats and kitties hoping to find their furr-ever families.  Come meet them at the Petco in Leesburg (NEW LOCATION!) from noon to 2pm on Sunday\, September 21. For a sneak peek of our adoptable animals\, please visit the Humane Society of Loudoun County website! \nIf a particular fur-baby (or two) catches your eye\, complete a no-obligation application today to expedite the application process. \nNOTE that Petco recently moved to the Battlefield Shopping Center at 1015 Edwards Ferry Rd NE\, Leesburg\, VA 20176. (It’s across the street from Costco\, Target and Kohl’s.)
URL:https://humaneloudoun.org/events/hslc-adoption-event-leesburg-2/
LOCATION:VA
CATEGORIES:Adoptions
ATTACH;FMTTYPE=image/webp:https://humaneloudoun.org/wp-content/uploads/2025/05/Copy-of-Copy-of-Copy-of-Copy-of-Copy-of-Copy-of-Copy-of-Copy-of-Adoption-EVENT.webp
END:VEVENT
END:VCALENDAR