BEGIN:VCALENDAR
VERSION:2.0
PRODID:-// - ECPv6.15.20//NONSGML v1.0//EN
CALSCALE:GREGORIAN
METHOD:PUBLISH
X-ORIGINAL-URL:https://humaneloudoun.org
X-WR-CALDESC:Events for 
REFRESH-INTERVAL;VALUE=DURATION:PT1H
X-Robots-Tag:noindex
X-PUBLISHED-TTL:PT1H
BEGIN:VTIMEZONE
TZID:America/New_York
BEGIN:DAYLIGHT
TZOFFSETFROM:-0500
TZOFFSETTO:-0400
TZNAME:EDT
DTSTART:20250309T070000
END:DAYLIGHT
BEGIN:STANDARD
TZOFFSETFROM:-0400
TZOFFSETTO:-0500
TZNAME:EST
DTSTART:20251102T060000
END:STANDARD
BEGIN:DAYLIGHT
TZOFFSETFROM:-0500
TZOFFSETTO:-0400
TZNAME:EDT
DTSTART:20260308T070000
END:DAYLIGHT
BEGIN:STANDARD
TZOFFSETFROM:-0400
TZOFFSETTO:-0500
TZNAME:EST
DTSTART:20261101T060000
END:STANDARD
BEGIN:DAYLIGHT
TZOFFSETFROM:-0500
TZOFFSETTO:-0400
TZNAME:EDT
DTSTART:20270314T070000
END:DAYLIGHT
BEGIN:STANDARD
TZOFFSETFROM:-0400
TZOFFSETTO:-0500
TZNAME:EST
DTSTART:20271107T060000
END:STANDARD
END:VTIMEZONE
BEGIN:VEVENT
DTSTART;TZID=America/New_York:20260214T120000
DTEND;TZID=America/New_York:20260214T140000
DTSTAMP:20260422T121339
CREATED:20260117T151923Z
LAST-MODIFIED:20260117T151924Z
UID:10000708-1771070400-1771077600@humaneloudoun.org
SUMMARY:Cat Adoption Event
DESCRIPTION:Find your PURR-fect match at our special Valentine’s Day adoption event! HSLC has many cats and kitties hoping to find their furr-ever families.  Come meet them at the Petco in Leesburg from noon to 2pm on Saturday\, February 14. For a sneak peek of our adoptable animals\, please visit the Humane Society of Loudoun County website! \n\n\n\nIf a particular fur-baby (or two) catches your eye\, complete a no-obligation application today to expedite the application process.
URL:https://humaneloudoun.org/events/cat-adoption-event-11/
LOCATION:Petco Leesburg\, VA\, 1031 Edwards Ferry Rd NE\, Leesburg\, Virginia\, 20176\, United States
CATEGORIES:Adoptions
ATTACH;FMTTYPE=image/webp:https://humaneloudoun.org/wp-content/uploads/2026/01/Feb-26-adoption.webp
END:VEVENT
BEGIN:VEVENT
DTSTART;TZID=America/New_York:20260215T163000
DTEND;TZID=America/New_York:20260215T183000
DTSTAMP:20260422T121339
CREATED:20251214T175838Z
LAST-MODIFIED:20260130T205838Z
UID:10000704-1771173000-1771180200@humaneloudoun.org
SUMMARY:Fundraiser Bingo: HSLC
DESCRIPTION:Join us for Fundraiser Bingo\, where fun meets community impact! Whether you’re coming out to support HSLC or simply want to play a few rounds of bingo\, everyone is welcome! \n\n\n\n\n\n\n\n Free to Attend Lost Barrel Brewing donates 10% of all food sales during the event to HSLC Prizes to be won & fun guaranteed All ages welcome Sundays | 4:30–6:30 PM \n\n\n\nCome hungry and thirsty\, enjoy great company\, and help support at-risk animals in our community—one bingo card at a time! \n\n\n\nAbout this month’s non-profit: Humane Society of Loudoun CountyHSLC is a foster-based\, all-volunteer rescue that saves and improves the lives of vulnerable animals by providing care and placing adoptable animals into loving forever homes.
URL:https://humaneloudoun.org/events/fundraiser-bingo-hslc/
LOCATION:Lost Barrel Brewing\, 36138 Little River Tpke\, Middleburg\, Virginia\, 20117\, United States
ATTACH;FMTTYPE=image/webp:https://humaneloudoun.org/wp-content/uploads/2025/12/124904157_224593935685576_1098106084746466032_n.webp
ORGANIZER;CN="Lost Barrel Brewing":MAILTO:contact@lostbarrel.com
END:VEVENT
BEGIN:VEVENT
DTSTART;TZID=America/New_York:20260227T170000
DTEND;TZID=America/New_York:20260227T200000
DTSTAMP:20260422T121339
CREATED:20250426T214837Z
LAST-MODIFIED:20250426T214840Z
UID:10000602-1772211600-1772222400@humaneloudoun.org
SUMMARY:October One Vineyard Yappy Hour
DESCRIPTION:HSLC is excited to collaborate with October One Vineyard for a monthly Yappy Hour! To support our local animals\, please bring a pet food donation and you’ll be entered into a raffle for free tastings and glasses! You can also purchase raffle tickets. Your monetary donations help cover much-needed medical expenses for homeless and at-risk animals. This event will be 5-8 pm on the last Friday of every month at the October One Vineyard tasting shop in Downtown Leesburg. This event is free to the public\, so stop by and raise a glass. HSLC will be on hand to answer questions and let you know about available animals. Let’s “cheer” up our local area animals in need!
URL:https://humaneloudoun.org/events/october-one-vineyard-yappy-hour-6/2026-02-27/
LOCATION:October One Vineyard Wine Tasting Shop\, 7 Loudoun St SW\, Leesburg\, VA\, 20175\, United States
CATEGORIES:Community Event
ATTACH;FMTTYPE=image/webp:https://humaneloudoun.org/wp-content/uploads/2023/02/yappy-hour-800x600___14112144887.webp
GEO:39.1143391;-77.5659272
X-APPLE-STRUCTURED-LOCATION;VALUE=URI;X-ADDRESS=October One Vineyard Wine Tasting Shop 7 Loudoun St SW Leesburg VA 20175 United States;X-APPLE-RADIUS=500;X-TITLE=7 Loudoun St SW:geo:-77.5659272,39.1143391
END:VEVENT
END:VCALENDAR