BEGIN:VCALENDAR
VERSION:2.0
PRODID:-// - ECPv6.15.20//NONSGML v1.0//EN
CALSCALE:GREGORIAN
METHOD:PUBLISH
X-ORIGINAL-URL:https://humaneloudoun.org
X-WR-CALDESC:Events for 
REFRESH-INTERVAL;VALUE=DURATION:PT1H
X-Robots-Tag:noindex
X-PUBLISHED-TTL:PT1H
BEGIN:VTIMEZONE
TZID:America/New_York
BEGIN:DAYLIGHT
TZOFFSETFROM:-0500
TZOFFSETTO:-0400
TZNAME:EDT
DTSTART:20240310T070000
END:DAYLIGHT
BEGIN:STANDARD
TZOFFSETFROM:-0400
TZOFFSETTO:-0500
TZNAME:EST
DTSTART:20241103T060000
END:STANDARD
BEGIN:DAYLIGHT
TZOFFSETFROM:-0500
TZOFFSETTO:-0400
TZNAME:EDT
DTSTART:20250309T070000
END:DAYLIGHT
BEGIN:STANDARD
TZOFFSETFROM:-0400
TZOFFSETTO:-0500
TZNAME:EST
DTSTART:20251102T060000
END:STANDARD
BEGIN:DAYLIGHT
TZOFFSETFROM:-0500
TZOFFSETTO:-0400
TZNAME:EDT
DTSTART:20260308T070000
END:DAYLIGHT
BEGIN:STANDARD
TZOFFSETFROM:-0400
TZOFFSETTO:-0500
TZNAME:EST
DTSTART:20261101T060000
END:STANDARD
BEGIN:DAYLIGHT
TZOFFSETFROM:-0500
TZOFFSETTO:-0400
TZNAME:EDT
DTSTART:20270314T070000
END:DAYLIGHT
BEGIN:STANDARD
TZOFFSETFROM:-0400
TZOFFSETTO:-0500
TZNAME:EST
DTSTART:20271107T060000
END:STANDARD
END:VTIMEZONE
BEGIN:VEVENT
DTSTART;TZID=America/New_York:20251101T140000
DTEND;TZID=America/New_York:20251101T160000
DTSTAMP:20260422T163419
CREATED:20250708T232919Z
LAST-MODIFIED:20250919T195655Z
UID:10000691-1762005600-1762012800@humaneloudoun.org
SUMMARY:Barks in the Park
DESCRIPTION:Morven Park members and their pups are invited to celebrate the fall season during the inaugural Barks in the Park. Be sure to stop by the HSLC table to learn about our life-saving mission and pick up something for your doggy! \n\n\n\n2:00 p.m. to 4:00 p.m. on Saturday\, November 1.   \n\n\n\nAs a winner of Loudoun Now’s “Favorite Place to Walk Your Dog\,” Morven Park welcomes members to enjoy several activities:  \n\n\n\n\nPawdorable fall photo opportunities in front of the Davis Mansion  \n\n\n\nVendors selling an array of woofderful items  \n\n\n\nPup-tastic kids crafts\n\n\n\n\nEmail member@morvenpark.org if you plan to attend. We know everyone will have a pawsitively wonderful time! \n\n\n\n  
URL:https://humaneloudoun.org/events/barks-in-the-park/
LOCATION:Morven Park\, 17195 Southern Planter Lane\, Leesburg\, Virginia\, 20176\, United States
ORGANIZER;CN="Morven Park":MAILTO:marketing@morvenpark.org
END:VEVENT
BEGIN:VEVENT
DTSTART;TZID=America/New_York:20251107T180000
DTEND;TZID=America/New_York:20251107T193000
DTSTAMP:20260422T163419
CREATED:20251026T150159Z
LAST-MODIFIED:20251026T150200Z
UID:10000699-1762538400-1762543800@humaneloudoun.org
SUMMARY:First Friday Mini-Adoption Event
DESCRIPTION:The Humane Society of Loudoun County will be bringing adoptable cats to Leesburg First Friday on November 7. Be sure to come inside and see the kitties up close and in purr-son at Coldwell Banker Realty!
URL:https://humaneloudoun.org/events/first-friday-mini-adoption-event-8/
LOCATION:Coldwell Banker Realty\, 25 South King St\, Leesburg\, 20175\, United States
END:VEVENT
BEGIN:VEVENT
DTSTART;TZID=America/New_York:20251108T090000
DTEND;TZID=America/New_York:20251108T140000
DTSTAMP:20260422T163419
CREATED:20251012T172221Z
LAST-MODIFIED:20251020T172001Z
UID:10000698-1762592400-1762610400@humaneloudoun.org
SUMMARY:Pet Photos with Santa
DESCRIPTION:Here’s a Jolly Good Way to Help Animals in Need!\n\n\n\nThe Humane Society of Loudoun County is excited to be partnering once again with Van Metre Companies for “Pet Photos with Santa”! \n\n\n\nBring your fur-baby on a leash or harness to Van Metre’s Ashburn office (about 1/2 mile from Clydes). During your timeslot\, a professional photographer will take multiple photos of your pet(s) with Santa. Other humans can be in the photos\, too! Note that we use a new festive backdrop each year! \n\n\n\nThere are two packages to choose from! The basic package ($30) includes 3-5 digital photos with Santa and 1-2 goodies for your pet. The deluxe package ($50) includes everything in the basic package plus 25 50/50 raffle tickets. All proceeds help at-risk and homeless animals in our community. \n\n\n\nSign up for your preferred timeslot here. \n\n\n\nPay for your package ahead of time here. \n\n\n\n*Photos will be available via an online link 2-5 days after the event ends to allow the photographer time for editing.
URL:https://humaneloudoun.org/events/pet-photos-with-santa-2/
LOCATION:Van Metre Office\, 43045 Van Metre Dr.\, Ashburn\, 20148\, United States
ATTACH;FMTTYPE=image/webp:https://humaneloudoun.org/wp-content/uploads/2025/10/Pet-Photos-with-Santa-2025-IG2-scaled.webp
END:VEVENT
BEGIN:VEVENT
DTSTART;TZID=America/New_York:20251115T140000
DTEND;TZID=America/New_York:20251115T190000
DTSTAMP:20260422T163419
CREATED:20251102T114346Z
LAST-MODIFIED:20251102T114521Z
UID:10000701-1763215200-1763233200@humaneloudoun.org
SUMMARY:Tree Lighting Festival
DESCRIPTION:Kick off the holidays at the annual Tree Lighting Festival at Village at Leesburg!  We are so excited that HSLC has been named the official beneficiary of the 2025 Holiday Giving. All donations during this year’s holiday season will help animals in need.  \n\n\n\n\n\n\n\nJoin us for an afternoon of family-friendly entertainment from local performance groups\, carolers\, ice skating\, train rides\, and much more. Santa and Mrs. Claus will also be onsite\, and they cannot wait to snap a photo with you! Be sure to stop by the HSLC tent to check out our “Paw-fect Giving Tree” and grab freebies for you\, your family\, including your fur-babies. \n\n\n\nAll event activities will be underway to ensure there is something for all ages to enjoy! \n\n\n\nBe sure to be onsite at 6:00pm to help us countdown and light the tree!
URL:https://humaneloudoun.org/events/tree-lighting-festival/
LOCATION:VA
ATTACH;FMTTYPE=image/jpeg:https://humaneloudoun.org/wp-content/uploads/2025/11/2025_Tree-Lighting_WebEventPage_400×400.jpg
END:VEVENT
BEGIN:VEVENT
DTSTART;TZID=America/New_York:20251116T120000
DTEND;TZID=America/New_York:20251116T140000
DTSTAMP:20260422T163419
CREATED:20251026T152256Z
LAST-MODIFIED:20251107T131121Z
UID:10000700-1763294400-1763301600@humaneloudoun.org
SUMMARY:Cat Adoption Event
DESCRIPTION:HSLC has many cats and kitties hoping to find their furr-ever families.  Come meet them at the Petco in Leesburg from noon to 2pm on Sunday\, November 16. For a sneak peek of our adoptable animals\, please visit the Humane Society of Loudoun County website! \n\n\n\nIf a particular fur-baby (or two) catches your eye\, complete a no-obligation application today to expedite the application process.
URL:https://humaneloudoun.org/events/cat-adoption-event-8/
LOCATION:Petco Leesburg\, VA\, 1031 Edwards Ferry Rd NE\, Leesburg\, Virginia\, 20176\, United States
CATEGORIES:Adoptions
ATTACH;FMTTYPE=image/webp:https://humaneloudoun.org/wp-content/uploads/2025/10/Petco.webp
END:VEVENT
BEGIN:VEVENT
DTSTART;TZID=America/New_York:20251127T170000
DTEND;TZID=America/New_York:20260101T220000
DTSTAMP:20260422T163419
CREATED:20251126T220252Z
LAST-MODIFIED:20251126T220253Z
UID:10000703-1764262800-1767304800@humaneloudoun.org
SUMMARY:Woodlea Hills Lights Show
DESCRIPTION:Woodlea Hills Lights is teaming up with the Humane Society of Loudoun County (HSLC) for their 2025 light show season. The owners feel very strongly about the importance that animals play in a happy existence and believe in the mission of HSLC finding homes for animals in need. \n\n\n\nThis is the 12th year the pet-loving owners have offered the light show free to the community. HSLC is honored to be the show’s designated charity for those who choose to support this fundraiser.  Woodlea Hills Lights is matching up to $1000 in donations made through this link.
URL:https://humaneloudoun.org/events/woodlea-hills-lights/
LOCATION:Woodlea Hills Lights\, 607 Hillview Pl SW\, Leesburg\, Virginia
ATTACH;FMTTYPE=image/webp:https://humaneloudoun.org/wp-content/uploads/2025/11/358701808_738190778309762_7765398411707723898_n.webp
END:VEVENT
BEGIN:VEVENT
DTSTART;TZID=America/New_York:20251128T170000
DTEND;TZID=America/New_York:20251128T200000
DTSTAMP:20260422T163419
CREATED:20250426T214837Z
LAST-MODIFIED:20250426T214840Z
UID:10000599-1764349200-1764360000@humaneloudoun.org
SUMMARY:October One Vineyard Yappy Hour
DESCRIPTION:HSLC is excited to collaborate with October One Vineyard for a monthly Yappy Hour! To support our local animals\, please bring a pet food donation and you’ll be entered into a raffle for free tastings and glasses! You can also purchase raffle tickets. Your monetary donations help cover much-needed medical expenses for homeless and at-risk animals. This event will be 5-8 pm on the last Friday of every month at the October One Vineyard tasting shop in Downtown Leesburg. This event is free to the public\, so stop by and raise a glass. HSLC will be on hand to answer questions and let you know about available animals. Let’s “cheer” up our local area animals in need!
URL:https://humaneloudoun.org/events/october-one-vineyard-yappy-hour-6/2025-11-28/
LOCATION:October One Vineyard Wine Tasting Shop\, 7 Loudoun St SW\, Leesburg\, VA\, 20175\, United States
CATEGORIES:Community Event
ATTACH;FMTTYPE=image/webp:https://humaneloudoun.org/wp-content/uploads/2023/02/yappy-hour-800x600___14112144887.webp
GEO:39.1143391;-77.5659272
X-APPLE-STRUCTURED-LOCATION;VALUE=URI;X-ADDRESS=October One Vineyard Wine Tasting Shop 7 Loudoun St SW Leesburg VA 20175 United States;X-APPLE-RADIUS=500;X-TITLE=7 Loudoun St SW:geo:-77.5659272,39.1143391
END:VEVENT
END:VCALENDAR