BEGIN:VCALENDAR
VERSION:2.0
PRODID:-// - ECPv6.15.20//NONSGML v1.0//EN
CALSCALE:GREGORIAN
METHOD:PUBLISH
X-ORIGINAL-URL:https://humaneloudoun.org
X-WR-CALDESC:Events for 
REFRESH-INTERVAL;VALUE=DURATION:PT1H
X-Robots-Tag:noindex
X-PUBLISHED-TTL:PT1H
BEGIN:VTIMEZONE
TZID:America/New_York
BEGIN:DAYLIGHT
TZOFFSETFROM:-0500
TZOFFSETTO:-0400
TZNAME:EDT
DTSTART:20240310T070000
END:DAYLIGHT
BEGIN:STANDARD
TZOFFSETFROM:-0400
TZOFFSETTO:-0500
TZNAME:EST
DTSTART:20241103T060000
END:STANDARD
BEGIN:DAYLIGHT
TZOFFSETFROM:-0500
TZOFFSETTO:-0400
TZNAME:EDT
DTSTART:20250309T070000
END:DAYLIGHT
BEGIN:STANDARD
TZOFFSETFROM:-0400
TZOFFSETTO:-0500
TZNAME:EST
DTSTART:20251102T060000
END:STANDARD
BEGIN:DAYLIGHT
TZOFFSETFROM:-0500
TZOFFSETTO:-0400
TZNAME:EDT
DTSTART:20260308T070000
END:DAYLIGHT
BEGIN:STANDARD
TZOFFSETFROM:-0400
TZOFFSETTO:-0500
TZNAME:EST
DTSTART:20261101T060000
END:STANDARD
END:VTIMEZONE
BEGIN:VEVENT
DTSTART;TZID=America/New_York:20250702T173000
DTEND;TZID=America/New_York:20250702T193000
DTSTAMP:20260422T223959
CREATED:20250325T153936Z
LAST-MODIFIED:20250420T141009Z
UID:10000674-1751477400-1751484600@humaneloudoun.org
SUMMARY:Spanky's Yappy Hour
DESCRIPTION:Tell your furr-iends and mark your calendars! HSLC is back at Spanky’s for Yappy Hour on the 1st Wednesday of each month from 5:30 to 7:30 through October. We’ll have a table set-up outside in the back to answer questions\, sell merchandise and provide opportunities to participate in our 50/50 raffle to help animals in need! Spanky’s is generously donating 10% of food sales to HSLC so be sure to come hungry! 
URL:https://humaneloudoun.org/events/spankys-yappy-hour-10/2025-07-02/
LOCATION:Spanky’s Shenanigans\, 538 E Market St\, Leesburg\, VA\, 20176\, United States
CATEGORIES:Community Event
ATTACH;FMTTYPE=image/webp:https://humaneloudoun.org/wp-content/uploads/2025/04/487483528_1219099993552166_578244604303497525_n.webp
GEO:39.109334;-77.550771
X-APPLE-STRUCTURED-LOCATION;VALUE=URI;X-ADDRESS=Spanky’s Shenanigans 538 E Market St Leesburg VA 20176 United States;X-APPLE-RADIUS=500;X-TITLE=538 E Market St:geo:-77.550771,39.109334
END:VEVENT
BEGIN:VEVENT
DTSTART;TZID=America/New_York:20250711T080000
DTEND;TZID=America/New_York:20250720T200000
DTSTAMP:20260422T223959
CREATED:20250106T161410Z
LAST-MODIFIED:20250525T210924Z
UID:10000584-1752220800-1753041600@humaneloudoun.org
SUMMARY:"Christmas in July" Online Auction (Virtual)
DESCRIPTION:🐾 Join Us for a Pawsome Cause! 🐾 \nThe Humane Society of Loudoun County invites you to our fourth annual online auction\, dedicated to supporting at-risk animals in our community. Get ready to make a difference from the comfort of your home with our exciting array of items! Let’s come together to “raise our (virtual) paws” to provide care\, shelter\, and second chances to animals who need them most. \nThank you for your support. Together\, we can create a better tomorrow for our furry friends. 🐾 \nAll tickets\, gift cards and certificates will be mailed upon request to anywhere in the continental U.S. All other items will be available for pick-up in Leesburg\, VA\, at the conclusion of the auction. \nNote: A special thank you to all of the businesses and individuals who generously contribute to our annual auction. We truly appreciate your commitment to homeless animals across Loudoun County!
URL:https://humaneloudoun.org/events/christmas-in-july-online-auction-virtual-2/
LOCATION:Virtual\, Online via Skype\, VA\, United States
CATEGORIES:Fundraising
ATTACH;FMTTYPE=image/png:https://humaneloudoun.org/wp-content/uploads/2025/01/Copy-of-Copy-of-Copy-of-Copy-of-Copy-of-Copy-of-Copy-of-Sample-1-e1736179857340.png
END:VEVENT
BEGIN:VEVENT
DTSTART;TZID=America/New_York:20250711T080000
DTEND;TZID=America/New_York:20250720T230000
DTSTAMP:20260422T223959
CREATED:20250319T135743Z
LAST-MODIFIED:20250525T135334Z
UID:10000657-1752220800-1753052400@humaneloudoun.org
SUMMARY:Lazy Dog Fundraiser
DESCRIPTION:The Humane Society of Loudoun County invites you to join us for a fundraiser at the very PUP-ular restaurant\, Lazy Dog in Chantilly. You can help at-risk animals simply by ordering a delicious meal any time from July 11th to July 20th. Print this flyer (or take a screenshot)\, give it to your server\, and 15% of your total bill will be donated back to HSLC! Flyers will also be available at the restaurant.
URL:https://humaneloudoun.org/events/lazy-dog-fundraiser/
LOCATION:VA
ATTACH;FMTTYPE=image/webp:https://humaneloudoun.org/wp-content/uploads/2025/03/LazyDogFlyer-scaled.webp
END:VEVENT
BEGIN:VEVENT
DTSTART;TZID=America/New_York:20250713T130000
DTEND;TZID=America/New_York:20250713T150000
DTSTAMP:20260422T223959
CREATED:20250621T224134Z
LAST-MODIFIED:20250626T194232Z
UID:10000685-1752411600-1752418800@humaneloudoun.org
SUMMARY:Cat Adoption Event
DESCRIPTION:Looking for your next furry family member? We have many cats and kitties hoping to find their fur-ever homes!  Come meet them at the PetSmart in Dulles Landing from 1:00pm to 3:00pm on July 13. For a sneak peek of our adoptable animals\, please visit the Humane Society of Loudoun County website! \n\n\n\nIf a particular fur-baby (or two) catches your eye\, complete an application today to expedite the application process.
URL:https://humaneloudoun.org/events/cat-adoption-event-7/
LOCATION:PetSmart Dulles Landing\, 24570 Dulles Landing Dr\, Unit 140\, Dulles\, 20166\, United States
CATEGORIES:Adoptions
ATTACH;FMTTYPE=image/webp:https://humaneloudoun.org/wp-content/uploads/2025/06/Copy-of-Copy-of-Copy-of-Copy-of-Copy-of-Copy-of-Copy-of-Copy-of-Copy-of-Copy-of-Adoption-EVENT.webp
END:VEVENT
BEGIN:VEVENT
DTSTART;TZID=America/New_York:20250725T170000
DTEND;TZID=America/New_York:20250725T200000
DTSTAMP:20260422T223959
CREATED:20250426T214837Z
LAST-MODIFIED:20250426T214840Z
UID:10000595-1753462800-1753473600@humaneloudoun.org
SUMMARY:October One Vineyard Yappy Hour
DESCRIPTION:HSLC is excited to collaborate with October One Vineyard for a monthly Yappy Hour! To support our local animals\, please bring a pet food donation and you’ll be entered into a raffle for free tastings and glasses! You can also purchase raffle tickets. Your monetary donations help cover much-needed medical expenses for homeless and at-risk animals. This event will be 5-8 pm on the last Friday of every month at the October One Vineyard tasting shop in Downtown Leesburg. This event is free to the public\, so stop by and raise a glass. HSLC will be on hand to answer questions and let you know about available animals. Let’s “cheer” up our local area animals in need!
URL:https://humaneloudoun.org/events/october-one-vineyard-yappy-hour-6/2025-07-25/
LOCATION:October One Vineyard Wine Tasting Shop\, 7 Loudoun St SW\, Leesburg\, VA\, 20175\, United States
CATEGORIES:Community Event
ATTACH;FMTTYPE=image/webp:https://humaneloudoun.org/wp-content/uploads/2023/02/yappy-hour-800x600___14112144887.webp
GEO:39.1143391;-77.5659272
X-APPLE-STRUCTURED-LOCATION;VALUE=URI;X-ADDRESS=October One Vineyard Wine Tasting Shop 7 Loudoun St SW Leesburg VA 20175 United States;X-APPLE-RADIUS=500;X-TITLE=7 Loudoun St SW:geo:-77.5659272,39.1143391
END:VEVENT
BEGIN:VEVENT
DTSTART;TZID=America/New_York:20250726T090000
DTEND;TZID=America/New_York:20250726T160000
DTSTAMP:20260422T223959
CREATED:20250627T235037Z
LAST-MODIFIED:20250628T000531Z
UID:10000687-1753520400-1753545600@humaneloudoun.org
SUMMARY:HSLC at Capital City Cats
DESCRIPTION:Come join the Humane Society of Loudoun County at Capital City Cats on Saturday\, July 26 to meet our adoptable kitties! We’ll also have pawsome cat-related products and 50/50 raffle tickets to raise money for at-risk animals in our community. \nCapital City Cats is an annual all-breed cat show and adoption event that welcomes thousands of spectators and over 150 cats across more than 30 different breeds. In addition to the competition\, this family-friendly event features a dedicated education ring\, stuffed animal contests for the kids\, and amazing vendors with the BEST cat products and toys you won’t find anywhere else. \n\n\n\n\n\n\n\n\n\n\n\n\n\n\n\n\n\n\n\n\n\n\n\n\n\n\nTickets: Capital City Cats Cat Show in Chantilly – Checkout
URL:https://humaneloudoun.org/events/hslc-at-capital-city-cats-2/
LOCATION:Dulles Expo Center\, 4320 Chantilly Shopping Center\, Chantilly\, 20151\, United States
ATTACH;FMTTYPE=image/png:https://humaneloudoun.org/wp-content/uploads/2024/06/HSLC-will-be-joining.png
END:VEVENT
END:VCALENDAR