BEGIN:VCALENDAR
VERSION:2.0
PRODID:-// - ECPv6.15.20//NONSGML v1.0//EN
CALSCALE:GREGORIAN
METHOD:PUBLISH
X-ORIGINAL-URL:https://humaneloudoun.org
X-WR-CALDESC:Events for 
REFRESH-INTERVAL;VALUE=DURATION:PT1H
X-Robots-Tag:noindex
X-PUBLISHED-TTL:PT1H
BEGIN:VTIMEZONE
TZID:America/New_York
BEGIN:DAYLIGHT
TZOFFSETFROM:-0500
TZOFFSETTO:-0400
TZNAME:EDT
DTSTART:20240310T070000
END:DAYLIGHT
BEGIN:STANDARD
TZOFFSETFROM:-0400
TZOFFSETTO:-0500
TZNAME:EST
DTSTART:20241103T060000
END:STANDARD
BEGIN:DAYLIGHT
TZOFFSETFROM:-0500
TZOFFSETTO:-0400
TZNAME:EDT
DTSTART:20250309T070000
END:DAYLIGHT
BEGIN:STANDARD
TZOFFSETFROM:-0400
TZOFFSETTO:-0500
TZNAME:EST
DTSTART:20251102T060000
END:STANDARD
BEGIN:DAYLIGHT
TZOFFSETFROM:-0500
TZOFFSETTO:-0400
TZNAME:EDT
DTSTART:20260308T070000
END:DAYLIGHT
BEGIN:STANDARD
TZOFFSETFROM:-0400
TZOFFSETTO:-0500
TZNAME:EST
DTSTART:20261101T060000
END:STANDARD
END:VTIMEZONE
BEGIN:VEVENT
DTSTART;TZID=America/New_York:20250604T173000
DTEND;TZID=America/New_York:20250604T193000
DTSTAMP:20260423T001405
CREATED:20250325T153936Z
LAST-MODIFIED:20250420T141009Z
UID:10000673-1749058200-1749065400@humaneloudoun.org
SUMMARY:Spanky's Yappy Hour
DESCRIPTION:Tell your furr-iends and mark your calendars! HSLC is back at Spanky’s for Yappy Hour on the 1st Wednesday of each month from 5:30 to 7:30 through October. We’ll have a table set-up outside in the back to answer questions\, sell merchandise and provide opportunities to participate in our 50/50 raffle to help animals in need! Spanky’s is generously donating 10% of food sales to HSLC so be sure to come hungry! 
URL:https://humaneloudoun.org/events/spankys-yappy-hour-10/2025-06-04/
LOCATION:Spanky’s Shenanigans\, 538 E Market St\, Leesburg\, VA\, 20176\, United States
CATEGORIES:Community Event
ATTACH;FMTTYPE=image/webp:https://humaneloudoun.org/wp-content/uploads/2025/04/487483528_1219099993552166_578244604303497525_n.webp
GEO:39.109334;-77.550771
X-APPLE-STRUCTURED-LOCATION;VALUE=URI;X-ADDRESS=Spanky’s Shenanigans 538 E Market St Leesburg VA 20176 United States;X-APPLE-RADIUS=500;X-TITLE=538 E Market St:geo:-77.550771,39.109334
END:VEVENT
BEGIN:VEVENT
DTSTART;TZID=America/New_York:20250608T100000
DTEND;TZID=America/New_York:20250608T150000
DTSTAMP:20260423T001405
CREATED:20250418T132005Z
LAST-MODIFIED:20250511T150049Z
UID:10000672-1749376800-1749394800@humaneloudoun.org
SUMMARY:Woofies Paws in the Park
DESCRIPTION:We’re so excited to announce the return of Woofie’s Paws in the Park\, an annual pet adoption and community event in Northern Virginia\, and we hope to see you there! \n\n\n\nThis fun\, family-friendly event brings together local animal shelters and rescues (like HSLC)\, pet owners\, and local businesses for a day of adoptions\, fun\, food\, shopping\, and community connection. \n\n\n\nMore details and exciting announcements to come!
URL:https://humaneloudoun.org/events/woofies-paws-in-the-park/
LOCATION:Frying Pan Farm Park\, 2709 West Ox Rd\, Herndon\, Virginia\, 20171
ATTACH;FMTTYPE=image/webp:https://humaneloudoun.org/wp-content/uploads/2025/04/488304408_1170953455041699_8906938860707424290_n.webp
END:VEVENT
BEGIN:VEVENT
DTSTART;TZID=America/New_York:20250609T003000
DTEND;TZID=America/New_York:20250613T233000
DTSTAMP:20260423T001405
CREATED:20250525T154909Z
LAST-MODIFIED:20250525T155951Z
UID:10000683-1749429000-1749857400@humaneloudoun.org
SUMMARY:Happiest at Home: A Virtual Adoption Event
DESCRIPTION:Not every pet is a social butterfly. Some just want a couch\, a quiet corner\, and a person to love.Welcome to Happiest at Home—a virtual adoption event featuring our most lovable homebodies. These animals might not “do” adoption events\, but they do cuddles\, companionship\, and unconditional love. Check out their stories on HSLC’s social media channels\, June 9-13. Then\, complete a no-obligation application and arrange a comfortable meet-and-greet for your new best friend. Please help us match these home-loving companions with their purrfect humans!
URL:https://humaneloudoun.org/events/happiest-at-home-a-virtual-adoption-event/
LOCATION:VA
CATEGORIES:Adoptions
ATTACH;FMTTYPE=image/webp:https://humaneloudoun.org/wp-content/uploads/2025/05/How-not-to-fall-in-love-with-that-look.webp
ORGANIZER;CN="Humane Society of Loudoun County":MAILTO:adoptions@humaneloudoun.org
END:VEVENT
BEGIN:VEVENT
DTSTART;TZID=America/New_York:20250621T080000
DTEND;TZID=America/New_York:20250621T120000
DTSTAMP:20260423T001405
CREATED:20250307T211424Z
LAST-MODIFIED:20250307T214431Z
UID:10000652-1750492800-1750507200@humaneloudoun.org
SUMMARY:Grillz 2025
DESCRIPTION:It has been a long-standing tradition that every spring and summer Valley Energy hosts GRILLZ\, an event that allows members of our community to fill their propane grill tanks at a discounted rate ($9.99) and give back to the community at the same time. Every other Saturday in Purcellville VA\, Valley Energy selects one of their favorite non-profits to donate portions of the proceeds to. HSLC is honored to be the beneficiary of the GRILLZ event on June 21 from 8am to 12pm.
URL:https://humaneloudoun.org/events/grillz-2024-2/
LOCATION:Valley Energy\, 103 Hirst Road\, Purcellville\, 20132\, United States
CATEGORIES:Fundraising
ATTACH;FMTTYPE=image/png:https://humaneloudoun.org/wp-content/uploads/2025/03/0007.png
END:VEVENT
BEGIN:VEVENT
DTSTART;TZID=America/New_York:20250621T130000
DTEND;TZID=America/New_York:20250621T150000
DTSTAMP:20260423T001405
CREATED:20250523T192112Z
LAST-MODIFIED:20250523T192903Z
UID:10000682-1750510800-1750518000@humaneloudoun.org
SUMMARY:HSLC Adoption Event - Sterling
DESCRIPTION:HSLC has many cats and kitties hoping to find their fur-ever families.  Come meet them at the Pet Supplies Plus in Sterling from 1pm to 3pm on Saturday\, June 21. For a sneak peek of our adoptable animals\, please visit the Humane Society of Loudoun County website! \nIf a particular fur-baby (or two) catches your eye\, complete a no-obligation application today to expedite the application process.
URL:https://humaneloudoun.org/events/hslc-adoption-event-sterling-6/
LOCATION:Pet Supplies Plus\, 21800 Town Center Plaza\, Sterling\, Virginia\, 20164\, United States
CATEGORIES:Adoptions
ATTACH;FMTTYPE=image/webp:https://humaneloudoun.org/wp-content/uploads/2025/05/Copy-of-Copy-of-Copy-of-Copy-of-Copy-of-Copy-of-Copy-of-Copy-of-Adoption-EVENT.webp
END:VEVENT
BEGIN:VEVENT
DTSTART;TZID=America/New_York:20250627T170000
DTEND;TZID=America/New_York:20250627T200000
DTSTAMP:20260423T001405
CREATED:20250426T214837Z
LAST-MODIFIED:20250426T214840Z
UID:10000594-1751043600-1751054400@humaneloudoun.org
SUMMARY:October One Vineyard Yappy Hour
DESCRIPTION:HSLC is excited to collaborate with October One Vineyard for a monthly Yappy Hour! To support our local animals\, please bring a pet food donation and you’ll be entered into a raffle for free tastings and glasses! You can also purchase raffle tickets. Your monetary donations help cover much-needed medical expenses for homeless and at-risk animals. This event will be 5-8 pm on the last Friday of every month at the October One Vineyard tasting shop in Downtown Leesburg. This event is free to the public\, so stop by and raise a glass. HSLC will be on hand to answer questions and let you know about available animals. Let’s “cheer” up our local area animals in need!
URL:https://humaneloudoun.org/events/october-one-vineyard-yappy-hour-6/2025-06-27/
LOCATION:October One Vineyard Wine Tasting Shop\, 7 Loudoun St SW\, Leesburg\, VA\, 20175\, United States
CATEGORIES:Community Event
ATTACH;FMTTYPE=image/webp:https://humaneloudoun.org/wp-content/uploads/2023/02/yappy-hour-800x600___14112144887.webp
GEO:39.1143391;-77.5659272
X-APPLE-STRUCTURED-LOCATION;VALUE=URI;X-ADDRESS=October One Vineyard Wine Tasting Shop 7 Loudoun St SW Leesburg VA 20175 United States;X-APPLE-RADIUS=500;X-TITLE=7 Loudoun St SW:geo:-77.5659272,39.1143391
END:VEVENT
END:VCALENDAR