BEGIN:VCALENDAR
VERSION:2.0
PRODID:-// - ECPv6.15.20//NONSGML v1.0//EN
CALSCALE:GREGORIAN
METHOD:PUBLISH
X-ORIGINAL-URL:https://humaneloudoun.org
X-WR-CALDESC:Events for 
REFRESH-INTERVAL;VALUE=DURATION:PT1H
X-Robots-Tag:noindex
X-PUBLISHED-TTL:PT1H
BEGIN:VTIMEZONE
TZID:America/New_York
BEGIN:DAYLIGHT
TZOFFSETFROM:-0500
TZOFFSETTO:-0400
TZNAME:EDT
DTSTART:20220313T070000
END:DAYLIGHT
BEGIN:STANDARD
TZOFFSETFROM:-0400
TZOFFSETTO:-0500
TZNAME:EST
DTSTART:20221106T060000
END:STANDARD
BEGIN:DAYLIGHT
TZOFFSETFROM:-0500
TZOFFSETTO:-0400
TZNAME:EDT
DTSTART:20230312T070000
END:DAYLIGHT
BEGIN:STANDARD
TZOFFSETFROM:-0400
TZOFFSETTO:-0500
TZNAME:EST
DTSTART:20231105T060000
END:STANDARD
BEGIN:DAYLIGHT
TZOFFSETFROM:-0500
TZOFFSETTO:-0400
TZNAME:EDT
DTSTART:20240310T070000
END:DAYLIGHT
BEGIN:STANDARD
TZOFFSETFROM:-0400
TZOFFSETTO:-0500
TZNAME:EST
DTSTART:20241103T060000
END:STANDARD
END:VTIMEZONE
BEGIN:VEVENT
DTSTART;TZID=America/New_York:20230930T113000
DTEND;TZID=America/New_York:20230930T150000
DTSTAMP:20260423T084652
CREATED:20230804T143925Z
LAST-MODIFIED:20230913T181454Z
UID:10000391-1696073400-1696086000@humaneloudoun.org
SUMMARY:HSLC at the Movies - Paw Patrol: The Mighty Movie
DESCRIPTION:The Humane Society of Loudoun County (HSLC) will be at the Alamo Drafthouse at One Loudoun for Paw Patrol: The Mighty Movie (see premise below)\, the sequel to Paw Patrol: The Movie.  Come early and stop by the HSLC tables for free giveaways for the kids\, HSLC merch for the adults and animals for adoption! \nFor times and tickets\, visit the Alamo website. \nPremise: When a magical meteor crash-lands in Adventure City\, it gives the PAW Patrol pups superpowers\, transforming them into The MIGHTY PUPS! For Skye\, the smallest member of the team\, her new powers are a dream come true. But things take a turn for the worse when the pups’ arch-rival Humdinger breaks out of prison and teams up with a mad scientist to steal the superpowers for the two villains. With the fate of Adventure City hanging in the balance\, the Mighty Pups have to stop the supervillains before it’s too late\, and Skye will need to learn that even the smallest pup can make the biggest difference. \nWatch the trailer! \n 
URL:https://humaneloudoun.org/events/hslc-at-the-movies-paw-patrol-the-mighty-movie/
LOCATION:Alamo Drafthouse\, 20575 Easthampton Plaza\, Ashburn\, VA\, 20147\, United States
CATEGORIES:Adoptions,Public Awareness
ATTACH;FMTTYPE=image/png:https://humaneloudoun.org/wp-content/uploads/2023/08/Copy-of-Copy-of-HSLC-AT-the-Alamo-Drafthouse.png
GEO:39.0521977;-77.4550486
X-APPLE-STRUCTURED-LOCATION;VALUE=URI;X-ADDRESS=Alamo Drafthouse 20575 Easthampton Plaza Ashburn VA 20147 United States;X-APPLE-RADIUS=500;X-TITLE=20575 Easthampton Plaza:geo:-77.4550486,39.0521977
END:VEVENT
BEGIN:VEVENT
DTSTART;TZID=America/New_York:20230916T120000
DTEND;TZID=America/New_York:20230916T160000
DTSTAMP:20260423T084652
CREATED:20230821T160834Z
LAST-MODIFIED:20230821T160834Z
UID:10000393-1694865600-1694880000@humaneloudoun.org
SUMMARY:HSLC at Pet Festival
DESCRIPTION:Calling all furrrrriends! \nJoin HSLC for the annual Pet Festival at the Village of Leesburg on Saturday\, September 16 from 12:00-4:00pm for an afternoon full of tail-wagging fun! Enjoy pet exhibitors\, a luring course\, doggy ball pit\, balloon artist\, caricaturist\, and much more! \nWe are excited for Leesburg’s Got Talent – Pet Edition brought to you by Wiggle Butt and Whiskers! This event will be FREE and is sure to provide fun for everyone. The contest will feature three levels and even a round of Musical Sits. To learn more and register contact Wiggle Butt and Whiskers via phone 757.522.7155\, or direct message on Facebook or Instagram.
URL:https://humaneloudoun.org/events/hslc-at-pet-festival-2/
LOCATION:Village at Leesburg\, 1602 Village Market Blvd. SE\, Leesburg\, VA\, 20175\, United States
CATEGORIES:Community Event,Public Awareness
ATTACH;FMTTYPE=image/png:https://humaneloudoun.org/wp-content/uploads/2023/08/2023_PetFestival_EventStyle1_400×280.png
GEO:39.089202;-77.5242316
X-APPLE-STRUCTURED-LOCATION;VALUE=URI;X-ADDRESS=Village at Leesburg 1602 Village Market Blvd. SE Leesburg VA 20175 United States;X-APPLE-RADIUS=500;X-TITLE=1602 Village Market Blvd. SE:geo:-77.5242316,39.089202
END:VEVENT
BEGIN:VEVENT
DTSTART;TZID=America/New_York:20230909T123000
DTEND;TZID=America/New_York:20230909T150000
DTSTAMP:20260423T084652
CREATED:20220801T142852Z
LAST-MODIFIED:20230821T164826Z
UID:10000314-1694262600-1694271600@humaneloudoun.org
SUMMARY:HSLC at the Movies - "CatVideoFest"
DESCRIPTION:The Humane Society of Loudoun County (HSLC) will be at the Alamo Drafthouse at One Loudoun for CatVideoFest – the world’s #1 cat video festival! Come early and stop by the HSLC tables for free giveaways\, HSLC merch and…fingers and paws crossed…CATS!  Also\, Alamo will be donating a % of gross ticket sales to the Humane Society of Loudoun County! \nTimes and tickets: https://drafthouse.com/northern-virginia/show/catvideofest-2023 \nMore about CatVideoFest: CatVideoFest is a compilation reel of the latest and best cat videos culled from countless hours of unique submissions and sourced animations\, music videos\, and classic internet powerhouses. CatVideoFest is a joyous communal experience\, only available in theaters\, and raises money for cats in need through partnerships with local cat charities to best serve cats in the area. \n  \n 
URL:https://humaneloudoun.org/events/hslc-at-the-movies-catvideofest/
LOCATION:Alamo Drafthouse\, 20575 Easthampton Plaza\, Ashburn\, VA\, 20147\, United States
CATEGORIES:Adoptions,Public Awareness
ATTACH;FMTTYPE=image/png:https://humaneloudoun.org/wp-content/uploads/2022/08/Copy-of-HSLC-AT-the-Alamo-Drafthouse-1.png
GEO:39.0521977;-77.4550486
X-APPLE-STRUCTURED-LOCATION;VALUE=URI;X-ADDRESS=Alamo Drafthouse 20575 Easthampton Plaza Ashburn VA 20147 United States;X-APPLE-RADIUS=500;X-TITLE=20575 Easthampton Plaza:geo:-77.4550486,39.0521977
END:VEVENT
BEGIN:VEVENT
DTSTART;TZID=America/New_York:20230708T080000
DTEND;TZID=America/New_York:20230708T120000
DTSTAMP:20260423T084652
CREATED:20230401T230042Z
LAST-MODIFIED:20230501T124700Z
UID:10000384-1688803200-1688817600@humaneloudoun.org
SUMMARY:HSLC at Leesburg Farmers Market
DESCRIPTION:Stop by the Humane Society of Loudoun County‘s tent while shopping at the Leesburg Farmers Market on July 8 and enter our free raffle! Please bring adult dog and cat food (unopened\, unexpired and non-prescription) to donate to the Loudoun Pet Pantry. The pantry collects pet food to help keep companion animals in their loving homes during difficult times. In 2022\, the pantry provided over 24\,000 pounds of pet food to struggling families in Loudoun County. HSLC will also be collecting monetary donations to help the at-risk and homeless animals in our community.
URL:https://humaneloudoun.org/events/hslc-at-leesburg-farmers-market/
LOCATION:Virginia Village Shopping Center\, Catoctin Circle\, SE\, Leesburg\, VA\, 20175\, United States
CATEGORIES:Community Event,Public Awareness
ATTACH;FMTTYPE=image/png:https://humaneloudoun.org/wp-content/uploads/2023/04/Copy-of-Copy-of-Copy-of-Copy-of-Adoption-EVENT.png
GEO:39.1069936;-77.561507
X-APPLE-STRUCTURED-LOCATION;VALUE=URI;X-ADDRESS=Virginia Village Shopping Center Catoctin Circle SE Leesburg VA 20175 United States;X-APPLE-RADIUS=500;X-TITLE=Catoctin Circle\, SE:geo:-77.561507,39.1069936
END:VEVENT
BEGIN:VEVENT
DTSTART;TZID=America/New_York:20230430T100000
DTEND;TZID=America/New_York:20230430T160000
DTSTAMP:20260423T084652
CREATED:20230325T192001Z
LAST-MODIFIED:20231120T021401Z
UID:10000383-1682848800-1682870400@humaneloudoun.org
SUMMARY:Summit Ropes Climb for a Cause
DESCRIPTION:Come out with friends and family to enjoy the largest indoor ropes adventure in the U.S.!  The Humane Society of Loudoun County (HSLC) will receive 10% of ticket sales on April 30th!  We will be on site from 10am to 4pm awarding a variety of prizes for completed obstacles! Slots will fill up quickly so lock in your time-slot now!
URL:https://humaneloudoun.org/events/summit-ropes-climb-for-a-cause/
LOCATION:Summit Ropes\, 44810 OLD OX ROAD\, Sterling\, VA\, 20165\, United States
CATEGORIES:Fundraising,Public Awareness
ATTACH;FMTTYPE=image/jpeg:https://humaneloudoun.org/wp-content/uploads/2023/03/Final-Climb-for-a-cause-flyer-2023-1-scaled-e1680384548995.jpg
GEO:38.9862077;-77.4500285
X-APPLE-STRUCTURED-LOCATION;VALUE=URI;X-ADDRESS=Summit Ropes 44810 OLD OX ROAD Sterling VA 20165 United States;X-APPLE-RADIUS=500;X-TITLE=44810 OLD OX ROAD:geo:-77.4500285,38.9862077
END:VEVENT
END:VCALENDAR