BEGIN:VCALENDAR
VERSION:2.0
PRODID:-// - ECPv6.15.20//NONSGML v1.0//EN
CALSCALE:GREGORIAN
METHOD:PUBLISH
X-ORIGINAL-URL:https://humaneloudoun.org
X-WR-CALDESC:Events for 
REFRESH-INTERVAL;VALUE=DURATION:PT1H
X-Robots-Tag:noindex
X-PUBLISHED-TTL:PT1H
BEGIN:VTIMEZONE
TZID:America/New_York
BEGIN:DAYLIGHT
TZOFFSETFROM:-0500
TZOFFSETTO:-0400
TZNAME:EDT
DTSTART:20250309T070000
END:DAYLIGHT
BEGIN:STANDARD
TZOFFSETFROM:-0400
TZOFFSETTO:-0500
TZNAME:EST
DTSTART:20251102T060000
END:STANDARD
BEGIN:DAYLIGHT
TZOFFSETFROM:-0500
TZOFFSETTO:-0400
TZNAME:EDT
DTSTART:20260308T070000
END:DAYLIGHT
BEGIN:STANDARD
TZOFFSETFROM:-0400
TZOFFSETTO:-0500
TZNAME:EST
DTSTART:20261101T060000
END:STANDARD
BEGIN:DAYLIGHT
TZOFFSETFROM:-0500
TZOFFSETTO:-0400
TZNAME:EDT
DTSTART:20270314T070000
END:DAYLIGHT
BEGIN:STANDARD
TZOFFSETFROM:-0400
TZOFFSETTO:-0500
TZNAME:EST
DTSTART:20271107T060000
END:STANDARD
END:VTIMEZONE
BEGIN:VEVENT
DTSTART;TZID=America/New_York:20260324T000000
DTEND;TZID=America/New_York:20260324T233000
DTSTAMP:20260422T175819
CREATED:20251231T202248Z
LAST-MODIFIED:20251231T202406Z
UID:10000706-1774310400-1774395000@humaneloudoun.org
SUMMARY:Give Choose (Virtual)
DESCRIPTION:Mark your calendar for Give Choose on March 24\, 2026! Give Choose is a 24-hour day of giving organized by the Community Foundation for Loudoun and Northern Fauquier Counties that inspires individuals to come together and support local non-profit organizations like the Humane Society of Loudoun County (HSLC). You can play a pivotal role in the success of Give Choose\, not just with your life-saving donation\, but by spreading the word about this critical campaign. Every like\, comment and share on social media means we are reaching more people who can help the at-risk animals in our community. Thank you for supporting more happy endings!
URL:https://humaneloudoun.org/events/give-choose-virtual/
CATEGORIES:Fundraising,Public Awareness
ATTACH;FMTTYPE=image/png:https://humaneloudoun.org/wp-content/uploads/2022/02/GIveChooseLogo-e1676655219409.png
END:VEVENT
END:VCALENDAR