BEGIN:VCALENDAR
VERSION:2.0
PRODID:-// - ECPv6.15.20//NONSGML v1.0//EN
CALSCALE:GREGORIAN
METHOD:PUBLISH
X-ORIGINAL-URL:https://humaneloudoun.org
X-WR-CALDESC:Events for 
REFRESH-INTERVAL;VALUE=DURATION:PT1H
X-Robots-Tag:noindex
X-PUBLISHED-TTL:PT1H
BEGIN:VTIMEZONE
TZID:America/New_York
BEGIN:DAYLIGHT
TZOFFSETFROM:-0500
TZOFFSETTO:-0400
TZNAME:EDT
DTSTART:20230312T070000
END:DAYLIGHT
BEGIN:STANDARD
TZOFFSETFROM:-0400
TZOFFSETTO:-0500
TZNAME:EST
DTSTART:20231105T060000
END:STANDARD
BEGIN:DAYLIGHT
TZOFFSETFROM:-0500
TZOFFSETTO:-0400
TZNAME:EDT
DTSTART:20240310T070000
END:DAYLIGHT
BEGIN:STANDARD
TZOFFSETFROM:-0400
TZOFFSETTO:-0500
TZNAME:EST
DTSTART:20241103T060000
END:STANDARD
BEGIN:DAYLIGHT
TZOFFSETFROM:-0500
TZOFFSETTO:-0400
TZNAME:EDT
DTSTART:20250309T070000
END:DAYLIGHT
BEGIN:STANDARD
TZOFFSETFROM:-0400
TZOFFSETTO:-0500
TZNAME:EST
DTSTART:20251102T060000
END:STANDARD
END:VTIMEZONE
BEGIN:VEVENT
DTSTART;TZID=America/New_York:20241016T173000
DTEND;TZID=America/New_York:20241016T193000
DTSTAMP:20260425T224315
CREATED:20240927T180156Z
LAST-MODIFIED:20240927T180208Z
UID:10000494-1729099800-1729107000@humaneloudoun.org
SUMMARY:Spanky's Yappy Hour
DESCRIPTION:Tell your furr-iends and mark your calendars! HSLC is back at Spanky’s for Yappy Hour on the 1st and 3rd Wednesday of each month from 5:30 to 7:30 through October. We’ll have a table set-up outside in the back to answer questions and sell merchandise! And\, back by PUP-ular demand\, our 50/50 raffle will run through October at which time two lucky winners will be announced! Spanky’s is generously donating 10% of food sales to HSLC so be sure to come hungry! \n 
URL:https://humaneloudoun.org/events/spankys-yappy-hour-9/
LOCATION:Spanky’s Shenanigans\, 538 E Market St\, Leesburg\, VA\, 20176\, United States
CATEGORIES:Community Event
ATTACH;FMTTYPE=image/jpeg:https://humaneloudoun.org/wp-content/uploads/2024/04/Spankys-1.jpg
GEO:39.109334;-77.550771
X-APPLE-STRUCTURED-LOCATION;VALUE=URI;X-ADDRESS=Spanky’s Shenanigans 538 E Market St Leesburg VA 20176 United States;X-APPLE-RADIUS=500;X-TITLE=538 E Market St:geo:-77.550771,39.109334
END:VEVENT
END:VCALENDAR