BEGIN:VCALENDAR
VERSION:2.0
PRODID:-// - ECPv6.15.20//NONSGML v1.0//EN
CALSCALE:GREGORIAN
METHOD:PUBLISH
X-ORIGINAL-URL:https://humaneloudoun.org
X-WR-CALDESC:Events for 
REFRESH-INTERVAL;VALUE=DURATION:PT1H
X-Robots-Tag:noindex
X-PUBLISHED-TTL:PT1H
BEGIN:VTIMEZONE
TZID:America/New_York
BEGIN:DAYLIGHT
TZOFFSETFROM:-0500
TZOFFSETTO:-0400
TZNAME:EDT
DTSTART:20220313T070000
END:DAYLIGHT
BEGIN:STANDARD
TZOFFSETFROM:-0400
TZOFFSETTO:-0500
TZNAME:EST
DTSTART:20221106T060000
END:STANDARD
BEGIN:DAYLIGHT
TZOFFSETFROM:-0500
TZOFFSETTO:-0400
TZNAME:EDT
DTSTART:20230312T070000
END:DAYLIGHT
BEGIN:STANDARD
TZOFFSETFROM:-0400
TZOFFSETTO:-0500
TZNAME:EST
DTSTART:20231105T060000
END:STANDARD
BEGIN:DAYLIGHT
TZOFFSETFROM:-0500
TZOFFSETTO:-0400
TZNAME:EDT
DTSTART:20240310T070000
END:DAYLIGHT
BEGIN:STANDARD
TZOFFSETFROM:-0400
TZOFFSETTO:-0500
TZNAME:EST
DTSTART:20241103T060000
END:STANDARD
END:VTIMEZONE
BEGIN:VEVENT
DTSTART;TZID=America/New_York:20230825T160000
DTEND;TZID=America/New_York:20230825T190000
DTSTAMP:20260424T205659
CREATED:20230221T153932Z
LAST-MODIFIED:20230221T153932Z
UID:10000344-1692979200-1692990000@humaneloudoun.org
SUMMARY:October One Vineyard Yappy Hour
DESCRIPTION:HSLC is excited to collaborate with October One Vineyard for a monthly Yappy Hour! To support our local animals\, please bring a pet food donation and you’ll be entered into a raffle for free tastings and glasses! You can also purchase raffle tickets. Your monetary donations help cover much-needed medical expenses for homeless and at-risk animals. This event will be 4-7 pm on the last Friday of every month at the October One Vineyard tasting shop in Downtown Leesburg. This event is free to the public\, so stop by and raise a glass. HSLC will be on hand to answer questions and let you know about available animals. Let’s “cheer” up our local area animals in need!
URL:https://humaneloudoun.org/events/october-one-vineyard-yappy-hour/2023-08-25/
LOCATION:October One Vineyard Wine Tasting Shop\, 7 Loudoun St SW\, Leesburg\, VA\, 20175\, United States
CATEGORIES:Community Event
ATTACH;FMTTYPE=image/jpeg:https://humaneloudoun.org/wp-content/uploads/2023/01/YH-Graphic.jpg
GEO:39.1143391;-77.5659272
X-APPLE-STRUCTURED-LOCATION;VALUE=URI;X-ADDRESS=October One Vineyard Wine Tasting Shop 7 Loudoun St SW Leesburg VA 20175 United States;X-APPLE-RADIUS=500;X-TITLE=7 Loudoun St SW:geo:-77.5659272,39.1143391
END:VEVENT
BEGIN:VEVENT
DTSTART;TZID=America/New_York:20230823T170000
DTEND;TZID=America/New_York:20230823T190000
DTSTAMP:20260424T205659
CREATED:20230227T183744Z
LAST-MODIFIED:20230227T183744Z
UID:10000379-1692810000-1692817200@humaneloudoun.org
SUMMARY:Spanky's Yappy Hour
DESCRIPTION:HSLC is back at Spanky’s for Yappy Hour on the 2nd and 4th Wednesday of each month from April through October. We will have a table set-up outside in the back to promote our animals and sell merchandise plus 50/50 raffle tickets (with a twist!)  Join us for good food\, drinks\, and lots and lots of doggies! \n 
URL:https://humaneloudoun.org/events/spankys-yappy-hour/2023-08-23/
LOCATION:Spanky’s Shenanigans\, 538 E Market St\, Leesburg\, VA\, 20176\, United States
CATEGORIES:Community Event
ATTACH;FMTTYPE=image/jpeg:https://humaneloudoun.org/wp-content/uploads/2023/02/Spankys-e1676573654900.jpg
GEO:39.109334;-77.550771
X-APPLE-STRUCTURED-LOCATION;VALUE=URI;X-ADDRESS=Spanky’s Shenanigans 538 E Market St Leesburg VA 20176 United States;X-APPLE-RADIUS=500;X-TITLE=538 E Market St:geo:-77.550771,39.109334
END:VEVENT
BEGIN:VEVENT
DTSTART;TZID=America/New_York:20230809T170000
DTEND;TZID=America/New_York:20230809T190000
DTSTAMP:20260424T205659
CREATED:20230216T184340Z
LAST-MODIFIED:20230227T183608Z
UID:10000365-1691600400-1691607600@humaneloudoun.org
SUMMARY:Spanky's Yappy Hour
DESCRIPTION:HSLC is back at Spanky’s for Yappy Hour on the 2nd and 4th Wednesday of each month from April through October. We will have a table set-up outside in the back to promote our animals and sell merchandise plus 50/50 raffle tickets (with a twist!)  Join us for good food\, drinks\, and lots and lots of doggies! \n 
URL:https://humaneloudoun.org/events/spankys-yappy-hour-2/2023-08-09/
LOCATION:Spanky’s Shenanigans\, 538 E Market St\, Leesburg\, VA\, 20176\, United States
CATEGORIES:Community Event
ATTACH;FMTTYPE=image/jpeg:https://humaneloudoun.org/wp-content/uploads/2023/02/Spankys-e1676573654900.jpg
GEO:39.109334;-77.550771
X-APPLE-STRUCTURED-LOCATION;VALUE=URI;X-ADDRESS=Spanky’s Shenanigans 538 E Market St Leesburg VA 20176 United States;X-APPLE-RADIUS=500;X-TITLE=538 E Market St:geo:-77.550771,39.109334
END:VEVENT
BEGIN:VEVENT
DTSTART;TZID=America/New_York:20230728T160000
DTEND;TZID=America/New_York:20230728T190000
DTSTAMP:20260424T205659
CREATED:20230221T153932Z
LAST-MODIFIED:20230221T153932Z
UID:10000343-1690560000-1690570800@humaneloudoun.org
SUMMARY:October One Vineyard Yappy Hour
DESCRIPTION:HSLC is excited to collaborate with October One Vineyard for a monthly Yappy Hour! To support our local animals\, please bring a pet food donation and you’ll be entered into a raffle for free tastings and glasses! You can also purchase raffle tickets. Your monetary donations help cover much-needed medical expenses for homeless and at-risk animals. This event will be 4-7 pm on the last Friday of every month at the October One Vineyard tasting shop in Downtown Leesburg. This event is free to the public\, so stop by and raise a glass. HSLC will be on hand to answer questions and let you know about available animals. Let’s “cheer” up our local area animals in need!
URL:https://humaneloudoun.org/events/october-one-vineyard-yappy-hour/2023-07-28/
LOCATION:October One Vineyard Wine Tasting Shop\, 7 Loudoun St SW\, Leesburg\, VA\, 20175\, United States
CATEGORIES:Community Event
ATTACH;FMTTYPE=image/jpeg:https://humaneloudoun.org/wp-content/uploads/2023/01/YH-Graphic.jpg
GEO:39.1143391;-77.5659272
X-APPLE-STRUCTURED-LOCATION;VALUE=URI;X-ADDRESS=October One Vineyard Wine Tasting Shop 7 Loudoun St SW Leesburg VA 20175 United States;X-APPLE-RADIUS=500;X-TITLE=7 Loudoun St SW:geo:-77.5659272,39.1143391
END:VEVENT
BEGIN:VEVENT
DTSTART;TZID=America/New_York:20230726T170000
DTEND;TZID=America/New_York:20230726T190000
DTSTAMP:20260424T205659
CREATED:20230227T183744Z
LAST-MODIFIED:20230227T183744Z
UID:10000378-1690390800-1690398000@humaneloudoun.org
SUMMARY:Spanky's Yappy Hour
DESCRIPTION:HSLC is back at Spanky’s for Yappy Hour on the 2nd and 4th Wednesday of each month from April through October. We will have a table set-up outside in the back to promote our animals and sell merchandise plus 50/50 raffle tickets (with a twist!)  Join us for good food\, drinks\, and lots and lots of doggies! \n 
URL:https://humaneloudoun.org/events/spankys-yappy-hour/2023-07-26/
LOCATION:Spanky’s Shenanigans\, 538 E Market St\, Leesburg\, VA\, 20176\, United States
CATEGORIES:Community Event
ATTACH;FMTTYPE=image/jpeg:https://humaneloudoun.org/wp-content/uploads/2023/02/Spankys-e1676573654900.jpg
GEO:39.109334;-77.550771
X-APPLE-STRUCTURED-LOCATION;VALUE=URI;X-ADDRESS=Spanky’s Shenanigans 538 E Market St Leesburg VA 20176 United States;X-APPLE-RADIUS=500;X-TITLE=538 E Market St:geo:-77.550771,39.109334
END:VEVENT
BEGIN:VEVENT
DTSTART;TZID=America/New_York:20230712T170000
DTEND;TZID=America/New_York:20230712T190000
DTSTAMP:20260424T205659
CREATED:20230216T184340Z
LAST-MODIFIED:20230227T183608Z
UID:10000364-1689181200-1689188400@humaneloudoun.org
SUMMARY:Spanky's Yappy Hour
DESCRIPTION:HSLC is back at Spanky’s for Yappy Hour on the 2nd and 4th Wednesday of each month from April through October. We will have a table set-up outside in the back to promote our animals and sell merchandise plus 50/50 raffle tickets (with a twist!)  Join us for good food\, drinks\, and lots and lots of doggies! \n 
URL:https://humaneloudoun.org/events/spankys-yappy-hour-2/2023-07-12/
LOCATION:Spanky’s Shenanigans\, 538 E Market St\, Leesburg\, VA\, 20176\, United States
CATEGORIES:Community Event
ATTACH;FMTTYPE=image/jpeg:https://humaneloudoun.org/wp-content/uploads/2023/02/Spankys-e1676573654900.jpg
GEO:39.109334;-77.550771
X-APPLE-STRUCTURED-LOCATION;VALUE=URI;X-ADDRESS=Spanky’s Shenanigans 538 E Market St Leesburg VA 20176 United States;X-APPLE-RADIUS=500;X-TITLE=538 E Market St:geo:-77.550771,39.109334
END:VEVENT
BEGIN:VEVENT
DTSTART;TZID=America/New_York:20230708T080000
DTEND;TZID=America/New_York:20230708T120000
DTSTAMP:20260424T205659
CREATED:20230401T230042Z
LAST-MODIFIED:20230501T124700Z
UID:10000384-1688803200-1688817600@humaneloudoun.org
SUMMARY:HSLC at Leesburg Farmers Market
DESCRIPTION:Stop by the Humane Society of Loudoun County‘s tent while shopping at the Leesburg Farmers Market on July 8 and enter our free raffle! Please bring adult dog and cat food (unopened\, unexpired and non-prescription) to donate to the Loudoun Pet Pantry. The pantry collects pet food to help keep companion animals in their loving homes during difficult times. In 2022\, the pantry provided over 24\,000 pounds of pet food to struggling families in Loudoun County. HSLC will also be collecting monetary donations to help the at-risk and homeless animals in our community.
URL:https://humaneloudoun.org/events/hslc-at-leesburg-farmers-market/
LOCATION:Virginia Village Shopping Center\, Catoctin Circle\, SE\, Leesburg\, VA\, 20175\, United States
CATEGORIES:Community Event,Public Awareness
ATTACH;FMTTYPE=image/png:https://humaneloudoun.org/wp-content/uploads/2023/04/Copy-of-Copy-of-Copy-of-Copy-of-Adoption-EVENT.png
GEO:39.1069936;-77.561507
X-APPLE-STRUCTURED-LOCATION;VALUE=URI;X-ADDRESS=Virginia Village Shopping Center Catoctin Circle SE Leesburg VA 20175 United States;X-APPLE-RADIUS=500;X-TITLE=Catoctin Circle\, SE:geo:-77.561507,39.1069936
END:VEVENT
BEGIN:VEVENT
DTSTART;TZID=America/New_York:20230630T160000
DTEND;TZID=America/New_York:20230630T190000
DTSTAMP:20260424T205659
CREATED:20230221T153932Z
LAST-MODIFIED:20230221T153932Z
UID:10000342-1688140800-1688151600@humaneloudoun.org
SUMMARY:October One Vineyard Yappy Hour
DESCRIPTION:HSLC is excited to collaborate with October One Vineyard for a monthly Yappy Hour! To support our local animals\, please bring a pet food donation and you’ll be entered into a raffle for free tastings and glasses! You can also purchase raffle tickets. Your monetary donations help cover much-needed medical expenses for homeless and at-risk animals. This event will be 4-7 pm on the last Friday of every month at the October One Vineyard tasting shop in Downtown Leesburg. This event is free to the public\, so stop by and raise a glass. HSLC will be on hand to answer questions and let you know about available animals. Let’s “cheer” up our local area animals in need!
URL:https://humaneloudoun.org/events/october-one-vineyard-yappy-hour/2023-06-30/
LOCATION:October One Vineyard Wine Tasting Shop\, 7 Loudoun St SW\, Leesburg\, VA\, 20175\, United States
CATEGORIES:Community Event
ATTACH;FMTTYPE=image/jpeg:https://humaneloudoun.org/wp-content/uploads/2023/01/YH-Graphic.jpg
GEO:39.1143391;-77.5659272
X-APPLE-STRUCTURED-LOCATION;VALUE=URI;X-ADDRESS=October One Vineyard Wine Tasting Shop 7 Loudoun St SW Leesburg VA 20175 United States;X-APPLE-RADIUS=500;X-TITLE=7 Loudoun St SW:geo:-77.5659272,39.1143391
END:VEVENT
BEGIN:VEVENT
DTSTART;TZID=America/New_York:20230628T170000
DTEND;TZID=America/New_York:20230628T190000
DTSTAMP:20260424T205659
CREATED:20230227T183744Z
LAST-MODIFIED:20230227T183744Z
UID:10000377-1687971600-1687978800@humaneloudoun.org
SUMMARY:Spanky's Yappy Hour
DESCRIPTION:HSLC is back at Spanky’s for Yappy Hour on the 2nd and 4th Wednesday of each month from April through October. We will have a table set-up outside in the back to promote our animals and sell merchandise plus 50/50 raffle tickets (with a twist!)  Join us for good food\, drinks\, and lots and lots of doggies! \n 
URL:https://humaneloudoun.org/events/spankys-yappy-hour/2023-06-28/
LOCATION:Spanky’s Shenanigans\, 538 E Market St\, Leesburg\, VA\, 20176\, United States
CATEGORIES:Community Event
ATTACH;FMTTYPE=image/jpeg:https://humaneloudoun.org/wp-content/uploads/2023/02/Spankys-e1676573654900.jpg
GEO:39.109334;-77.550771
X-APPLE-STRUCTURED-LOCATION;VALUE=URI;X-ADDRESS=Spanky’s Shenanigans 538 E Market St Leesburg VA 20176 United States;X-APPLE-RADIUS=500;X-TITLE=538 E Market St:geo:-77.550771,39.109334
END:VEVENT
BEGIN:VEVENT
DTSTART;TZID=America/New_York:20230614T170000
DTEND;TZID=America/New_York:20230614T190000
DTSTAMP:20260424T205659
CREATED:20230216T184340Z
LAST-MODIFIED:20230227T183608Z
UID:10000363-1686762000-1686769200@humaneloudoun.org
SUMMARY:Spanky's Yappy Hour
DESCRIPTION:HSLC is back at Spanky’s for Yappy Hour on the 2nd and 4th Wednesday of each month from April through October. We will have a table set-up outside in the back to promote our animals and sell merchandise plus 50/50 raffle tickets (with a twist!)  Join us for good food\, drinks\, and lots and lots of doggies! \n 
URL:https://humaneloudoun.org/events/spankys-yappy-hour-2/2023-06-14/
LOCATION:Spanky’s Shenanigans\, 538 E Market St\, Leesburg\, VA\, 20176\, United States
CATEGORIES:Community Event
ATTACH;FMTTYPE=image/jpeg:https://humaneloudoun.org/wp-content/uploads/2023/02/Spankys-e1676573654900.jpg
GEO:39.109334;-77.550771
X-APPLE-STRUCTURED-LOCATION;VALUE=URI;X-ADDRESS=Spanky’s Shenanigans 538 E Market St Leesburg VA 20176 United States;X-APPLE-RADIUS=500;X-TITLE=538 E Market St:geo:-77.550771,39.109334
END:VEVENT
BEGIN:VEVENT
DTSTART;TZID=America/New_York:20230526T160000
DTEND;TZID=America/New_York:20230526T190000
DTSTAMP:20260424T205659
CREATED:20230221T153932Z
LAST-MODIFIED:20230221T153932Z
UID:10000341-1685116800-1685127600@humaneloudoun.org
SUMMARY:October One Vineyard Yappy Hour
DESCRIPTION:HSLC is excited to collaborate with October One Vineyard for a monthly Yappy Hour! To support our local animals\, please bring a pet food donation and you’ll be entered into a raffle for free tastings and glasses! You can also purchase raffle tickets. Your monetary donations help cover much-needed medical expenses for homeless and at-risk animals. This event will be 4-7 pm on the last Friday of every month at the October One Vineyard tasting shop in Downtown Leesburg. This event is free to the public\, so stop by and raise a glass. HSLC will be on hand to answer questions and let you know about available animals. Let’s “cheer” up our local area animals in need!
URL:https://humaneloudoun.org/events/october-one-vineyard-yappy-hour/2023-05-26/
LOCATION:October One Vineyard Wine Tasting Shop\, 7 Loudoun St SW\, Leesburg\, VA\, 20175\, United States
CATEGORIES:Community Event
ATTACH;FMTTYPE=image/jpeg:https://humaneloudoun.org/wp-content/uploads/2023/01/YH-Graphic.jpg
GEO:39.1143391;-77.5659272
X-APPLE-STRUCTURED-LOCATION;VALUE=URI;X-ADDRESS=October One Vineyard Wine Tasting Shop 7 Loudoun St SW Leesburg VA 20175 United States;X-APPLE-RADIUS=500;X-TITLE=7 Loudoun St SW:geo:-77.5659272,39.1143391
END:VEVENT
BEGIN:VEVENT
DTSTART;TZID=America/New_York:20230524T170000
DTEND;TZID=America/New_York:20230524T190000
DTSTAMP:20260424T205659
CREATED:20230227T183744Z
LAST-MODIFIED:20230227T183744Z
UID:10000376-1684947600-1684954800@humaneloudoun.org
SUMMARY:Spanky's Yappy Hour
DESCRIPTION:HSLC is back at Spanky’s for Yappy Hour on the 2nd and 4th Wednesday of each month from April through October. We will have a table set-up outside in the back to promote our animals and sell merchandise plus 50/50 raffle tickets (with a twist!)  Join us for good food\, drinks\, and lots and lots of doggies! \n 
URL:https://humaneloudoun.org/events/spankys-yappy-hour/2023-05-24/
LOCATION:Spanky’s Shenanigans\, 538 E Market St\, Leesburg\, VA\, 20176\, United States
CATEGORIES:Community Event
ATTACH;FMTTYPE=image/jpeg:https://humaneloudoun.org/wp-content/uploads/2023/02/Spankys-e1676573654900.jpg
GEO:39.109334;-77.550771
X-APPLE-STRUCTURED-LOCATION;VALUE=URI;X-ADDRESS=Spanky’s Shenanigans 538 E Market St Leesburg VA 20176 United States;X-APPLE-RADIUS=500;X-TITLE=538 E Market St:geo:-77.550771,39.109334
END:VEVENT
BEGIN:VEVENT
DTSTART;TZID=America/New_York:20230521T110000
DTEND;TZID=America/New_York:20230521T150000
DTSTAMP:20260424T205659
CREATED:20230512T201349Z
LAST-MODIFIED:20230512T201906Z
UID:10000385-1684666800-1684681200@humaneloudoun.org
SUMMARY:HSLC at Spring Animal Fest
DESCRIPTION:Spring is here and we’re celebrating at Leesburg Animal Park with lots of fun animal-related activities! Spring Animal Fest Events will occur between 11am-3pm. HSLC will be on hand with cele-purr-ty cats\, Mystic and Mini. We’ll also have freebies for animal lovers of all ages.  And\, of course\, there will be many great ways you can support the homeless and at-risk animals in our community. Be sure to stop by and say “hi”! \nTickets can be purchased here.
URL:https://humaneloudoun.org/events/hslc-at-spring-animal-fest/
LOCATION:Leesburg Animal Park\, 19246 James Monroe Hwy\, Leesburg\, VA\, 20175\, United States
CATEGORIES:Community Event
ATTACH;FMTTYPE=image/jpeg:https://humaneloudoun.org/wp-content/uploads/2023/05/LAP-Spring-Fest-lamb-e1683922004404.jpg
GEO:39.0845242;-77.5924672
X-APPLE-STRUCTURED-LOCATION;VALUE=URI;X-ADDRESS=Leesburg Animal Park 19246 James Monroe Hwy Leesburg VA 20175 United States;X-APPLE-RADIUS=500;X-TITLE=19246 James Monroe Hwy:geo:-77.5924672,39.0845242
END:VEVENT
BEGIN:VEVENT
DTSTART;TZID=America/New_York:20230510T170000
DTEND;TZID=America/New_York:20230510T190000
DTSTAMP:20260424T205659
CREATED:20230216T184340Z
LAST-MODIFIED:20230227T183608Z
UID:10000362-1683738000-1683745200@humaneloudoun.org
SUMMARY:Spanky's Yappy Hour
DESCRIPTION:HSLC is back at Spanky’s for Yappy Hour on the 2nd and 4th Wednesday of each month from April through October. We will have a table set-up outside in the back to promote our animals and sell merchandise plus 50/50 raffle tickets (with a twist!)  Join us for good food\, drinks\, and lots and lots of doggies! \n 
URL:https://humaneloudoun.org/events/spankys-yappy-hour-2/2023-05-10/
LOCATION:Spanky’s Shenanigans\, 538 E Market St\, Leesburg\, VA\, 20176\, United States
CATEGORIES:Community Event
ATTACH;FMTTYPE=image/jpeg:https://humaneloudoun.org/wp-content/uploads/2023/02/Spankys-e1676573654900.jpg
GEO:39.109334;-77.550771
X-APPLE-STRUCTURED-LOCATION;VALUE=URI;X-ADDRESS=Spanky’s Shenanigans 538 E Market St Leesburg VA 20176 United States;X-APPLE-RADIUS=500;X-TITLE=538 E Market St:geo:-77.550771,39.109334
END:VEVENT
BEGIN:VEVENT
DTSTART;TZID=America/New_York:20230428T160000
DTEND;TZID=America/New_York:20230428T190000
DTSTAMP:20260424T205659
CREATED:20230221T153932Z
LAST-MODIFIED:20230221T153932Z
UID:10000340-1682697600-1682708400@humaneloudoun.org
SUMMARY:October One Vineyard Yappy Hour
DESCRIPTION:HSLC is excited to collaborate with October One Vineyard for a monthly Yappy Hour! To support our local animals\, please bring a pet food donation and you’ll be entered into a raffle for free tastings and glasses! You can also purchase raffle tickets. Your monetary donations help cover much-needed medical expenses for homeless and at-risk animals. This event will be 4-7 pm on the last Friday of every month at the October One Vineyard tasting shop in Downtown Leesburg. This event is free to the public\, so stop by and raise a glass. HSLC will be on hand to answer questions and let you know about available animals. Let’s “cheer” up our local area animals in need!
URL:https://humaneloudoun.org/events/october-one-vineyard-yappy-hour/2023-04-28/
LOCATION:October One Vineyard Wine Tasting Shop\, 7 Loudoun St SW\, Leesburg\, VA\, 20175\, United States
CATEGORIES:Community Event
ATTACH;FMTTYPE=image/jpeg:https://humaneloudoun.org/wp-content/uploads/2023/01/YH-Graphic.jpg
GEO:39.1143391;-77.5659272
X-APPLE-STRUCTURED-LOCATION;VALUE=URI;X-ADDRESS=October One Vineyard Wine Tasting Shop 7 Loudoun St SW Leesburg VA 20175 United States;X-APPLE-RADIUS=500;X-TITLE=7 Loudoun St SW:geo:-77.5659272,39.1143391
END:VEVENT
BEGIN:VEVENT
DTSTART;TZID=America/New_York:20230426T170000
DTEND;TZID=America/New_York:20230426T190000
DTSTAMP:20260424T205659
CREATED:20230227T183744Z
LAST-MODIFIED:20230227T183744Z
UID:10000375-1682528400-1682535600@humaneloudoun.org
SUMMARY:Spanky's Yappy Hour
DESCRIPTION:HSLC is back at Spanky’s for Yappy Hour on the 2nd and 4th Wednesday of each month from April through October. We will have a table set-up outside in the back to promote our animals and sell merchandise plus 50/50 raffle tickets (with a twist!)  Join us for good food\, drinks\, and lots and lots of doggies! \n 
URL:https://humaneloudoun.org/events/spankys-yappy-hour/2023-04-26/
LOCATION:Spanky’s Shenanigans\, 538 E Market St\, Leesburg\, VA\, 20176\, United States
CATEGORIES:Community Event
ATTACH;FMTTYPE=image/jpeg:https://humaneloudoun.org/wp-content/uploads/2023/02/Spankys-e1676573654900.jpg
GEO:39.109334;-77.550771
X-APPLE-STRUCTURED-LOCATION;VALUE=URI;X-ADDRESS=Spanky’s Shenanigans 538 E Market St Leesburg VA 20176 United States;X-APPLE-RADIUS=500;X-TITLE=538 E Market St:geo:-77.550771,39.109334
END:VEVENT
END:VCALENDAR