BEGIN:VCALENDAR
VERSION:2.0
PRODID:-// - ECPv6.15.20//NONSGML v1.0//EN
CALSCALE:GREGORIAN
METHOD:PUBLISH
X-ORIGINAL-URL:https://humaneloudoun.org
X-WR-CALDESC:Events for 
REFRESH-INTERVAL;VALUE=DURATION:PT1H
X-Robots-Tag:noindex
X-PUBLISHED-TTL:PT1H
BEGIN:VTIMEZONE
TZID:America/New_York
BEGIN:DAYLIGHT
TZOFFSETFROM:-0500
TZOFFSETTO:-0400
TZNAME:EDT
DTSTART:20230312T070000
END:DAYLIGHT
BEGIN:STANDARD
TZOFFSETFROM:-0400
TZOFFSETTO:-0500
TZNAME:EST
DTSTART:20231105T060000
END:STANDARD
BEGIN:DAYLIGHT
TZOFFSETFROM:-0500
TZOFFSETTO:-0400
TZNAME:EDT
DTSTART:20240310T070000
END:DAYLIGHT
BEGIN:STANDARD
TZOFFSETFROM:-0400
TZOFFSETTO:-0500
TZNAME:EST
DTSTART:20241103T060000
END:STANDARD
BEGIN:DAYLIGHT
TZOFFSETFROM:-0500
TZOFFSETTO:-0400
TZNAME:EDT
DTSTART:20250309T070000
END:DAYLIGHT
BEGIN:STANDARD
TZOFFSETFROM:-0400
TZOFFSETTO:-0500
TZNAME:EST
DTSTART:20251102T060000
END:STANDARD
END:VTIMEZONE
BEGIN:VEVENT
DTSTART;TZID=America/New_York:20240703T173000
DTEND;TZID=America/New_York:20240703T193000
DTSTAMP:20260425T224230
CREATED:20240419T215730Z
LAST-MODIFIED:20240419T220322Z
UID:10000480-1720027800-1720035000@humaneloudoun.org
SUMMARY:Spanky's Yappy Hour
DESCRIPTION:Tell your furr-iends and mark your calendars! HSLC is back at Spanky’s for Yappy Hour on the 1st and 3rd Wednesday of each month from 5:30 to 7:30 until October. We’ll have a table set-up outside in the back to answer questions and sell merchandise! And\, back by PUP-ular demand\, our 50/50 raffle will run through October at which time two lucky winners will be announced! Spanky’s is generously donating 10% of food sales to HSLC so be sure to come hungry! \n 
URL:https://humaneloudoun.org/events/spankys-yappy-hour-6/2024-07-03/
LOCATION:Spanky’s Shenanigans\, 538 E Market St\, Leesburg\, VA\, 20176\, United States
CATEGORIES:Community Event
ATTACH;FMTTYPE=image/jpeg:https://humaneloudoun.org/wp-content/uploads/2024/04/Spankys-1.jpg
GEO:39.109334;-77.550771
X-APPLE-STRUCTURED-LOCATION;VALUE=URI;X-ADDRESS=Spanky’s Shenanigans 538 E Market St Leesburg VA 20176 United States;X-APPLE-RADIUS=500;X-TITLE=538 E Market St:geo:-77.550771,39.109334
END:VEVENT
BEGIN:VEVENT
DTSTART;TZID=America/New_York:20240713T120000
DTEND;TZID=America/New_York:20240713T160000
DTSTAMP:20260425T224230
CREATED:20240612T001555Z
LAST-MODIFIED:20240623T152633Z
UID:10000499-1720872000-1720886400@humaneloudoun.org
SUMMARY:Dog Days of Summer
DESCRIPTION:Henway Hard Cider is throwing a bark-tastic paw-ty by the pond and your pup is invited to be your official plus one! \nVisit the Tasting Room for a day of hard cider sippin’\, bark-cuterie snackin’\, pup shopping and all-around dog-gone fun. A collection of pup-focused vendors and brands will be set up\, giving you and your doggy the opportunity to spend the day surrounded by all the things they love. Plus\, HSLC will be on hand to answer any questions about our life-saving mission plus offer our merchandise and 50/50 raffle tickets to raise much-needed funds for at-risk animals in our community. \nThis summer soiree will feature games\, doggie fashion show with prizes and dog bingo. Check out the timeline of events below! \n12:00-1:00pm- Mix & Mingle ( Shop / Eat/ Drink/ Pool Playtime ) \n1:00 pm-1:30- Selfie Scavenger Hunt \n1:30-2:00 pm- Name That Tune (Dog Themed) \n2:00 pm- Doggie Fashion Show \n3:00 – 4:00 pm- Dog Bingo \nTickets are $18.00 per guest and include a glass of Henway Hard Cider for the humans and a pup-swag bag for your four-legged friend. Read FAQs for this event.
URL:https://humaneloudoun.org/events/dog-days-of-summer/
LOCATION:Henway Hard Cider Company\, 18780 Foggy Bottom Road\, Bluemont\, Virginia\, 20135
CATEGORIES:Community Event
ATTACH;FMTTYPE=image/png:https://humaneloudoun.org/wp-content/uploads/2024/06/DOG-DAYS-OF-SUMMER-Henway-Hard-Cider-Company-July-13-12-4pm-e1719156379938.png
END:VEVENT
BEGIN:VEVENT
DTSTART;TZID=America/New_York:20240717T173000
DTEND;TZID=America/New_York:20240717T193000
DTSTAMP:20260425T224230
CREATED:20240419T220524Z
LAST-MODIFIED:20240419T220524Z
UID:10000492-1721237400-1721244600@humaneloudoun.org
SUMMARY:Spanky's Yappy Hour
DESCRIPTION:Tell your furr-iends and mark your calendars! HSLC is back at Spanky’s for Yappy Hour on the 1st and 3rd Wednesday of each month from 5:30 to 7:30 until October. We’ll have a table set-up outside in the back to answer questions and sell merchandise! And\, back by PUP-ular demand\, our 50/50 raffle will run through October at which time two lucky winners will be announced! Spanky’s is generously donating 10% of food sales to HSLC so be sure to come hungry! \n 
URL:https://humaneloudoun.org/events/spankys-yappy-hour-7/2024-07-17/
LOCATION:Spanky’s Shenanigans\, 538 E Market St\, Leesburg\, VA\, 20176\, United States
CATEGORIES:Community Event
ATTACH;FMTTYPE=image/jpeg:https://humaneloudoun.org/wp-content/uploads/2024/04/Spankys-1.jpg
GEO:39.109334;-77.550771
X-APPLE-STRUCTURED-LOCATION;VALUE=URI;X-ADDRESS=Spanky’s Shenanigans 538 E Market St Leesburg VA 20176 United States;X-APPLE-RADIUS=500;X-TITLE=538 E Market St:geo:-77.550771,39.109334
END:VEVENT
END:VCALENDAR