BEGIN:VCALENDAR
VERSION:2.0
PRODID:-// - ECPv6.15.20//NONSGML v1.0//EN
CALSCALE:GREGORIAN
METHOD:PUBLISH
X-ORIGINAL-URL:https://humaneloudoun.org
X-WR-CALDESC:Events for 
REFRESH-INTERVAL;VALUE=DURATION:PT1H
X-Robots-Tag:noindex
X-PUBLISHED-TTL:PT1H
BEGIN:VTIMEZONE
TZID:America/New_York
BEGIN:DAYLIGHT
TZOFFSETFROM:-0500
TZOFFSETTO:-0400
TZNAME:EDT
DTSTART:20230312T070000
END:DAYLIGHT
BEGIN:STANDARD
TZOFFSETFROM:-0400
TZOFFSETTO:-0500
TZNAME:EST
DTSTART:20231105T060000
END:STANDARD
BEGIN:DAYLIGHT
TZOFFSETFROM:-0500
TZOFFSETTO:-0400
TZNAME:EDT
DTSTART:20240310T070000
END:DAYLIGHT
BEGIN:STANDARD
TZOFFSETFROM:-0400
TZOFFSETTO:-0500
TZNAME:EST
DTSTART:20241103T060000
END:STANDARD
BEGIN:DAYLIGHT
TZOFFSETFROM:-0500
TZOFFSETTO:-0400
TZNAME:EDT
DTSTART:20250309T070000
END:DAYLIGHT
BEGIN:STANDARD
TZOFFSETFROM:-0400
TZOFFSETTO:-0500
TZNAME:EST
DTSTART:20251102T060000
END:STANDARD
END:VTIMEZONE
BEGIN:VEVENT
DTSTART;TZID=America/New_York:20240501T173000
DTEND;TZID=America/New_York:20240501T193000
DTSTAMP:20260426T001015
CREATED:20240419T215730Z
LAST-MODIFIED:20240419T220322Z
UID:10000478-1714584600-1714591800@humaneloudoun.org
SUMMARY:Spanky's Yappy Hour
DESCRIPTION:Tell your furr-iends and mark your calendars! HSLC is back at Spanky’s for Yappy Hour on the 1st and 3rd Wednesday of each month from 5:30 to 7:30 until October. We’ll have a table set-up outside in the back to answer questions and sell merchandise! And\, back by PUP-ular demand\, our 50/50 raffle will run through October at which time two lucky winners will be announced! Spanky’s is generously donating 10% of food sales to HSLC so be sure to come hungry! \n 
URL:https://humaneloudoun.org/events/spankys-yappy-hour-6/2024-05-01/
LOCATION:Spanky’s Shenanigans\, 538 E Market St\, Leesburg\, VA\, 20176\, United States
CATEGORIES:Community Event
ATTACH;FMTTYPE=image/jpeg:https://humaneloudoun.org/wp-content/uploads/2024/04/Spankys-1.jpg
GEO:39.109334;-77.550771
X-APPLE-STRUCTURED-LOCATION;VALUE=URI;X-ADDRESS=Spanky’s Shenanigans 538 E Market St Leesburg VA 20176 United States;X-APPLE-RADIUS=500;X-TITLE=538 E Market St:geo:-77.550771,39.109334
END:VEVENT
BEGIN:VEVENT
DTSTART;TZID=America/New_York:20240504T120000
DTEND;TZID=America/New_York:20240504T160000
DTSTAMP:20260426T001015
CREATED:20240315T164453Z
LAST-MODIFIED:20240414T222250Z
UID:10000404-1714824000-1714838400@humaneloudoun.org
SUMMARY:HSLC at Spring Pet Festival
DESCRIPTION:Calling all furrrrriends! \nJoin HSLC for the Pet Festival at the Village of Leesburg on Saturday\, May 4 from 12:00-4:00pm for an afternoon full of tail-wagging fun! \nEnjoy pet exhibitors\, rescue adoptions\, luring course\, doggy ball pit\, balloon artist\, caricaturist\, and much more! \nHead on over to the main stage from 1:00-2:00pm for Leesburg’s Got Talent Pet Edition brought to you by Wiggle Butt and Whiskers! Featuring three levels of competition\, this is sure to provide fun for all ages. Click here to view the full rules/regulations and register! Registration will close April 26. \nPet Talent Show Levels: \n\nNovice\nIntermediate\nAdvanced\n\nThe first 300 guest to stop by the Village at Leesburg tent will receive a FREE branded pet item. \n  \n 
URL:https://humaneloudoun.org/events/hslc-at-spring-pet-festival/
LOCATION:Village at Leesburg\, 1602 Village Market Blvd. SE\, Leesburg\, VA\, 20175\, United States
CATEGORIES:Community Event,Public Awareness
ATTACH;FMTTYPE=image/png:https://humaneloudoun.org/wp-content/uploads/2023/08/2023_PetFestival_EventStyle1_400×280.png
GEO:39.089202;-77.5242316
X-APPLE-STRUCTURED-LOCATION;VALUE=URI;X-ADDRESS=Village at Leesburg 1602 Village Market Blvd. SE Leesburg VA 20175 United States;X-APPLE-RADIUS=500;X-TITLE=1602 Village Market Blvd. SE:geo:-77.5242316,39.089202
END:VEVENT
BEGIN:VEVENT
DTSTART;TZID=America/New_York:20240515T173000
DTEND;TZID=America/New_York:20240515T193000
DTSTAMP:20260426T001015
CREATED:20240419T220524Z
LAST-MODIFIED:20240419T220524Z
UID:10000490-1715794200-1715801400@humaneloudoun.org
SUMMARY:Spanky's Yappy Hour
DESCRIPTION:Tell your furr-iends and mark your calendars! HSLC is back at Spanky’s for Yappy Hour on the 1st and 3rd Wednesday of each month from 5:30 to 7:30 until October. We’ll have a table set-up outside in the back to answer questions and sell merchandise! And\, back by PUP-ular demand\, our 50/50 raffle will run through October at which time two lucky winners will be announced! Spanky’s is generously donating 10% of food sales to HSLC so be sure to come hungry! \n 
URL:https://humaneloudoun.org/events/spankys-yappy-hour-7/2024-05-15/
LOCATION:Spanky’s Shenanigans\, 538 E Market St\, Leesburg\, VA\, 20176\, United States
CATEGORIES:Community Event
ATTACH;FMTTYPE=image/jpeg:https://humaneloudoun.org/wp-content/uploads/2024/04/Spankys-1.jpg
GEO:39.109334;-77.550771
X-APPLE-STRUCTURED-LOCATION;VALUE=URI;X-ADDRESS=Spanky’s Shenanigans 538 E Market St Leesburg VA 20176 United States;X-APPLE-RADIUS=500;X-TITLE=538 E Market St:geo:-77.550771,39.109334
END:VEVENT
END:VCALENDAR