BEGIN:VCALENDAR
VERSION:2.0
PRODID:-// - ECPv6.15.20//NONSGML v1.0//EN
CALSCALE:GREGORIAN
METHOD:PUBLISH
X-ORIGINAL-URL:https://humaneloudoun.org
X-WR-CALDESC:Events for 
REFRESH-INTERVAL;VALUE=DURATION:PT1H
X-Robots-Tag:noindex
X-PUBLISHED-TTL:PT1H
BEGIN:VTIMEZONE
TZID:America/New_York
BEGIN:DAYLIGHT
TZOFFSETFROM:-0500
TZOFFSETTO:-0400
TZNAME:EDT
DTSTART:20250309T070000
END:DAYLIGHT
BEGIN:STANDARD
TZOFFSETFROM:-0400
TZOFFSETTO:-0500
TZNAME:EST
DTSTART:20251102T060000
END:STANDARD
BEGIN:DAYLIGHT
TZOFFSETFROM:-0500
TZOFFSETTO:-0400
TZNAME:EDT
DTSTART:20260308T070000
END:DAYLIGHT
BEGIN:STANDARD
TZOFFSETFROM:-0400
TZOFFSETTO:-0500
TZNAME:EST
DTSTART:20261101T060000
END:STANDARD
BEGIN:DAYLIGHT
TZOFFSETFROM:-0500
TZOFFSETTO:-0400
TZNAME:EDT
DTSTART:20270314T070000
END:DAYLIGHT
BEGIN:STANDARD
TZOFFSETFROM:-0400
TZOFFSETTO:-0500
TZNAME:EST
DTSTART:20271107T060000
END:STANDARD
END:VTIMEZONE
BEGIN:VEVENT
DTSTART;TZID=America/New_York:20260425T130000
DTEND;TZID=America/New_York:20260425T160000
DTSTAMP:20260422T102214
CREATED:20260318T215935Z
LAST-MODIFIED:20260318T220420Z
UID:10000715-1777122000-1777132800@humaneloudoun.org
SUMMARY:Kendra Scott Gives Back
DESCRIPTION:Join us for a special shopping event at Kendra Scott on Saturday\, April 25\, from 1–4 PM! As part of the Kendra Scott Gives Back program\, 20% of all in-store and online purchases* during the event will benefit the Humane Society of Loudoun County. Be sure to use the code: GIVEBACK-LPPDB if shopping online or mention it during the checkout process in-store. Treat yourself or find the perfect gift while supporting local animals in need—we hope to see you there!
URL:https://humaneloudoun.org/events/kendra-scott-gives-back/
LOCATION:Kendra Scott\, 20321 Exchange St\, Ashburn\, Virginia\, United States
ATTACH;FMTTYPE=image/webp:https://humaneloudoun.org/wp-content/uploads/2026/03/KS-2016-Triple-Stacked-PMS-605-RGB-Logo-2.webp
END:VEVENT
END:VCALENDAR