BEGIN:VCALENDAR
VERSION:2.0
PRODID:-// - ECPv6.15.20//NONSGML v1.0//EN
CALSCALE:GREGORIAN
METHOD:PUBLISH
X-ORIGINAL-URL:https://humaneloudoun.org
X-WR-CALDESC:Events for 
REFRESH-INTERVAL;VALUE=DURATION:PT1H
X-Robots-Tag:noindex
X-PUBLISHED-TTL:PT1H
BEGIN:VTIMEZONE
TZID:America/New_York
BEGIN:DAYLIGHT
TZOFFSETFROM:-0500
TZOFFSETTO:-0400
TZNAME:EDT
DTSTART:20250309T070000
END:DAYLIGHT
BEGIN:STANDARD
TZOFFSETFROM:-0400
TZOFFSETTO:-0500
TZNAME:EST
DTSTART:20251102T060000
END:STANDARD
BEGIN:DAYLIGHT
TZOFFSETFROM:-0500
TZOFFSETTO:-0400
TZNAME:EDT
DTSTART:20260308T070000
END:DAYLIGHT
BEGIN:STANDARD
TZOFFSETFROM:-0400
TZOFFSETTO:-0500
TZNAME:EST
DTSTART:20261101T060000
END:STANDARD
BEGIN:DAYLIGHT
TZOFFSETFROM:-0500
TZOFFSETTO:-0400
TZNAME:EDT
DTSTART:20270314T070000
END:DAYLIGHT
BEGIN:STANDARD
TZOFFSETFROM:-0400
TZOFFSETTO:-0500
TZNAME:EST
DTSTART:20271107T060000
END:STANDARD
END:VTIMEZONE
BEGIN:VEVENT
DTSTART;TZID=America/New_York:20260312T110000
DTEND;TZID=America/New_York:20260322T233000
DTSTAMP:20260422T122204
CREATED:20260208T150826Z
LAST-MODIFIED:20260208T150827Z
UID:10000709-1773313200-1774222200@humaneloudoun.org
SUMMARY:Lazy Dog Fundraiser
DESCRIPTION:The Humane Society of Loudoun County invites you to join us for a fundraiser at the very PUP-ular restaurant\, Lazy Dog in Chantilly. You can help at-risk animals simply by ordering a delicious meal any time from March 12 through March 22. Print this flyer (or take a screenshot)\, give it to your server\, and 15% of your total bill will be donated back to HSLC!
URL:https://humaneloudoun.org/events/lazy-dog-fundraiser-2/
LOCATION:VA
ATTACH;FMTTYPE=image/webp:https://humaneloudoun.org/wp-content/uploads/2026/02/348s.webp
END:VEVENT
END:VCALENDAR