BEGIN:VCALENDAR
VERSION:2.0
PRODID:-// - ECPv6.15.20//NONSGML v1.0//EN
CALSCALE:GREGORIAN
METHOD:PUBLISH
X-ORIGINAL-URL:https://humaneloudoun.org
X-WR-CALDESC:Events for 
REFRESH-INTERVAL;VALUE=DURATION:PT1H
X-Robots-Tag:noindex
X-PUBLISHED-TTL:PT1H
BEGIN:VTIMEZONE
TZID:America/New_York
BEGIN:DAYLIGHT
TZOFFSETFROM:-0500
TZOFFSETTO:-0400
TZNAME:EDT
DTSTART:20240310T070000
END:DAYLIGHT
BEGIN:STANDARD
TZOFFSETFROM:-0400
TZOFFSETTO:-0500
TZNAME:EST
DTSTART:20241103T060000
END:STANDARD
BEGIN:DAYLIGHT
TZOFFSETFROM:-0500
TZOFFSETTO:-0400
TZNAME:EDT
DTSTART:20250309T070000
END:DAYLIGHT
BEGIN:STANDARD
TZOFFSETFROM:-0400
TZOFFSETTO:-0500
TZNAME:EST
DTSTART:20251102T060000
END:STANDARD
BEGIN:DAYLIGHT
TZOFFSETFROM:-0500
TZOFFSETTO:-0400
TZNAME:EDT
DTSTART:20260308T070000
END:DAYLIGHT
BEGIN:STANDARD
TZOFFSETFROM:-0400
TZOFFSETTO:-0500
TZNAME:EST
DTSTART:20261101T060000
END:STANDARD
END:VTIMEZONE
BEGIN:VEVENT
DTSTART;TZID=America/New_York:20251101T140000
DTEND;TZID=America/New_York:20251101T160000
DTSTAMP:20260422T175722
CREATED:20250708T232919Z
LAST-MODIFIED:20250919T195655Z
UID:10000691-1762005600-1762012800@humaneloudoun.org
SUMMARY:Barks in the Park
DESCRIPTION:Morven Park members and their pups are invited to celebrate the fall season during the inaugural Barks in the Park. Be sure to stop by the HSLC table to learn about our life-saving mission and pick up something for your doggy! \n\n\n\n2:00 p.m. to 4:00 p.m. on Saturday\, November 1.   \n\n\n\nAs a winner of Loudoun Now’s “Favorite Place to Walk Your Dog\,” Morven Park welcomes members to enjoy several activities:  \n\n\n\n\nPawdorable fall photo opportunities in front of the Davis Mansion  \n\n\n\nVendors selling an array of woofderful items  \n\n\n\nPup-tastic kids crafts\n\n\n\n\nEmail member@morvenpark.org if you plan to attend. We know everyone will have a pawsitively wonderful time! \n\n\n\n  
URL:https://humaneloudoun.org/events/barks-in-the-park/
LOCATION:Morven Park\, 17195 Southern Planter Lane\, Leesburg\, Virginia\, 20176\, United States
ORGANIZER;CN="Morven Park":MAILTO:marketing@morvenpark.org
END:VEVENT
END:VCALENDAR